Workbook
Name Costs: [1]hulpsheets!$J$1:$J$9
Name Costs: hulpsheets!$J$1:$J$9
Name NFU: hulpsheets!$C$1:$C$6
Name organisation: [1]Budget!$B$5:$B$14
Name organisation: Budget!#REF!
Name Overig: hulpsheets!$E$1:$E$2
Name Ruling: [2]hulpsheets!$A$1:$A$3
Name Ruling: hulpsheets!$A$1:$A$3
Name Tabel_NFU: [2]hulpsheets!$H$14:$N$110
Name Tabel_NFU: hulpsheets!$H$15:$N$111
Name Tabel_VSNU: [2]hulpsheets!$A$14:$F$110
Name Tabel_VSNU: hulpsheets!$A$15:$F$111
Name Type_organisation: hulpsheets!$H$1:$H$4
Name VSNU: hulpsheets!$D$1:$D$5

Sheet Toelichting
A1: Instructie ZonMw Budgetformat
A3: A | B3: Zorg dat u bekend bent met de specifieke callvoorwaarden
B5: Bekijk de oproeptekst om de situatie in te schatten of bel ZonMw voor meer duidelijkheid.
A7: B | B7: Let op: enkel de gele cellen zijn te bewerken, de blauwe cellen zijn vergrendeld / verborgen.
A9: C | B9: Start uw budget aanvraag door het tabblad "Deelnemerslijst" in te vullen.
A11: D | B11: Vervolg uw budget aanvraag door het tabblad "personeel" in te vullen.
A13: E | B13: Bepaal of deel 1a of deel 1b voor u van toepassing is.
B15: Deel 1a - gebaseerd op salarisschalen - VSNU / NFU of overig
A17: 1 | B17: Vul de functie/naam in bij de personeelskosten in. Gebruik hiervoor 1 regel per functie. Indien er niet voldoende regels zijn, combineer dan functies met dezelfde looptijd.
A18: 2 | B18: Bepaal of de NFU, VSNU of overige tabellen van toepassing zijn
A31: 3 | B31: Selecteer de juiste functie:
B32: NFU | C32: Promovendus / PostDoc / (Arts) onderzoeker / NWP-M / NWP-H / NWP-Ac
B33: VSNU | C33: Promovendus / Sr.wet. Medewerker / NWP-M / NWP-H / NWP-Ac
B34: Overig | C34: Salarisaanvraag
A45: 4 | B45: Specificeer het aantal maanden dat het personeel aan het project werkt
A46: 5 | B46: Specificeer het FTE% van de specifieke personeelsleden
A48: 6 | B48: ENKEL bij Overig, specificeer het bruto bedrag per maand per personeelslid (kolom H)
A49: 7 | B49: ENKEL bij Overig, specificeer het overhead% dat van toepassing is (kolom L)
B50: * zorg a.u.b. dat een gedetailleerde berekening beschikbaar is voor ZonMw indien deze opgevraagd wordt.
B52: Deel 1b - gebaseerd op een uurtarief (de tariefcalculatie moet acceptabel, redelijk en billijk zijn. De calculatie moet door ZonMw goedgekeurd zijn)
A54: 8 | B54: Vul de naam / functie van het personeel in. Gebruik hiervoor 1 regel per functie / naam.
A55: 9 | B55: Specificeer additionele details over de (project)activiteiten die het personeel gaat uitvoeren gedurende het project.
A56: 10 | B56: Vul het uurtarief inclusief BTW (indien van toepassing) in.
A57: 11 | B57: Specificeer het aantal uren dat aan het project gewerkt gaat worden door het personeelslid
A59: F | B59: Alle personeelskosten zijn gekopieerd naar het 'budget' tabblad in de cellen van de personeelskosten.
B61: Voor deel 1a:
B62: M7 van personeel is gelijk aan F7 van budget
B63: M8 van personeel is gelijk aan F8 van budget
B64: etc
B65: Voor deel 1b:
B66: M27 van personeel is gelijk aan F22 van budget
B67: M28 van personeel is gelijk aan F23 van budget
B68: etc
A70: G | B70: Doorgaan met het invullen van het 'budget' tabblad
B72: Bij een samenwerking dienen twee of meerdere projectdeelnemers samen een projectbegroting op waarbij iedere partij haar eigen kosten opvoert en realiseert.
B73: Bij een opdrachtverlening voert een projectdeelnemer namens een andere (3e) partij kosten op in de projectbegroting. De 3e partij factureert de projectdeelnemer en is geen onderdeel van de afspraken met ZonMw.
A75: 12 | B75: Start met cel B5 - B19 door alle namen van de deelnemende organisaties toe te voegen (exclusief derden die door inkoopcontracten deelnemen)
A76: 13 | B76: Specificeer voor iedere organisatie het type organisatie in de cellen C5 - C19. (gebruik het dropdown menu)
A86: 14 | B86: Zodra er bijvoorbeeld het CAO voor ziekenhuizen gebruikt wordt, selecteer dan bij 'Organisatie' voor 'Overig' en bereken zelf de indexvering gebasseerd op de looptijd.
A88: H | B88: Personele kosten in het budget tabblad
A90: 15 | B90: Vul het tabblad personeel in.
A91: 16 | B91: Selecteer in kolom C de juiste organisatie die de personeelskosten gaat dragen (gebaseerd op het dropdown menu). Let op! Als u geen organisaties ziet, scrol dan omhoog.
A102: 17 | B102: Indien u op basis van de NFU/VSNU kosten opvoert: Controleer of u de juiste tabelbedragen gebruikt. De tabellen die door ZonMw gedeeld zijn tijdens de openstelling van de ronde zijn van toepassing.
A104: I | B104: Materiaal, apparatuur en verbruiksgoederen (gespecificeerd)
A106: 18 | B106: Voeg een omschrijving van de vereiste materialen, apparatuur en/of verbruiksgoederen binnen het project in kolom C toe
A107: 19 | B107: Voeg, indien van toepassing, additionele toelichtingen in kolom D toe
A108: 20 | B108: Selecteer in kolom E de juiste organisatie die de kosten gaat dragen (gebaseerd op het dropdown menu)
A109: 21 | B109: Vul a.u.b. de kosten in (gebaseerd op een inkooporder of een calculatie) in kolom F
A110: 22 | B110: Voeg, indien van toepassing, de eige bijdragen van de deelnemende organisatie of de cofinanciering van een derde partij toe. (kolom G)
A112: J | B112: Overige kosten
A114: 23 | B114: Voeg de omschrijving van de vereiste overige kosten in kolom C toe.
A115: 24 | B115: Selecteer het juiste type kostensoort (gebaseerd op het dropdown menu) in kolom D
A116: 25 | B116: Selecteer in kolom E de juiste organisatie die de kosten gaat dragen (gebaseerd op het dropdown menu)
A117: 26 | B117: Vul a.u.b. de kosten in (gebaseerd op een inkooporder of een calculatie) in kolom F
A118: 27 | B118: Voeg, indien van toepassing, de eige bijdragen van de deelnemende organisatie of de cofinanciering van een derde partij toe. (kolom G)
A119: 28 | B119: Als er een samenwerking is, vul de kosten van alle partijen in over de kosten categorien.
A120: 29 | B120: Als er een opdrachtverlening is, vul de kosten van de opdrachtgever in bij de overige kosten categorie (de opdrachtnemer stuurt een factuur).
A121: 30 | B121: Zodra er patient inclusie wordt benoemd, vul dan het aantal, bedrag per aantal en het totaal in.
A123: K | B123: Extra toelichtenveld in budget
A125: 31 | B125: Eventuele additionele toelichtingen of verklaringen kunnen hier geplaatst worden.
A127: L | B127: Controleer of de calculaties correct zijn.
A129: 32 | B129: Het gespecificeerde bedrag bij "totaal gevraagde subsidie ZonMw" zou gelijk moeten zijn aan "gevraagde subsidie" in cel F15 van het budget-tabblad.
A130: 33 | B130: zo niet, controleer of alle gespecificeerde kosten gelinkt zijn aan een deelnemende partij of niet en pas aan indien nodig.
A132: M | B132: Afronden van de begroting
A134: 34 | B134: Vul de gevraagde contactgegevens in, zodat ZonMw medewerkers contact op kunnen nemen indien er vragen/opmerkingen zijn.
A136: 35 | B136: Print zowel het tabblad 'personeel' als 'budget' uit in pdf-format, of sla beiden op als pdf-bestand, en onderteken deze.
B137: upload de bestanden bijgaand aan de aanvraag, indien de aanvraag loopt via: | L137: https://projectnet.zonmw.nl/
B138: OF
B139: Upload de complete begroting in het aanvraagportaal als uw aanvraag loopt via: | L139: https://mijn.zonmw.nl/

Sheet Deelnemerslijst
D1: Samenvatting
A3: nr | B3: Naam Organisatie | C3: Organisatie-type | D3: 1. Personeel | E3: 2. materieel, apparatuur, verbruiksgoederen | F3: 3. Overige kosten | G3: Totale kosten | H3: bijdragen van eigen instelling en derden | I3: Aan te vragen subsidie
A6: 1 | D6: =SUMIFS(Budget!F$7:F$106,Budget!E$7:E$106,B6) -> 0 | E6: =SUMIFS(Budget!F$113:F$140,Budget!E$113:E$140,B6) -> 0 | F6: =SUMIFS(Budget!F$147:F$184,Budget!E$147:E$184,B6) -> 0 | G6: =+D6+E6+F6 -> 0 | H6: =SUMIFS(Budget!G$7:G$184,Budget!E$7:E$184,B6) -> 0 | I6: =+G6-H6 -> 0
A7: 2 | D7: =SUMIFS(Budget!F$7:F$106,Budget!E$7:E$106,B7) -> 0 | E7: =SUMIFS(Budget!F$113:F$140,Budget!E$113:E$140,B7) -> 0 | F7: =SUMIFS(Budget!F$147:F$184,Budget!E$147:E$184,B7) -> 0 | G7: =+D7+E7+F7 -> 0 | H7: =SUMIFS(Budget!G$7:G$184,Budget!E$7:E$184,B7) -> 0 | I7: =+G7-H7 -> 0
A8: 3 | D8: =SUMIFS(Budget!F$7:F$106,Budget!E$7:E$106,B8) -> 0 | E8: =SUMIFS(Budget!F$113:F$140,Budget!E$113:E$140,B8) -> 0 | F8: =SUMIFS(Budget!F$147:F$184,Budget!E$147:E$184,B8) -> 0 | G8: =+D8+E8+F8 -> 0 | H8: =SUMIFS(Budget!G$7:G$184,Budget!E$7:E$184,B8) -> 0 | I8: =+G8-H8 -> 0
A9: 4 | D9: =SUMIFS(Budget!F$7:F$106,Budget!E$7:E$106,B9) -> 0 | E9: =SUMIFS(Budget!F$113:F$140,Budget!E$113:E$140,B9) -> 0 | F9: =SUMIFS(Budget!F$147:F$184,Budget!E$147:E$184,B9) -> 0 | G9: =+D9+E9+F9 -> 0 | H9: =SUMIFS(Budget!G$7:G$184,Budget!E$7:E$184,B9) -> 0 | I9: =+G9-H9 -> 0
A10: 5 | D10: =SUMIFS(Budget!F$7:F$106,Budget!E$7:E$106,B10) -> 0 | E10: =SUMIFS(Budget!F$113:F$140,Budget!E$113:E$140,B10) -> 0 | F10: =SUMIFS(Budget!F$147:F$184,Budget!E$147:E$184,B10) -> 0 | G10: =+D10+E10+F10 -> 0 | H10: =SUMIFS(Budget!G$7:G$184,Budget!E$7:E$184,B10) -> 0 | I10: =+G10-H10 -> 0
A11: 6 | D11: =SUMIFS(Budget!F$7:F$106,Budget!E$7:E$106,B11) -> 0 | E11: =SUMIFS(Budget!F$113:F$140,Budget!E$113:E$140,B11) -> 0 | F11: =SUMIFS(Budget!F$147:F$184,Budget!E$147:E$184,B11) -> 0 | G11: =+D11+E11+F11 -> 0 | H11: =SUMIFS(Budget!G$7:G$184,Budget!E$7:E$184,B11) -> 0 | I11: =+G11-H11 -> 0
A12: 7 | D12: =SUMIFS(Budget!F$7:F$106,Budget!E$7:E$106,B12) -> 0 | E12: =SUMIFS(Budget!F$113:F$140,Budget!E$113:E$140,B12) -> 0 | F12: =SUMIFS(Budget!F$147:F$184,Budget!E$147:E$184,B12) -> 0 | G12: =+D12+E12+F12 -> 0 | H12: =SUMIFS(Budget!G$7:G$184,Budget!E$7:E$184,B12) -> 0 | I12: =+G12-H12 -> 0
A13: 8 | D13: =SUMIFS(Budget!F$7:F$106,Budget!E$7:E$106,B13) -> 0 | E13: =SUMIFS(Budget!F$113:F$140,Budget!E$113:E$140,B13) -> 0 | F13: =SUMIFS(Budget!F$147:F$184,Budget!E$147:E$184,B13) -> 0 | G13: =+D13+E13+F13 -> 0 | H13: =SUMIFS(Budget!G$7:G$184,Budget!E$7:E$184,B13) -> 0 | I13: =+G13-H13 -> 0
A14: 9 | D14: =SUMIFS(Budget!F$7:F$106,Budget!E$7:E$106,B14) -> 0 | E14: =SUMIFS(Budget!F$113:F$140,Budget!E$113:E$140,B14) -> 0 | F14: =SUMIFS(Budget!F$147:F$184,Budget!E$147:E$184,B14) -> 0 | G14: =+D14+E14+F14 -> 0 | H14: =SUMIFS(Budget!G$7:G$184,Budget!E$7:E$184,B14) -> 0 | I14: =+G14-H14 -> 0
A15: 10 | D15: =SUMIFS(Budget!F$7:F$106,Budget!E$7:E$106,B15) -> 0 | E15: =SUMIFS(Budget!F$113:F$140,Budget!E$113:E$140,B15) -> 0 | F15: =SUMIFS(Budget!F$147:F$184,Budget!E$147:E$184,B15) -> 0 | G15: =+D15+E15+F15 -> 0 | H15: =SUMIFS(Budget!G$7:G$184,Budget!E$7:E$184,B15) -> 0 | I15: =+G15-H15 -> 0
A16: 11 | D16: =SUMIFS(Budget!F$7:F$106,Budget!E$7:E$106,B16) -> 0 | E16: =SUMIFS(Budget!F$113:F$140,Budget!E$113:E$140,B16) -> 0 | F16: =SUMIFS(Budget!F$147:F$184,Budget!E$147:E$184,B16) -> 0 | G16: =+D16+E16+F16 -> 0 | H16: =SUMIFS(Budget!G$7:G$184,Budget!E$7:E$184,B16) -> 0 | I16: =+G16-H16 -> 0
A17: 12 | D17: =SUMIFS(Budget!F$7:F$106,Budget!E$7:E$106,B17) -> 0 | E17: =SUMIFS(Budget!F$113:F$140,Budget!E$113:E$140,B17) -> 0 | F17: =SUMIFS(Budget!F$147:F$184,Budget!E$147:E$184,B17) -> 0 | G17: =+D17+E17+F17 -> 0 | H17: =SUMIFS(Budget!G$7:G$184,Budget!E$7:E$184,B17) -> 0 | I17: =+G17-H17 -> 0
... A20: 15 | D20: =SUMIFS(Budget!F$7:F$106,Budget!E$7:E$106,B20) -> 0 | E20: =SUMIFS(Budget!F$113:F$140,Budget!E$113:E$140,B20) -> 0 | F20: =SUMIFS(Budget!F$147:F$184,Budget!E$147:E$184,B20) -> 0 | G20: =+D20+E20+F20 -> 0 | H20: =SUMIFS(Budget!G$7:G$184,Budget!E$7:E$184,B20) -> 0 | I20: =+G20-H20 -> 0
B21: SUBTOTAAL | D21: =SUM(D6:D20) -> 0 | E21: =SUM(E6:E20) -> 0 | F21: =SUM(F6:F20) -> 0 | G21: =SUM(G6:G20) -> 0 | H21: =SUM(H6:H20) -> 0 | I21: =SUM(I6:I20) -> 0

Sheet Personeel
A1: Specificatie personeel
A3: 1.a Personeelskosten (gebaseerd op salarisschalen)
A5: nr | B5: Functie / Naam | C5: Naam organisatie | D5: NFU / VSNU deelnemer / overig personeel | E5: Functie/Schaal | F5: Maanden | G5: Bruto salaris - gebaseerd op tabel / 1 FTE | H5: Bruto maandelijks salaris (enkel voor overig personeel) | I5: % fte (voor het project) | J5: Salariskosten | K5: Bruto salaris, 40% opslag (enkel voor overig personeel) | L5: Overhead % (enkel voor overig personeel) | M5: Totaal
A7: 1 | G7: =IFERROR(IF(D7="VSNU",INDEX(Tabel_VSNU,MATCH($F7,hulpsheets!$A$15:$A$111,0),MATCH($E7,hulpsheets!$A$15:$F$15,0)),IF(D7="NFU",INDEX(Tabel_NFU,MATCH($F7,hulpsheets!$H$15:$H$111,0),MATCH($E7,hulpsheets!$H$15:$N$15,0)),IF(D7="Overig",0,0))),0) -> 0 | J7: =IF(G7>0,G7*I7,H7*F7*I7) -> 0 | K7: =IF(D7="Overig",J7*0.4,0) -> 0 | M7: =IF(D7="Overig",((J7+K7)*(1+L7)),J7) -> 0
A8: 2 | G8: =IFERROR(IF(D8="VSNU",INDEX(Tabel_VSNU,MATCH($F8,hulpsheets!$A$15:$A$111,0),MATCH($E8,hulpsheets!$A$15:$F$15,0)),IF(D8="NFU",INDEX(Tabel_NFU,MATCH($F8,hulpsheets!$H$15:$H$111,0),MATCH($E8,hulpsheets!$H$15:$N$15,0)),IF(D8="Overig",0,0))),0) -> 0 | J8: =IF(G8>0,G8*I8,H8*F8*I8) -> 0 | K8: =IF(D8="Overig",J8*0.4,0) -> 0 | M8: =IF(D8="Overig",((J8+K8)*(1+L8)),J8) -> 0
A9: 3 | G9: =IFERROR(IF(D9="VSNU",INDEX(Tabel_VSNU,MATCH($F9,hulpsheets!$A$15:$A$111,0),MATCH($E9,hulpsheets!$A$15:$F$15,0)),IF(D9="NFU",INDEX(Tabel_NFU,MATCH($F9,hulpsheets!$H$15:$H$111,0),MATCH($E9,hulpsheets!$H$15:$N$15,0)),IF(D9="Overig",0,0))),0) -> 0 | J9: =IF(G9>0,G9*I9,H9*F9*I9) -> 0 | K9: =IF(D9="Overig",J9*0.4,0) -> 0 | M9: =IF(D9="Overig",((J9+K9)*(1+L9)),J9) -> 0
A10: 4 | G10: =IFERROR(IF(D10="VSNU",INDEX(Tabel_VSNU,MATCH($F10,hulpsheets!$A$15:$A$111,0),MATCH($E10,hulpsheets!$A$15:$F$15,0)),IF(D10="NFU",INDEX(Tabel_NFU,MATCH($F10,hulpsheets!$H$15:$H$111,0),MATCH($E10,hulpsheets!$H$15:$N$15,0)),IF(D10="Overig",0,0))),0) -> 0 | J10: =IF(G10>0,G10*I10,H10*F10*I10) -> 0 | K10: =IF(D10="Overig",J10*0.4,0) -> 0 | M10: =IF(D10="Overig",((J10+K10)*(1+L10)),J10) -> 0
A11: 5 | G11: =IFERROR(IF(D11="VSNU",INDEX(Tabel_VSNU,MATCH($F11,hulpsheets!$A$15:$A$111,0),MATCH($E11,hulpsheets!$A$15:$F$15,0)),IF(D11="NFU",INDEX(Tabel_NFU,MATCH($F11,hulpsheets!$H$15:$H$111,0),MATCH($E11,hulpsheets!$H$15:$N$15,0)),IF(D11="Overig",0,0))),0) -> 0 | J11: =IF(G11>0,G11*I11,H11*F11*I11) -> 0 | K11: =IF(D11="Overig",J11*0.4,0) -> 0 | M11: =IF(D11="Overig",((J11+K11)*(1+L11)),J11) -> 0
A12: 6 | G12: =IFERROR(IF(D12="VSNU",INDEX(Tabel_VSNU,MATCH($F12,hulpsheets!$A$15:$A$111,0),MATCH($E12,hulpsheets!$A$15:$F$15,0)),IF(D12="NFU",INDEX(Tabel_NFU,MATCH($F12,hulpsheets!$H$15:$H$111,0),MATCH($E12,hulpsheets!$H$15:$N$15,0)),IF(D12="Overig",0,0))),0) -> 0 | J12: =IF(G12>0,G12*I12,H12*F12*I12) -> 0 | K12: =IF(D12="Overig",J12*0.4,0) -> 0 | M12: =IF(D12="Overig",((J12+K12)*(1+L12)),J12) -> 0
A13: 7 | G13: =IFERROR(IF(D13="VSNU",INDEX(Tabel_VSNU,MATCH($F13,hulpsheets!$A$15:$A$111,0),MATCH($E13,hulpsheets!$A$15:$F$15,0)),IF(D13="NFU",INDEX(Tabel_NFU,MATCH($F13,hulpsheets!$H$15:$H$111,0),MATCH($E13,hulpsheets!$H$15:$N$15,0)),IF(D13="Overig",0,0))),0) -> 0 | J13: =IF(G13>0,G13*I13,H13*F13*I13) -> 0 | K13: =IF(D13="Overig",J13*0.4,0) -> 0 | M13: =IF(D13="Overig",((J13+K13)*(1+L13)),J13) -> 0
A14: 8 | G14: =IFERROR(IF(D14="VSNU",INDEX(Tabel_VSNU,MATCH($F14,hulpsheets!$A$15:$A$111,0),MATCH($E14,hulpsheets!$A$15:$F$15,0)),IF(D14="NFU",INDEX(Tabel_NFU,MATCH($F14,hulpsheets!$H$15:$H$111,0),MATCH($E14,hulpsheets!$H$15:$N$15,0)),IF(D14="Overig",0,0))),0) -> 0 | J14: =IF(G14>0,G14*I14,H14*F14*I14) -> 0 | K14: =IF(D14="Overig",J14*0.4,0) -> 0 | M14: =IF(D14="Overig",((J14+K14)*(1+L14)),J14) -> 0
A15: 9 | G15: =IFERROR(IF(D15="VSNU",INDEX(Tabel_VSNU,MATCH($F15,hulpsheets!$A$15:$A$111,0),MATCH($E15,hulpsheets!$A$15:$F$15,0)),IF(D15="NFU",INDEX(Tabel_NFU,MATCH($F15,hulpsheets!$H$15:$H$111,0),MATCH($E15,hulpsheets!$H$15:$N$15,0)),IF(D15="Overig",0,0))),0) -> 0 | J15: =IF(G15>0,G15*I15,H15*F15*I15) -> 0 | K15: =IF(D15="Overig",J15*0.4,0) -> 0 | M15: =IF(D15="Overig",((J15+K15)*(1+L15)),J15) -> 0
A16: 10 | G16: =IFERROR(IF(D16="VSNU",INDEX(Tabel_VSNU,MATCH($F16,hulpsheets!$A$15:$A$111,0),MATCH($E16,hulpsheets!$A$15:$F$15,0)),IF(D16="NFU",INDEX(Tabel_NFU,MATCH($F16,hulpsheets!$H$15:$H$111,0),MATCH($E16,hulpsheets!$H$15:$N$15,0)),IF(D16="Overig",0,0))),0) -> 0 | J16: =IF(G16>0,G16*I16,H16*F16*I16) -> 0 | K16: =IF(D16="Overig",J16*0.4,0) -> 0 | M16: =IF(D16="Overig",((J16+K16)*(1+L16)),J16) -> 0
A17: 11 | G17: =IFERROR(IF(D17="VSNU",INDEX(Tabel_VSNU,MATCH($F17,hulpsheets!$A$15:$A$111,0),MATCH($E17,hulpsheets!$A$15:$F$15,0)),IF(D17="NFU",INDEX(Tabel_NFU,MATCH($F17,hulpsheets!$H$15:$H$111,0),MATCH($E17,hulpsheets!$H$15:$N$15,0)),IF(D17="Overig",0,0))),0) -> 0 | J17: =IF(G17>0,G17*I17,H17*F17*I17) -> 0 | K17: =IF(D17="Overig",J17*0.4,0) -> 0 | M17: =IF(D17="Overig",((J17+K17)*(1+L17)),J17) -> 0
A18: 12 | G18: =IFERROR(IF(D18="VSNU",INDEX(Tabel_VSNU,MATCH($F18,hulpsheets!$A$15:$A$111,0),MATCH($E18,hulpsheets!$A$15:$F$15,0)),IF(D18="NFU",INDEX(Tabel_NFU,MATCH($F18,hulpsheets!$H$15:$H$111,0),MATCH($E18,hulpsheets!$H$15:$N$15,0)),IF(D18="Overig",0,0))),0) -> 0 | J18: =IF(G18>0,G18*I18,H18*F18*I18) -> 0 | K18: =IF(D18="Overig",J18*0.4,0) -> 0 | M18: =IF(D18="Overig",((J18+K18)*(1+L18)),J18) -> 0
... A56: 50 | G56: =IFERROR(IF(D56="VSNU",INDEX(Tabel_VSNU,MATCH($F56,hulpsheets!$A$15:$A$111,0),MATCH($E56,hulpsheets!$A$15:$F$15,0)),IF(D56="NFU",INDEX(Tabel_NFU,MATCH($F56,hulpsheets!$H$15:$H$111,0),MATCH($E56,hulpsheets!$H$15:$N$15,0)),IF(D56="Overig",0,0))),0) -> 0 | J56: =IF(G56>0,G56*I56,H56*F56*I56) -> 0 | K56: =IF(D56="Overig",J56*0.4,0) -> 0 | M56: =IF(D56="Overig",((J56+K56)*(1+L56)),J56) -> 0
A58: 1.b Personeelskosten (gebaseerd op uurtarief)
A59: Het uurtarief moet acceptabel, redelijk en billijk zijn.
A61: nr | B61: Functie | C61: Naam Organisatie | D61: Activiteit/ Acties | K61: Uurtarief | L61: Aantal uren | M61: Totaal
A62: 1 | M62: =K62*L62 -> 0
A63: 2 | M63: =K63*L63 -> 0
A64: 3 | M64: =K64*L64 -> 0
A65: 4 | M65: =K65*L65 -> 0
A66: 5 | K66: 0 | M66: =K66*L66 -> 0
A67: 6 | K67: 0 | M67: =K67*L67 -> 0
A68: 7 | K68: 0 | M68: =K68*L68 -> 0
A69: 8 | K69: 0 | M69: =K69*L69 -> 0
A70: 9 | K70: 0 | M70: =K70*L70 -> 0
A71: 10 | K71: 0 | M71: =K71*L71 -> 0
A72: 11 | K72: 0 | M72: =K72*L72 -> 0
A73: 12 | K73: 0 | M73: =K73*L73 -> 0
A74: 13 | K74: 0 | M74: =K74*L74 -> 0
A75: 14 | K75: 0 | M75: =K75*L75 -> 0
A76: 15 | K76: 0 | M76: =K76*L76 -> 0
A77: 16 | K77: 0 | M77: =K77*L77 -> 0
... A111: 50 | K111: 0 | M111: =K111*L111 -> 0

Sheet Budget
B2: DAEB Format
B4: Personeelskosten
F5: Kosten | G5: Eigen bijdrage / co-financiering derden | H5: Gevraagde subsidie ZonMw | I5: Economische activiteit? | J5: Realisatie | K5: Verschil realisatie vs begroting
B6: Functie (ingevuld in tabblad "personeel") | D6: Opmerkingen | E6: Organisatie (dropdown menu)
B7: =Personeel!B7 -> 0 | E7: =Personeel!C7 -> 0 | F7: =Personeel!M7 -> 0 | G7: 0 | H7: =F7-G7 -> 0 | I7: Ja | J7: 0 | K7: =+H7-J7 -> 0
B8: =Personeel!B8 -> 0 | E8: =Personeel!C8 -> 0 | F8: =Personeel!M8 -> 0 | G8: 0 | H8: =F8-G8 -> 0 | J8: 0 | K8: =+H8-J8 -> 0
B9: =Personeel!B9 -> 0 | E9: =Personeel!C9 -> 0 | F9: =Personeel!M9 -> 0 | G9: 0 | H9: =F9-G9 -> 0 | J9: 0 | K9: =+H9-J9 -> 0
B10: =Personeel!B10 -> 0 | E10: =Personeel!C10 -> 0 | F10: =Personeel!M10 -> 0 | G10: 0 | H10: =F10-G10 -> 0 | J10: 0 | K10: =+H10-J10 -> 0
B11: =Personeel!B11 -> 0 | E11: =Personeel!C11 -> 0 | F11: =Personeel!M11 -> 0 | G11: 0 | H11: =F11-G11 -> 0 | J11: 0 | K11: =+H11-J11 -> 0
B12: =Personeel!B12 -> 0 | E12: =Personeel!C12 -> 0 | F12: =Personeel!M12 -> 0 | G12: 0 | H12: =F12-G12 -> 0 | J12: 0 | K12: =+H12-J12 -> 0
B13: =Personeel!B13 -> 0 | E13: =Personeel!C13 -> 0 | F13: =Personeel!M13 -> 0 | G13: 0 | H13: =F13-G13 -> 0 | J13: 0 | K13: =+H13-J13 -> 0
B14: =Personeel!B14 -> 0 | E14: =Personeel!C14 -> 0 | F14: =Personeel!M14 -> 0 | G14: 0 | H14: =F14-G14 -> 0 | J14: 0 | K14: =+H14-J14 -> 0
B15: =Personeel!B15 -> 0 | E15: =Personeel!C15 -> 0 | F15: =Personeel!M15 -> 0 | G15: 0 | H15: =F15-G15 -> 0 | J15: 0 | K15: =+H15-J15 -> 0
B16: =Personeel!B16 -> 0 | E16: =Personeel!C16 -> 0 | F16: =Personeel!M16 -> 0 | G16: 0 | H16: =F16-G16 -> 0 | J16: 0 | K16: =+H16-J16 -> 0
B17: =Personeel!B17 -> 0 | E17: =Personeel!C17 -> 0 | F17: =Personeel!M17 -> 0 | G17: 0 | H17: =F17-G17 -> 0 | J17: 0 | K17: =+H17-J17 -> 0
B18: =Personeel!B18 -> 0 | E18: =Personeel!C18 -> 0 | F18: =Personeel!M18 -> 0 | G18: 0 | H18: =F18-G18 -> 0 | J18: 0 | K18: =+H18-J18 -> 0
B19: =Personeel!B19 -> 0 | E19: =Personeel!C19 -> 0 | F19: =Personeel!M19 -> 0 | G19: 0 | H19: =F19-G19 -> 0 | J19: 0 | K19: =+H19-J19 -> 0
B20: =Personeel!B20 -> 0 | E20: =Personeel!C20 -> 0 | F20: =Personeel!M20 -> 0 | G20: 0 | H20: =F20-G20 -> 0 | J20: 0 | K20: =+H20-J20 -> 0
B21: =Personeel!B21 -> 0 | E21: =Personeel!C56 -> 0 | F21: =Personeel!M56 -> 0 | G21: 0 | H21: =F21-G21 -> 0 | J21: 0 | K21: =+H21-J21 -> 0
B22: =Personeel!B22 -> 0 | E22: =Personeel!C62 -> 0 | F22: =Personeel!M62 -> 0 | G22: 0 | H22: =F22-G22 -> 0 | J22: 0 | K22: =+H22-J22 -> 0
B23: =Personeel!B23 -> 0 | E23: =Personeel!C63 -> 0 | F23: =Personeel!M63 -> 0 | G23: 0 | H23: =F23-G23 -> 0 | J23: 0 | K23: =+H23-J23 -> 0
B24: =Personeel!B24 -> 0 | E24: =Personeel!C64 -> 0 | F24: =Personeel!M64 -> 0 | G24: 0 | H24: =F24-G24 -> 0 | J24: 0 | K24: =+H24-J24 -> 0
B25: =Personeel!B25 -> 0 | E25: =Personeel!C65 -> 0 | F25: =Personeel!M65 -> 0 | G25: 0 | H25: =F25-G25 -> 0 | J25: 0 | K25: =+H25-J25 -> 0
B26: =Personeel!B26 -> 0 | E26: =Personeel!C66 -> 0 | F26: =Personeel!M66 -> 0 | G26: 0 | H26: =F26-G26 -> 0 | J26: 0 | K26: =+H26-J26 -> 0
B27: =Personeel!B27 -> 0 | E27: =Personeel!C67 -> 0 | F27: =Personeel!M67 -> 0 | G27: 0 | H27: =F27-G27 -> 0 | J27: 0 | K27: =+H27-J27 -> 0
B28: =Personeel!B28 -> 0 | E28: =Personeel!C68 -> 0 | F28: =Personeel!M68 -> 0 | G28: 0 | H28: =F28-G28 -> 0 | J28: 0 | K28: =+H28-J28 -> 0
B29: =Personeel!B29 -> 0 | E29: =Personeel!C69 -> 0 | F29: =Personeel!M69 -> 0 | G29: 0 | H29: =F29-G29 -> 0 | J29: 0 | K29: =+H29-J29 -> 0
B30: =Personeel!B30 -> 0 | E30: =Personeel!C70 -> 0 | F30: =Personeel!M70 -> 0 | G30: 0 | H30: =F30-G30 -> 0 | J30: 0 | K30: =+H30-J30 -> 0
B31: =Personeel!B31 -> 0 | E31: =Personeel!C71 -> 0 | F31: =Personeel!M71 -> 0 | G31: 0 | H31: =F31-G31 -> 0 | J31: 0 | K31: =+H31-J31 -> 0
B32: =Personeel!B32 -> 0 | E32: =Personeel!C72 -> 0 | F32: =Personeel!M72 -> 0 | G32: 0 | H32: =F32-G32 -> 0 | J32: 0 | K32: =+H32-J32 -> 0
B33: =Personeel!B33 -> 0 | E33: =Personeel!C73 -> 0 | F33: =Personeel!M73 -> 0 | G33: 0 | H33: =F33-G33 -> 0 | J33: 0 | K33: =+H33-J33 -> 0
... B35: =Personeel!B35 -> 0 | E35: =Personeel!C75 -> 0 | F35: =Personeel!M75 -> 0 | G35: 0 | H35: =F35-G35 -> 0 | J35: 0 | K35: =+H35-J35 -> 0
B36: =Personeel!B36 -> 0 | E36: =Personeel!C36 -> 0 | F36: =Personeel!M36 -> 0 | G36: 0 | H36: =F36-G36 -> 0 | J36: 0 | K36: =+H36-J36 -> 0
B37: =Personeel!B37 -> 0 | E37: =Personeel!C37 -> 0 | F37: =Personeel!M37 -> 0 | G37: 0 | H37: =F37-G37 -> 0 | J37: 0 | K37: =+H37-J37 -> 0
B38: =Personeel!B38 -> 0 | E38: =Personeel!C38 -> 0 | F38: =Personeel!M38 -> 0 | G38: 0 | H38: =F38-G38 -> 0 | J38: 0 | K38: =+H38-J38 -> 0
B39: =Personeel!B39 -> 0 | E39: =Personeel!C39 -> 0 | F39: =Personeel!M39 -> 0 | G39: 0 | H39: =F39-G39 -> 0 | J39: 0 | K39: =+H39-J39 -> 0
B40: =Personeel!B40 -> 0 | E40: =Personeel!C40 -> 0 | F40: =Personeel!M40 -> 0 | G40: 0 | H40: =F40-G40 -> 0 | J40: 0 | K40: =+H40-J40 -> 0
B41: =Personeel!B41 -> 0 | E41: =Personeel!C41 -> 0 | F41: =Personeel!M41 -> 0 | G41: 0 | H41: =F41-G41 -> 0 | J41: 0 | K41: =+H41-J41 -> 0
B42: =Personeel!B42 -> 0 | E42: =Personeel!C42 -> 0 | F42: =Personeel!M42 -> 0 | G42: 0 | H42: =F42-G42 -> 0 | J42: 0 | K42: =+H42-J42 -> 0
B43: =Personeel!B43 -> 0 | E43: =Personeel!C43 -> 0 | F43: =Personeel!M43 -> 0 | G43: 0 | H43: =F43-G43 -> 0 | J43: 0 | K43: =+H43-J43 -> 0
B44: =Personeel!B44 -> 0 | E44: =Personeel!C44 -> 0 | F44: =Personeel!M44 -> 0 | G44: 0 | H44: =F44-G44 -> 0 | J44: 0 | K44: =+H44-J44 -> 0
B45: =Personeel!B45 -> 0 | E45: =Personeel!C45 -> 0 | F45: =Personeel!M45 -> 0 | G45: 0 | H45: =F45-G45 -> 0 | J45: 0 | K45: =+H45-J45 -> 0
B46: =Personeel!B46 -> 0 | E46: =Personeel!C46 -> 0 | F46: =Personeel!M46 -> 0 | G46: 0 | H46: =F46-G46 -> 0 | J46: 0 | K46: =+H46-J46 -> 0
B47: =Personeel!B47 -> 0 | E47: =Personeel!C47 -> 0 | F47: =Personeel!M47 -> 0 | G47: 0 | H47: =F47-G47 -> 0 | J47: 0 | K47: =+H47-J47 -> 0
B48: =Personeel!B48 -> 0 | E48: =Personeel!C48 -> 0 | F48: =Personeel!M48 -> 0 | G48: 0 | H48: =F48-G48 -> 0 | J48: 0 | K48: =+H48-J48 -> 0
B49: =Personeel!B49 -> 0 | E49: =Personeel!C84 -> 0 | F49: =Personeel!M84 -> 0 | G49: 0 | H49: =F49-G49 -> 0 | J49: 0 | K49: =+H49-J49 -> 0
B50: =Personeel!B50 -> 0 | E50: =Personeel!C90 -> 0 | F50: =Personeel!M90 -> 0 | G50: 0 | H50: =F50-G50 -> 0 | J50: 0 | K50: =+H50-J50 -> 0
B51: =Personeel!B51 -> 0 | E51: =Personeel!C91 -> 0 | F51: =Personeel!M91 -> 0 | G51: 0 | H51: =F51-G51 -> 0 | J51: 0 | K51: =+H51-J51 -> 0
B52: =Personeel!B52 -> 0 | E52: =Personeel!C92 -> 0 | F52: =Personeel!M92 -> 0 | G52: 0 | H52: =F52-G52 -> 0 | J52: 0 | K52: =+H52-J52 -> 0
B53: =Personeel!B53 -> 0 | E53: =Personeel!C93 -> 0 | F53: =Personeel!M93 -> 0 | G53: 0 | H53: =F53-G53 -> 0 | J53: 0 | K53: =+H53-J53 -> 0
B54: =Personeel!B54 -> 0 | E54: =Personeel!C94 -> 0 | F54: =Personeel!M94 -> 0 | G54: 0 | H54: =F54-G54 -> 0 | J54: 0 | K54: =+H54-J54 -> 0
B55: =Personeel!B55 -> 0 | E55: =Personeel!C95 -> 0 | F55: =Personeel!M95 -> 0 | G55: 0 | H55: =F55-G55 -> 0 | J55: 0 | K55: =+H55-J55 -> 0
B56: =Personeel!B56 -> 0 | E56: =Personeel!C96 -> 0 | F56: =Personeel!M96 -> 0 | G56: 0 | H56: =F56-G56 -> 0 | J56: 0 | K56: =+H56-J56 -> 0
B57: =Personeel!B62 -> 0 | E57: =Personeel!C97 -> 0 | F57: =Personeel!M97 -> 0 | G57: 0 | H57: =F57-G57 -> 0 | J57: 0 | K57: =+H57-J57 -> 0
B58: =Personeel!B63 -> 0 | E58: =Personeel!C98 -> 0 | F58: =Personeel!M98 -> 0 | G58: 0 | H58: =F58-G58 -> 0 | J58: 0 | K58: =+H58-J58 -> 0
B59: =Personeel!B64 -> 0 | E59: =Personeel!C99 -> 0 | F59: =Personeel!M99 -> 0 | G59: 0 | H59: =F59-G59 -> 0 | J59: 0 | K59: =+H59-J59 -> 0
B60: =Personeel!B65 -> 0 | E60: =Personeel!C100 -> 0 | F60: =Personeel!M100 -> 0 | G60: 0 | H60: =F60-G60 -> 0 | J60: 0 | K60: =+H60-J60 -> 0
B61: =Personeel!B66 -> 0 | E61: =Personeel!C101 -> 0 | F61: =Personeel!M101 -> 0 | G61: 0 | H61: =F61-G61 -> 0 | J61: 0 | K61: =+H61-J61 -> 0
B62: =Personeel!B67 -> 0 | E62: =Personeel!C102 -> 0 | F62: =Personeel!M102 -> 0 | G62: 0 | H62: =F62-G62 -> 0 | J62: 0 | K62: =+H62-J62 -> 0
B63: =Personeel!B68 -> 0 | E63: =Personeel!C103 -> 0 | F63: =Personeel!M103 -> 0 | G63: 0 | H63: =F63-G63 -> 0 | J63: 0 | K63: =+H63-J63 -> 0
B64: =Personeel!B69 -> 0 | E64: =Personeel!C64 -> 0 | F64: =Personeel!M64 -> 0 | G64: 0 | H64: =F64-G64 -> 0 | J64: 0 | K64: =+H64-J64 -> 0
B65: =Personeel!B70 -> 0 | E65: =Personeel!C65 -> 0 | F65: =Personeel!M65 -> 0 | G65: 0 | H65: =F65-G65 -> 0 | J65: 0 | K65: =+H65-J65 -> 0
B66: =Personeel!B71 -> 0 | E66: =Personeel!C66 -> 0 | F66: =Personeel!M66 -> 0 | G66: 0 | H66: =F66-G66 -> 0 | J66: 0 | K66: =+H66-J66 -> 0
B67: =Personeel!B72 -> 0 | E67: =Personeel!C67 -> 0 | F67: =Personeel!M67 -> 0 | G67: 0 | H67: =F67-G67 -> 0 | J67: 0 | K67: =+H67-J67 -> 0
B68: =Personeel!B73 -> 0 | E68: =Personeel!C68 -> 0 | F68: =Personeel!M68 -> 0 | G68: 0 | H68: =F68-G68 -> 0 | J68: 0 | K68: =+H68-J68 -> 0
B69: =Personeel!B74 -> 0 | E69: =Personeel!C69 -> 0 | F69: =Personeel!M69 -> 0 | G69: 0 | H69: =F69-G69 -> 0 | J69: 0 | K69: =+H69-J69 -> 0
B70: =Personeel!B75 -> 0 | E70: =Personeel!C70 -> 0 | F70: =Personeel!M70 -> 0 | G70: 0 | H70: =F70-G70 -> 0 | J70: 0 | K70: =+H70-J70 -> 0
B71: =Personeel!B76 -> 0 | E71: =Personeel!C71 -> 0 | F71: =Personeel!M71 -> 0 | G71: 0 | H71: =F71-G71 -> 0 | J71: 0 | K71: =+H71-J71 -> 0
B72: =Personeel!B77 -> 0 | E72: =Personeel!C72 -> 0 | F72: =Personeel!M72 -> 0 | G72: 0 | H72: =F72-G72 -> 0 | J72: 0 | K72: =+H72-J72 -> 0
B73: =Personeel!B78 -> 0 | E73: =Personeel!C73 -> 0 | F73: =Personeel!M73 -> 0 | G73: 0 | H73: =F73-G73 -> 0 | J73: 0 | K73: =+H73-J73 -> 0
B74: =Personeel!B79 -> 0 | E74: =Personeel!C74 -> 0 | F74: =Personeel!M74 -> 0 | G74: 0 | H74: =F74-G74 -> 0 | J74: 0 | K74: =+H74-J74 -> 0
B75: =Personeel!B80 -> 0 | E75: =Personeel!C75 -> 0 | F75: =Personeel!M75 -> 0 | G75: 0 | H75: =F75-G75 -> 0 | J75: 0 | K75: =+H75-J75 -> 0
B76: =Personeel!B81 -> 0 | E76: =Personeel!C76 -> 0 | F76: =Personeel!M76 -> 0 | G76: 0 | H76: =F76-G76 -> 0 | J76: 0 | K76: =+H76-J76 -> 0
B77: =Personeel!B82 -> 0 | E77: =Personeel!C112 -> 0 | F77: =Personeel!M112 -> 0 | G77: 0 | H77: =F77-G77 -> 0 | J77: 0 | K77: =+H77-J77 -> 0
B78: =Personeel!B83 -> 0 | E78: =Personeel!C118 -> 0 | F78: =Personeel!M118 -> 0 | G78: 0 | H78: =F78-G78 -> 0 | J78: 0 | K78: =+H78-J78 -> 0
B79: =Personeel!B84 -> 0 | E79: =Personeel!C119 -> 0 | F79: =Personeel!M119 -> 0 | G79: 0 | H79: =F79-G79 -> 0 | J79: 0 | K79: =+H79-J79 -> 0
B80: =Personeel!B85 -> 0 | E80: =Personeel!C120 -> 0 | F80: =Personeel!M120 -> 0 | G80: 0 | H80: =F80-G80 -> 0 | J80: 0 | K80: =+H80-J80 -> 0
B81: =Personeel!B86 -> 0 | E81: =Personeel!C121 -> 0 | F81: =Personeel!M121 -> 0 | G81: 0 | H81: =F81-G81 -> 0 | J81: 0 | K81: =+H81-J81 -> 0
B82: =Personeel!B87 -> 0 | E82: =Personeel!C122 -> 0 | F82: =Personeel!M122 -> 0 | G82: 0 | H82: =F82-G82 -> 0 | J82: 0 | K82: =+H82-J82 -> 0
B83: =Personeel!B88 -> 0 | E83: =Personeel!C123 -> 0 | F83: =Personeel!M123 -> 0 | G83: 0 | H83: =F83-G83 -> 0 | J83: 0 | K83: =+H83-J83 -> 0
B84: =Personeel!B89 -> 0 | E84: =Personeel!C124 -> 0 | F84: =Personeel!M124 -> 0 | G84: 0 | H84: =F84-G84 -> 0 | J84: 0 | K84: =+H84-J84 -> 0
B85: =Personeel!B90 -> 0 | E85: =Personeel!C125 -> 0 | F85: =Personeel!M125 -> 0 | G85: 0 | H85: =F85-G85 -> 0 | J85: 0 | K85: =+H85-J85 -> 0
B86: =Personeel!B91 -> 0 | E86: =Personeel!C126 -> 0 | F86: =Personeel!M126 -> 0 | G86: 0 | H86: =F86-G86 -> 0 | J86: 0 | K86: =+H86-J86 -> 0
B87: =Personeel!B92 -> 0 | E87: =Personeel!C127 -> 0 | F87: =Personeel!M127 -> 0 | G87: 0 | H87: =F87-G87 -> 0 | J87: 0 | K87: =+H87-J87 -> 0
B88: =Personeel!B93 -> 0 | E88: =Personeel!C128 -> 0 | F88: =Personeel!M128 -> 0 | G88: 0 | H88: =F88-G88 -> 0 | J88: 0 | K88: =+H88-J88 -> 0
B89: =Personeel!B94 -> 0 | E89: =Personeel!C129 -> 0 | F89: =Personeel!M129 -> 0 | G89: 0 | H89: =F89-G89 -> 0 | J89: 0 | K89: =+H89-J89 -> 0
... B91: =Personeel!B96 -> 0 | E91: =Personeel!C131 -> 0 | F91: =Personeel!M131 -> 0 | G91: 0 | H91: =F91-G91 -> 0 | J91: 0 | K91: =+H91-J91 -> 0
B92: =Personeel!B97 -> 0 | E92: =Personeel!C92 -> 0 | F92: =Personeel!M92 -> 0 | G92: 0 | H92: =F92-G92 -> 0 | J92: 0 | K92: =+H92-J92 -> 0
B93: =Personeel!B98 -> 0 | E93: =Personeel!C93 -> 0 | F93: =Personeel!M93 -> 0 | G93: 0 | H93: =F93-G93 -> 0 | J93: 0 | K93: =+H93-J93 -> 0
B94: =Personeel!B99 -> 0 | E94: =Personeel!C94 -> 0 | F94: =Personeel!M94 -> 0 | G94: 0 | H94: =F94-G94 -> 0 | J94: 0 | K94: =+H94-J94 -> 0
B95: =Personeel!B100 -> 0 | E95: =Personeel!C95 -> 0 | F95: =Personeel!M95 -> 0 | G95: 0 | H95: =F95-G95 -> 0 | J95: 0 | K95: =+H95-J95 -> 0
B96: =Personeel!B101 -> 0 | E96: =Personeel!C96 -> 0 | F96: =Personeel!M96 -> 0 | G96: 0 | H96: =F96-G96 -> 0 | J96: 0 | K96: =+H96-J96 -> 0
B97: =Personeel!B102 -> 0 | E97: =Personeel!C97 -> 0 | F97: =Personeel!M97 -> 0 | G97: 0 | H97: =F97-G97 -> 0 | J97: 0 | K97: =+H97-J97 -> 0
B98: =Personeel!B103 -> 0 | E98: =Personeel!C98 -> 0 | F98: =Personeel!M98 -> 0 | G98: 0 | H98: =F98-G98 -> 0 | J98: 0 | K98: =+H98-J98 -> 0
B99: =Personeel!B104 -> 0 | E99: =Personeel!C99 -> 0 | F99: =Personeel!M99 -> 0 | G99: 0 | H99: =F99-G99 -> 0 | J99: 0 | K99: =+H99-J99 -> 0
B100: =Personeel!B105 -> 0 | E100: =Personeel!C100 -> 0 | F100: =Personeel!M100 -> 0 | G100: 0 | H100: =F100-G100 -> 0 | J100: 0 | K100: =+H100-J100 -> 0
B101: =Personeel!B106 -> 0 | E101: =Personeel!C101 -> 0 | F101: =Personeel!M101 -> 0 | G101: 0 | H101: =F101-G101 -> 0 | J101: 0 | K101: =+H101-J101 -> 0
B102: =Personeel!B107 -> 0 | E102: =Personeel!C102 -> 0 | F102: =Personeel!M102 -> 0 | G102: 0 | H102: =F102-G102 -> 0 | J102: 0 | K102: =+H102-J102 -> 0
B103: =Personeel!B108 -> 0 | E103: =Personeel!C103 -> 0 | F103: =Personeel!M103 -> 0 | G103: 0 | H103: =F103-G103 -> 0 | J103: 0 | K103: =+H103-J103 -> 0
B104: =Personeel!B109 -> 0 | E104: =Personeel!C104 -> 0 | F104: =Personeel!M104 -> 0 | G104: 0 | H104: =F104-G104 -> 0 | J104: 0 | K104: =+H104-J104 -> 0
...

Sheet hulpsheets
A1: NFU | C1: Promovendus | D1: Promovendus | E1: Salarisaanvraag | F1: Ja | H1: Belangengroep | J1: Implementatie
A2: VSNU | C2: PostDoc | D2: Sr.wet. Medewerker | F2: Nee | H2: Gemeentelijke Gezondheidsdienst | J2: Open Access publicatie
A3: Overig | C3: (Arts) onderzoeker | D3: NWP-MBO | H3: Geestelijke gezondheidszorg | J3: FAIRness
C4: NWP-MBO | D4: NWP-HBO | H4: Hoger Beroepsonderwijs (HBO) | J4: Gegevensbeheer
C5: NWP-HBO | D5: NWP-Academisch | H5: Middelbaar Beroepsonderwijs (MBO) | J5: Standardisatie (SNOMED, LOINC, etc.)
C6: NWP-Academisch | H6: Overheidsinstelling | J6: Benchfee
H7: Overig bedrijf | J7: Uitbesteding
H8: Overige onderzoeksorganisatie | J8: Advies
H9: Universitair Medisch Centrum | J9: Overig, graag (onderaan) nader toelichten
H10: Universiteit
H11: Ziekenhuis
A14: VSNU | B14: Tabel 01/7/2024 | H14: NFU | I14: Tabel 01/05/2024
A15: Aantal maanden | B15: Promovendus | C15: Sr.wet. Medewerker | D15: NWP-MBO | E15: NWP-HBO | F15: NWP-Academisch | H15: Aantal maanden | I15: Promovendus | J15: PostDoc | K15: (Arts) onderzoeker | L15: NWP-MBO | M15: NWP-HBO | N15: NWP-Academisch
A16: 1 | B16: 4611 | C16: 7213 | D16: 5373 | E16: 6456 | F16: 7726 | H16: 1 | I16: 4811 | J16: 7988 | K16: 6676 | L16: 5570 | M16: 6676 | N16: 7988
A17: 2 | B17: 9222 | C17: 14426 | D17: 10745 | E17: 12912 | F17: 15452 | H17: 2 | I17: 9621 | J17: 15977 | K17: 13352 | L17: 11139 | M17: 13352 | N17: 15977
A18: 3 | B18: 13833 | C18: 21639 | D18: 16118 | E18: 19368 | F18: 23178 | H18: 3 | I18: 14432 | J18: 23965 | K18: 20028 | L18: 16709 | M18: 20028 | N18: 23965
A19: 4 | B19: 18444 | C19: 38852 | D19: 21491 | E19: 25824 | F19: 30904 | H19: 4 | I19: 19242 | J19: 31953 | K19: 26704 | L19: 22278 | M19: 26704 | N19: 31953
A20: 5 | B20: 23055 | C20: 36065 | D20: 26863 | E20: 32280 | F20: 38630 | H20: 5 | I20: 24053 | J20: 39942 | K20: 33380 | L20: 27848 | M20: 33380 | N20: 39942
A21: 6 | B21: 27666 | C21: 43278 | D21: 32236 | E21: 38737 | F21: 46356 | H21: 6 | I21: 28863 | J21: 47930 | K21: 40057 | L21: 33417 | M21: 40057 | N21: 47930
A22: 7 | B22: 32277 | C22: 50490 | D22: 37609 | E22: 45193 | F22: 54082 | H22: 7 | I22: 33674 | J22: 55918 | K22: 46733 | L22: 38987 | M22: 46733 | N22: 55918
A23: 8 | B23: 36888 | C23: 57703 | D23: 42981 | E23: 51649 | F23: 61808 | H23: 8 | I23: 38484 | J23: 63907 | K23: 53409 | L23: 44556 | M23: 53409 | N23: 63907
A24: 9 | B24: 41499 | C24: 64916 | D24: 48354 | E24: 58105 | F24: 69534 | H24: 9 | I24: 43295 | J24: 71895 | K24: 60085 | L24: 50126 | M24: 60085 | N24: 71895
A25: 10 | B25: 46110 | C25: 72129 | D25: 53727 | E25: 64561 | F25: 77260 | H25: 10 | I25: 48105 | J25: 79883 | K25: 66761 | L25: 55695 | M25: 66761 | N25: 79883
A26: 11 | B26: 50721 | C26: 79342 | D26: 59099 | E26: 71017 | F26: 84986 | H26: 11 | I26: 52916 | J26: 87872 | K26: 73437 | L26: 61265 | M26: 73437 | N26: 87872
A27: 12 | B27: 59943 | C27: 93768 | D27: 69845 | E27: 83929 | F27: 100438 | H27: 12 | I27: 62537 | J27: 103848 | K27: 86789 | L27: 72403 | M27: 86789 | N27: 103848
... A111: 96 | B111: 705575 | C111: 894878 | D111: 666564 | E111: 800980 | F111: 958533 | H111: 96 | I111: 706664 | J111: 959242 | K111: 801666 | L111: 668787 | M111: 801666 | N111: 959242
