Workbook
Name _Hlk215498732: Toelichting!$A$145
Name Activiteit1: Hulpsheets!$BD$4:$BD$5
Name Activiteit2: Hulpsheets!#REF!
Name AGVV: Hulpsheets!$AE$17:$AE$17
Name Costs: [1]hulpsheets!$J$1:$J$9
Name Costs: Hulpsheets!$AW$6:$AW$12
Name DAEB: Hulpsheets!#REF!
Name Deminimis: Hulpsheets!#REF!
Name NFU: Hulpsheets!$L$4:$L$10
Name NFU_Functie: Hulpsheets!$L$3:$L$9
Name Niet_economische_activiteit: Hulpsheets!#REF!
Name Ondernemingen: Hulpsheets!$AE$11:$AE$12
Name Onderzoeksorganisaties: Hulpsheets!$AE$5:$AE$7
Name organisation: 'Dln 1'!#REF!
Name organisation: 'Dln 10'!#REF!
Name organisation: 'Dln 11'!#REF!
Name organisation: 'Dln 12'!#REF!
Name organisation: 'Dln 13'!#REF!
Name organisation: 'Dln 14'!#REF!
Name organisation: 'Dln 15'!#REF!
Name organisation: 'Dln 16'!#REF!
Name organisation: 'Dln 17'!#REF!
Name organisation: 'Dln 18'!#REF!
Name organisation: 'Dln 19'!#REF!
Name organisation: 'Dln 2'!#REF!
Name organisation: 'Dln 20'!#REF!
Name organisation: 'Dln 3'!#REF!
Name organisation: 'Dln 4'!#REF!
Name organisation: 'Dln 5'!#REF!
Name organisation: 'Dln 6'!#REF!
Name organisation: 'Dln 7'!#REF!
Name organisation: 'Dln 8'!#REF!
Name organisation: 'Dln 9'!#REF!
Name organisation: #REF!
Name organisation: #REF!
Name Overig: Hulpsheets!$AU$3:$AU$3
Name Ruling: [2]hulpsheets!$A$1:$A$3
Name Ruling: Hulpsheets!$J$4:$J$6
Name Tabel_NFU: [2]hulpsheets!$H$14:$N$110
Name Tabel_NFU: Hulpsheets!$W$3:$AC$99
Name Tabel_UNL: Hulpsheets!$P$3:$U$123
Name Tabel_VSNU: [2]hulpsheets!$A$14:$F$110
Name Type_organisation: Hulpsheets!$F$4:$F$9
Name UNL: Hulpsheets!$N$4:$N$9
Name UNL_Functie: Hulpsheets!$N$3:$N$8

Sheet Hulpsheets
B1: Basisgegevens | J1: Tabblad per deelnemer
P2: UNL kosten | Q2: Tabel 01/7/2025 | W2: NFU kosten | X2: Tabel 01/07/2026 | AG2: ZONDER Samenwerking | AN2: MET Samenwerking
B3: Samenwerkingsverband? | D3: Provincies | F3: Type organisatie | H3: Type activiteit | J3: NFU/UNL | L3: NFU | N3: UNL | P3: Aantal maanden | Q3: {=TRANSPOSE(N4:N8)} -> Promovendus | R3: Sr.wet. Medewerker | S3: NWP-MBO | T3: NWP-HBO | U3: NWP-Academisch | W3: Aantal maanden | X3: {=TRANSPOSE(L4:L9)} -> Promovendus | Y3: PostDoc | Z3: (Arts) onderzoeker | AA3: NWP-MBO | AB3: NWP-HBO | AC3: NWP-Academisch | AH3: Onderzoeksorganisatie | AI3: Grote onderneming | AJ3: Middelgrote onderneming | AK3: Kleine onderneming | AL3: Maximum subsidiebedrag | AO3: Onderzoeksorganisatie | AP3: Grote onderneming | AQ3: Middelgrote onderneming | AR3: Kleine onderneming | AS3: Maximum subsidiebedrag | AU3: Salarisaanvraag | AW3: Afschrijvingen | AX3: Afschrijving jaar 1 | AY3: Afschrijving jaar 2 | AZ3: Afschrijving jaar 3 | BA3: Afschrijving jaar 4 | BB3: Afschrijving jaar 5 | BD3: Activiteit onderzoeksorganisatie
B4: Ja | D4: Drenthe | F4: Universitair Medisch Centrum | H4: Kleine onderneming | J4: NFU | L4: Promovendus | N4: Promovendus | P4: 1 | Q4: 5062 | R4: 7825 | S4: 5868 | T4: 7019 | U4: 8369 | W4: 1 | X4: 5114 | Y4: 8491 | Z4: 7097 | AA4: 5921 | AB4: 7097 | AC4: 8491 | AE4: Onderzoeksorganisaties | AG4: Niet-economische activiteit | AH4: 1 | AI4: 1 | AJ4: 1 | AK4: 1 | AL4: 1000000000 | AN4: Niet-economische activiteit | AO4: 1 | AP4: 1 | AQ4: 1 | AR4: 1 | AS4: 1000000000 | AU4: Ja | AW4: Computer | AX4: 0.4 | AY4: 0.3 | AZ4: 0.2 | BA4: 0.1 | BB4: 0 | BD4: Niet-economische activiteit
B5: Nee | D5: Flevoland | F5: Universiteit | H5: Middelgrote onderneming | J5: UNL | L5: PostDoc | N5: Sr.wet. Medewerker | P5: 2 | Q5: 10124 | R5: 15650 | S5: 11736 | T5: 14038 | U5: 16738 | W5: 2 | X5: 10229 | Y5: 16983 | Z5: 14194 | AA5: 11841 | AB5: 14194 | AC5: 16983 | AE5: Geen staatssteun | AG5: Deminimis | AH5: 1 | AI5: 1 | AJ5: 1 | AK5: 1 | AL5: 300000 | AN5: Deminimis | AO5: 1 | AP5: 1 | AQ5: 1 | AR5: 1 | AS5: 300000 | AU5: Nee | AW5: Overig | AX5: 0.2 | AY5: 0.2 | AZ5: 0.2 | BA5: 0.2 | BB5: 0.2 | BD5: Economische activiteit
D6: Friesland | F6: Belangengroep/Belangenorganisatie | H6: Grote onderneming | J6: Overig | L6: (Arts) onderzoeker | N6: NWP-MBO | P6: 3 | Q6: 15186 | R6: 23475 | S6: 17604 | T6: 21057 | U6: 25107 | W6: 3 | X6: 15343 | Y6: 25474 | Z6: 21291 | AA6: 17762 | AB6: 21291 | AC6: 25474 | AE6: Deminimis | AG6: AGVV art. 18 - Consultancysteun voor MKB | AH6: 0.5 | AI6: 0.5 | AJ6: 0.5 | AK6: 0.5 | AL6: 2200000 | AN6: AGVV art. 18 - Consultancysteun voor MKB | AO6: 0.5 | AP6: 0.5 | AQ6: 0.5 | AR6: 0.5 | AS6: 2200000
D7: Gelderland | F7: Onderzoeksorganisatie (conform EU O&O&I kader) | L7: NWP-MBO | N7: NWP-HBO | P7: 4 | Q7: 20248 | R7: 31300 | S7: 23472 | T7: 28076 | U7: 33475 | W7: 4 | X7: 20458 | Y7: 33965 | Z7: 28388 | AA7: 23682 | AB7: 28388 | AC7: 33965 | AE7: AGVV | AG7: AGVV art. 25(2)(a) - Fundamenteel onderzoek | AH7: 1 | AI7: 1 | AJ7: 1 | AK7: 1 | AL7: 55000000 | AN7: AGVV art. 25(2)(a) - Fundamenteel onderzoek | AO7: 1 | AP7: 1 | AQ7: 1 | AR7: 1 | AS7: 55000000 | AU7: Steunintensiteit en % verborgen onder de groepering. | BD7: Activiteit onderneming
D8: Groningen | F8: Organisaties met een wettelijke taak | L8: NWP-HBO | N8: NWP-Academisch | P8: 5 | Q8: 25310 | R8: 39125 | S8: 29340 | T8: 35095 | U8: 41844 | W8: 5 | X8: 25572 | Y8: 42456 | Z8: 35485 | AA8: 29603 | AB8: 35485 | AC8: 42456 | AG8: AGVV art. 25(2)(b) - Industrieel onderzoek | AH8: 0.5 | AI8: 0.5 | AJ8: 0.6 | AK8: 0.7 | AL8: 35000000 | AN8: AGVV art. 25(2)(b) - Industrieel onderzoek | AO8: 0.65 | AP8: 0.65 | AQ8: 0.75 | AR8: 0.8 | AS8: 35000000
D9: Limburg | F9: Overige (zorg-)instellingen | L9: NWP-Academisch | N9: Medische Specialist | P9: 6 | Q9: 30372 | R9: 46951 | S9: 35208 | T9: 42115 | U9: 50213 | W9: 6 | X9: 30687 | Y9: 50948 | Z9: 42582 | AA9: 35523 | AB9: 42582 | AC9: 50948 | AG9: AGVV art. 25(2)(c) - Experimentele ontwikkeling | AH9: 0.25 | AI9: 0.25 | AJ9: 0.35 | AK9: 0.45 | AL9: 25000000 | AN9: AGVV art. 25(2)(c) - Experimentele ontwikkeling | AO9: 0.4 | AP9: 0.4 | AQ9: 0.5 | AR9: 0.6 | AS9: 25000000
D10: Noord-Brabant | L10: Medische Specialist | P10: 7 | Q10: 35434 | R10: 54776 | S10: 41076 | T10: 49134 | U10: 58582 | W10: 7 | X10: 35801 | Y10: 59439 | Z10: 49679 | AA10: 41444 | AB10: 49679 | AC10: 59439 | AE10: Ondernemingen | AG10: AGVV art. 25(2)(d) - Haalbaarheidsstudies | AH10: 0.5 | AI10: 0.5 | AJ10: 0.6 | AK10: 0.7 | AL10: 8250000 | AN10: AGVV art. 25(2)(d) - Haalbaarheidsstudies | AO10: 0.5 | AP10: 0.5 | AQ10: 0.6 | AR10: 0.7 | AS10: 8250000
D11: Noord-Holland | P11: 8 | Q11: 40496 | R11: 62601 | S11: 46944 | T11: 56153 | U11: 66951 | W11: 8 | X11: 40915 | Y11: 67930 | Z11: 56776 | AA11: 47364 | AB11: 56776 | AC11: 67930 | AE11: Deminimis | AG11: AGVV art. 26 - Onderzoeks-infrastructuur | AH11: 0.5 | AI11: 0.5 | AJ11: 0.5 | AK11: 0.5 | AL11: 35000000 | AN11: AGVV art. 26 - Onderzoeks-infrastructuur | AO11: 0.5 | AP11: 0.5 | AQ11: 0.5 | AR11: 0.5 | AS11: 35000000
D12: Overijssel | P12: 9 | Q12: 45558 | R12: 70426 | S12: 52812 | T12: 63172 | U12: 75320 | W12: 9 | X12: 46030 | Y12: 76421 | Z12: 63873 | AA12: 53285 | AB12: 63873 | AC12: 76421 | AE12: AGVV | AG12: AGVV art. 26bis - Test- en experimenteerinfrastructuur | AH12: 0.25 | AI12: 0.25 | AJ12: 0.35 | AK12: 0.45 | AL12: 25000000 | AN12: AGVV art. 26bis - Test- en experimenteerinfrastructuur | AO12: 0.25 | AP12: 0.25 | AQ12: 0.35 | AR12: 0.45 | AS12: 25000000
D13: Utrecht | P13: 10 | Q13: 50620 | R13: 78251 | S13: 58680 | T13: 70191 | U13: 83688 | W13: 10 | X13: 51144 | Y13: 84913 | Z13: 70970 | AA13: 59205 | AB13: 70970 | AC13: 84913 | AG13: AGVV art. 27 - Innovatieclusters | AH13: 0.5 | AI13: 0.5 | AJ13: 0.5 | AK13: 0.5 | AL13: 10000000 | AN13: AGVV art. 27 - Innovatieclusters | AO13: 0.5 | AP13: 0.5 | AQ13: 0.5 | AR13: 0.5 | AS13: 10000000
D14: Zeeland | P14: 11 | Q14: 55682 | R14: 86076 | S14: 64548 | T14: 77210 | U14: 92057 | W14: 11 | X14: 56259 | Y14: 93404 | Z14: 78067 | AA14: 65126 | AB14: 78067 | AC14: 93404 | AG14: AGVV art. 28 - Innovatiesteun voor MKB | AH14: 0.5 | AI14: 0.5 | AJ14: 0.5 | AK14: 0.5 | AL14: 10000000 | AN14: AGVV art. 28 - Innovatiesteun voor MKB | AO14: 0.5 | AP14: 0.5 | AQ14: 0.5 | AR14: 0.5 | AS14: 10000000
D15: Zuid-Holland | P15: 12 | Q15: 65806 | R15: 101726 | S15: 76284 | T15: 91248 | U15: 108795 | W15: 12 | X15: 66487 | Y15: 110386 | Z15: 92261 | AA15: 76966 | AB15: 92261 | AC15: 110386 | AG15: AGVV art. 29 - Proces- en organisatie-innovatie | AH15: 0.15 | AI15: 0.15 | AJ15: 0.5 | AK15: 0.5 | AL15: 12500000 | AN15: AGVV art. 29 - Proces- en organisatie-innovatie | AO15: 0.15 | AP15: 0.15 | AQ15: 0.5 | AR15: 0.5 | AS15: 12500000
P16: 13 | Q16: 72561 | R16: 110644 | S16: 82972 | T16: 99248 | U16: 118333 | W16: 13 | X16: 73302 | Y16: 120063 | Z16: 100349 | AA16: 83714 | AB16: 100349 | AC16: 120063 | AE16: AGVV | AG16: AGVV art. 31 - Opleidingssteun | AH16: 0.5 | AI16: 0.5 | AJ16: 0.6 | AK16: 0.7 | AL16: 3000000 | AN16: AGVV art. 31 - Opleidingssteun | AO16: 0.5 | AP16: 0.5 | AQ16: 0.6 | AR16: 0.7 | AS16: 3000000
P17: 14 | Q17: 79316 | R17: 119562 | S17: 89659 | T17: 107247 | U17: 127871 | W17: 14 | X17: 80117 | Y17: 129741 | Z17: 108438 | AA17: 90461 | AB17: 108438 | AC17: 129741 | AE17: AGVV art. 25(2)(b) - Industrieel onderzoek | AG17: DAEB | AH17: 1 | AI17: 1 | AJ17: 1 | AK17: 1 | AL17: 1000000000 | AN17: DAEB | AO17: 1 | AP17: 1 | AQ17: 1 | AR17: 1 | AS17: 1000000000
P18: 15 | Q18: 86071 | R18: 128480 | S18: 96347 | T18: 115247 | U18: 137409 | W18: 15 | X18: 86931 | Y18: 139418 | Z18: 116526 | AA18: 97209 | AB18: 116526 | AC18: 139418 | AG18: Geen subsidie | AH18: 0 | AI18: 0 | AJ18: 0 | AK18: 0 | AN18: Geen subsidie | AO18: 0 | AP18: 0 | AQ18: 0 | AR18: 0
P19: 16 | Q19: 92825 | R19: 137398 | S19: 103035 | T19: 123246 | U19: 146946 | W19: 16 | X19: 93746 | Y19: 149096 | Z19: 124614 | AA19: 103956 | AB19: 124614 | AC19: 149096
P20: 17 | Q20: 99580 | R20: 146316 | S20: 109722 | T20: 131246 | U20: 156484 | W20: 17 | X20: 100561 | Y20: 158773 | Z20: 132702 | AA20: 110704 | AB20: 132702 | AC20: 158773
P21: 18 | Q21: 106335 | R21: 155235 | S21: 116410 | T21: 139245 | U21: 166022 | W21: 18 | X21: 107376 | Y21: 168451 | Z21: 140791 | AA21: 117452 | AB21: 140791 | AC21: 168451
P22: 19 | Q22: 113090 | R22: 164153 | S22: 123098 | T22: 147245 | U22: 175560 | W22: 19 | X22: 114190 | Y22: 178128 | Z22: 148879 | AA22: 124199 | AB22: 148879 | AC22: 178128
P23: 20 | Q23: 119845 | R23: 173071 | S23: 129785 | T23: 155244 | U23: 185098 | W23: 20 | X23: 121005 | Y23: 187805 | Z23: 156967 | AA23: 130947 | AB23: 156967 | AC23: 187805
P24: 21 | Q24: 126600 | R24: 181989 | S24: 136473 | T24: 163244 | U24: 194636 | W24: 21 | X24: 127820 | Y24: 197483 | Z24: 165055 | AA24: 137694 | AB24: 165055 | AC24: 197483
P25: 22 | Q25: 133354 | R25: 190907 | S25: 143161 | T25: 171243 | U25: 204173 | W25: 22 | X25: 134635 | Y25: 207160 | Z25: 173144 | AA25: 144442 | AB25: 173144 | AC25: 207160
P26: 23 | Q26: 140109 | R26: 199825 | S26: 149848 | T26: 179243 | U26: 213711 | W26: 23 | X26: 141449 | Y26: 216838 | Z26: 181232 | AA26: 151189 | AB26: 181232 | AC26: 216838
P27: 24 | Q27: 146864 | R27: 208743 | S27: 156536 | T27: 187242 | U27: 223249 | W27: 24 | X27: 148264 | Y27: 226515 | Z27: 189320 | AA27: 157937 | AB27: 189320 | AC27: 226515
P28: 25 | Q28: 154269 | R28: 218125 | S28: 163571 | T28: 195658 | U28: 233283 | W28: 25 | X28: 155740 | Y28: 236696 | Z28: 197829 | AA28: 165035 | AB28: 197829 | AC28: 236696
P29: 26 | Q29: 161673 | R29: 227507 | S29: 170607 | T29: 204073 | U29: 243317 | W29: 26 | X29: 163216 | Y29: 246876 | Z29: 206338 | AA29: 172134 | AB29: 206338 | AC29: 246876
P30: 27 | Q30: 169078 | R30: 236889 | S30: 177642 | T30: 212489 | U30: 253350 | W30: 27 | X30: 170692 | Y30: 257057 | Z30: 214847 | AA30: 179232 | AB30: 214847 | AC30: 257057
... P99: 96 | Q99: 775939 | R99: 978329 | S99: 733644 | T99: 877558 | U99: 1046312 | W99: 96 | X99: 783128 | Y99: 1061616 | Z99: 887301 | AA99: 740209 | AB99: 887301 | AC99: 1061616
P100: 97 | Q100: 785594 | R100: 990092 | S100: 742465 | T100: 888109 | U100: 1058892
P101: 98 | Q101: 795249 | R101: 1001855 | S101: 751286 | T101: 898661 | U101: 1071472
P102: 99 | Q102: 804904 | R102: 1013618 | S102: 760107 | T102: 909212 | U102: 1084053
P103: 100 | Q103: 814559 | R103: 1025381 | S103: 768928 | T103: 919763 | U103: 1096633
P104: 101 | Q104: 824214 | R104: 1037144 | S104: 777749 | T104: 930314 | U104: 1109213
P105: 102 | Q105: 833869 | R105: 1048907 | S105: 786570 | T105: 940866 | U105: 1121793
P106: 103 | Q106: 843524 | R106: 1060669 | S106: 795391 | T106: 951417 | U106: 1134373
P107: 104 | Q107: 853179 | R107: 1072432 | S107: 804212 | T107: 961968 | U107: 1146953
P108: 105 | Q108: 862834 | R108: 1084195 | S108: 813033 | T108: 972519 | U108: 1159534
...

Sheet Toelichting
A2: Zorg dat u bekend bent met de specifieke voorwaarden van de subsidieoproep.
A4: In de subsidieoproep staat vermeld waar een begroting aan moet voldoen. Neem bij vragen contact op met de contactpersonen van de subsidieoproep
A6: Let op: alleen de gele cellen zijn bewerkbaar. De blauwe cellen zijn vergrendeld of worden automatisch ingevuld op basis van berekeningen. U hoeft hierin niets in te vullen.
A8: Start uw begroting door het tabblad "Basisgegevens" in te vullen.
A10: Projectgegevens
A12: Daadwerkelijke samenwerking
A13: Er is sprake van een daadwerkelijke samenwerking als minimaal twee onafhankelijke partijen samenwerken om kennis of technologie uit te wisselen of om een gezamenlijk doel te bereiken. De partijen bepalen samen de omvang van het project, dragen bij aan de uitvoering en delen de risico's en resultaten. Het is mogelijk dat één of meer partijen alle projectkosten betalen. De andere partijen lopen dan geen financieel risico.
A14: Let op: Onderzoek in opdracht of het uitvoeren van betaalde onderzoeksdiensten telt niet als samenwerking.
A16: Ruime verspreiding projectresultaten
A17: Ruime verspreiding projectresultaten betekent dat de projectresultaten ruim worden verspreid via conferenties, publicaties, open access-repositories, gratis opensource-software of licenties met IE-rechten tegen een marktprijs beschikbaar gesteld worden.
A19: Gegevens deelnemers
A20: In deze tabel vult u alle partijen in die binnen de aanvraag aanspraak maken op (een deel van) de subsidie. Dit betreft zowel de hoofdaanvrager als de medeaanvragers.
... A203: Indien u via de DAEB subsidie ontvangt, dient u elke 3 jaar een financiële rapportage aan te leveren. Hiervoor zijn kolomen V t/m AB. Deze kunt u uitklappen

Sheet Basisgegevens
B2: Projectgegevens
B4: Projecttitel
B5: Daadwerkelijke samenwerking of ruime verspreiding projectresultaten* | D5: U dient alle basisgegevens in te vullen
B6: Looptijd (maanden)
B9: Gegevens deelnemers
F10: Ongeldige combinatie van type steun en type organisatie.
B11: Nr. | C11: Naam organisatie** | D11: Type organisatie*** | E11: Omvang van organisatie**** | F11: Type steun | G11: AGVV artikel
B12: Hoofdaanvrager - Dln 1 | H12: U dient alle basisgegevens in te vullen
B13: Dln 2 | H13: U dient alle basisgegevens in te vullen
B14: Dln 3 | H14: U dient alle basisgegevens in te vullen
B15: Dln 4 | H15: U dient alle basisgegevens in te vullen
B16: Dln 5 | H16: U dient alle basisgegevens in te vullen
B17: Dln 6 | H17: U dient alle basisgegevens in te vullen
B18: Dln 7 | H18: U dient alle basisgegevens in te vullen
B19: Dln 8 | H19: U dient alle basisgegevens in te vullen
B20: Dln 9 | H20: U dient alle basisgegevens in te vullen
B21: Dln 10 | H21: U dient alle basisgegevens in te vullen
B22: Dln 11 | H22: U dient alle basisgegevens in te vullen
B23: Dln 12 | H23: U dient alle basisgegevens in te vullen
... B31: Dln 20 | H31: U dient alle basisgegevens in te vullen
B33: *Zie het tabblad 'Toelichting' voor de definities van daadwerkelijke samenwerking en ruime verspreiding van projectresultaten.
B34: **Gebruik exact dezelfde organisatienamen als die in AIMS zijn geregistreerd. Hiermee voorkomt u afwijkingen tussen de begroting en de subsidieaanvraag
B35: *** Zie tabblad 'Toelichting' voor de definities van de verschillende organisatietypen
B36: **** Zie het tabblad 'Toelichting' voor meer informatie over hoe de omvang van uw organisatie wordt bepaald

Sheet Overzicht begroting
B2: Overzicht begroting | O2: Overzicht Realisatie
S3: Indien DAEB: realisatie jaar 4 t/m 6 | W3: Indien DAEB: realisatie jaar 7 t/m 9
B5: Nr. | C5: Naam Organisatie | E5: 1. Personeelskosten | F5: 2. Materiële kosten | G5: 3. Apparatuurkosten | H5: 4. Communicatie- en implementatiekosten | I5: 5. Overige kosten | K5: Totale kosten | L5: Eigen bijdrage / cofin | M5: Subsidiebedrag | O5: Gerealiseerde kosten | P5: Eigen bijdrage / cofinanciering | Q5: Totaal gerealiseerd (totale kosten minus benodigde eigen bijdrage/cofin.) | S5: Gerealiseerde kosten | T5: Gerealiseerde eigen bijdrage / cofinanciering | U5: Totaal gerealiseerd (totale kosten minus benodigde eigen bijdrage/cofin.) | W5: Gerealiseerde kosten | X5: Gerealiseerde eigen bijdrage / cofinanciering | Y5: Totaal gerealiseerd (totale kosten minus benodigde eigen bijdrage/cofin.)
B6: Hoofdaanvrager - Dln 1 | C6: =Basisgegevens!C12 -> 0 | E6: =SUM('Dln 1'!$K$222:$K$223) -> 0 | F6: ='Dln 1'!$K$224 -> 0 | G6: ='Dln 1'!$K$225 -> 0 | H6: ='Dln 1'!$K$226 -> 0 | I6: ='Dln 1'!$K$227 -> 0 | K6: =SUM($E6:$I6) -> 0 | L6: ='Dln 1'!$K$232 -> 0 | M6: ='Dln 1'!$K$230 -> 0 | O6: ='Dln 1'!$K$236 -> 0 | P6: ='Dln 1'!$K$238 -> 0 | Q6: ='Dln 1'!$K$239 -> 0 | S6: ='Dln 1'!$V$236 -> 0 | T6: ='Dln 1'!$V$238 -> 0 | U6: ='Dln 1'!$V$239 -> 0 | W6: ='Dln 1'!$X$236 -> 0 | X6: ='Dln 1'!$X$238 -> 0 | Y6: ='Dln 1'!$X$239 -> 0
B7: Dln 2 | C7: =Basisgegevens!C13 -> 0 | E7: =SUM('Dln 2'!$K$222:$K$223) -> 0 | F7: ='Dln 2'!$K$224 -> 0 | G7: ='Dln 2'!$K$225 -> 0 | H7: ='Dln 2'!$K$226 -> 0 | I7: ='Dln 2'!$K$227 -> 0 | K7: =SUM($E7:$I7) -> 0 | L7: ='Dln 2'!$K$232 -> 0 | M7: ='Dln 2'!$K$230 -> 0 | O7: ='Dln 2'!$K$236 -> 0 | P7: ='Dln 2'!$K$238 -> 0 | Q7: ='Dln 2'!$K$239 -> 0 | S7: ='Dln 2'!$V$236 -> 0 | T7: ='Dln 2'!$V$238 -> 0 | U7: ='Dln 2'!$V$239 -> 0 | W7: ='Dln 2'!$X$236 -> 0 | X7: ='Dln 2'!$X$238 -> 0 | Y7: ='Dln 2'!$X$239 -> 0
B8: Dln 3 | C8: =Basisgegevens!C14 -> 0 | E8: =SUM('Dln 3'!$K$222:$K$223) -> 0 | F8: ='Dln 3'!$K$224 -> 0 | G8: ='Dln 3'!$K$225 -> 0 | H8: ='Dln 3'!$K$226 -> 0 | I8: ='Dln 3'!$K$227 -> 0 | K8: =SUM($E8:$I8) -> 0 | L8: ='Dln 3'!$K$232 -> 0 | M8: ='Dln 3'!$K$230 -> 0 | O8: ='Dln 3'!$K$236 -> 0 | P8: ='Dln 3'!$K$238 -> 0 | Q8: ='Dln 3'!$K$239 -> 0 | S8: ='Dln 3'!$V$236 -> 0 | T8: ='Dln 3'!$V$238 -> 0 | U8: ='Dln 3'!$V$239 -> 0 | W8: ='Dln 3'!$X$236 -> 0 | X8: ='Dln 3'!$X$238 -> 0 | Y8: ='Dln 3'!$X$239 -> 0
B9: Dln 4 | C9: =Basisgegevens!C15 -> 0 | E9: =SUM('Dln 4'!$K$222:$K$223) -> 0 | F9: ='Dln 4'!$K$224 -> 0 | G9: ='Dln 4'!$K$225 -> 0 | H9: ='Dln 4'!$K$226 -> 0 | I9: ='Dln 4'!$K$227 -> 0 | K9: =SUM($E9:$I9) -> 0 | L9: ='Dln 4'!$K$232 -> 0 | M9: ='Dln 4'!$K$230 -> 0 | O9: ='Dln 4'!$K$236 -> 0 | P9: ='Dln 4'!$K$238 -> 0 | Q9: ='Dln 4'!$K$239 -> 0 | S9: ='Dln 4'!$V$236 -> 0 | T9: ='Dln 4'!$V$238 -> 0 | U9: ='Dln 4'!$V$239 -> 0 | W9: ='Dln 4'!$X$236 -> 0 | X9: ='Dln 4'!$X$238 -> 0 | Y9: ='Dln 4'!$X$239 -> 0
B10: Dln 5 | C10: =Basisgegevens!C16 -> 0 | E10: =SUM('Dln 5'!$K$222:$K$223) -> 0 | F10: ='Dln 5'!$K$224 -> 0 | G10: ='Dln 5'!$K$225 -> 0 | H10: ='Dln 5'!$K$226 -> 0 | I10: ='Dln 5'!$K$227 -> 0 | K10: =SUM($E10:$I10) -> 0 | L10: ='Dln 5'!$K$232 -> 0 | M10: ='Dln 5'!$K$230 -> 0 | O10: ='Dln 5'!$K$236 -> 0 | P10: ='Dln 5'!$K$238 -> 0 | Q10: ='Dln 5'!$K$239 -> 0 | S10: ='Dln 5'!$V$236 -> 0 | T10: ='Dln 5'!$V$238 -> 0 | U10: ='Dln 5'!$V$239 -> 0 | W10: ='Dln 5'!$X$236 -> 0 | X10: ='Dln 5'!$X$238 -> 0 | Y10: ='Dln 5'!$X$239 -> 0
B11: Dln 6 | C11: =Basisgegevens!C17 -> 0 | E11: =SUM('Dln 6'!$K$222:$K$223) -> 0 | F11: ='Dln 6'!$K$224 -> 0 | G11: ='Dln 6'!$K$225 -> 0 | H11: ='Dln 6'!$K$226 -> 0 | I11: ='Dln 6'!$K$227 -> 0 | K11: =SUM($E11:$I11) -> 0 | L11: ='Dln 6'!$K$232 -> 0 | M11: ='Dln 6'!$K$230 -> 0 | O11: ='Dln 6'!$K$236 -> 0 | P11: ='Dln 6'!$K$238 -> 0 | Q11: ='Dln 6'!$K$239 -> 0 | S11: ='Dln 6'!$V$236 -> 0 | T11: ='Dln 6'!$V$238 -> 0 | U11: ='Dln 6'!$V$239 -> 0 | W11: ='Dln 6'!$X$236 -> 0 | X11: ='Dln 6'!$X$238 -> 0 | Y11: ='Dln 6'!$X$239 -> 0
B12: Dln 7 | C12: =Basisgegevens!C18 -> 0 | E12: =SUM('Dln 7'!$K$222:$K$223) -> 0 | F12: ='Dln 7'!$K$224 -> 0 | G12: ='Dln 7'!$K$225 -> 0 | H12: ='Dln 7'!$K$226 -> 0 | I12: ='Dln 7'!$K$227 -> 0 | K12: =SUM($E12:$I12) -> 0 | L12: ='Dln 7'!$K$232 -> 0 | M12: ='Dln 7'!$K$230 -> 0 | O12: ='Dln 7'!$K$236 -> 0 | P12: ='Dln 7'!$K$238 -> 0 | Q12: ='Dln 7'!$K$239 -> 0 | S12: ='Dln 7'!$V$236 -> 0 | T12: ='Dln 7'!$V$238 -> 0 | U12: ='Dln 7'!$V$239 -> 0 | W12: ='Dln 7'!$X$236 -> 0 | X12: ='Dln 7'!$X$238 -> 0 | Y12: ='Dln 7'!$X$239 -> 0
B13: Dln 8 | C13: =Basisgegevens!C19 -> 0 | E13: =SUM('Dln 8'!$K$222:$K$223) -> 0 | F13: ='Dln 8'!$K$224 -> 0 | G13: ='Dln 8'!$K$225 -> 0 | H13: ='Dln 8'!$K$226 -> 0 | I13: ='Dln 8'!$K$227 -> 0 | K13: =SUM($E13:$I13) -> 0 | L13: ='Dln 8'!$K$232 -> 0 | M13: ='Dln 8'!$K$230 -> 0 | O13: ='Dln 8'!$K$236 -> 0 | P13: ='Dln 8'!$K$238 -> 0 | Q13: ='Dln 8'!$K$239 -> 0 | S13: ='Dln 8'!$V$236 -> 0 | T13: ='Dln 8'!$V$238 -> 0 | U13: ='Dln 8'!$V$239 -> 0 | W13: ='Dln 8'!$X$236 -> 0 | X13: ='Dln 8'!$X$238 -> 0 | Y13: ='Dln 8'!$X$239 -> 0
B14: Dln 9 | C14: =Basisgegevens!C20 -> 0 | E14: =SUM('Dln 9'!$K$222:$K$223) -> 0 | F14: ='Dln 9'!$K$224 -> 0 | G14: ='Dln 9'!$K$225 -> 0 | H14: ='Dln 9'!$K$226 -> 0 | I14: ='Dln 9'!$K$227 -> 0 | K14: =SUM($E14:$I14) -> 0 | L14: ='Dln 9'!$K$232 -> 0 | M14: ='Dln 9'!$K$230 -> 0 | O14: ='Dln 9'!$K$236 -> 0 | P14: ='Dln 9'!$K$238 -> 0 | Q14: ='Dln 9'!$K$239 -> 0 | S14: ='Dln 9'!$V$236 -> 0 | T14: ='Dln 9'!$V$238 -> 0 | U14: ='Dln 9'!$V$239 -> 0 | W14: ='Dln 9'!$X$236 -> 0 | X14: ='Dln 9'!$X$238 -> 0 | Y14: ='Dln 9'!$X$239 -> 0
B15: Dln 10 | C15: =Basisgegevens!C21 -> 0 | E15: =SUM('Dln 10'!$K$222:$K$223) -> 0 | F15: ='Dln 10'!$K$224 -> 0 | G15: ='Dln 10'!$K$225 -> 0 | H15: ='Dln 10'!$K$226 -> 0 | I15: ='Dln 10'!$K$227 -> 0 | K15: =SUM($E15:$I15) -> 0 | L15: ='Dln 10'!$K$232 -> 0 | M15: ='Dln 10'!$K$230 -> 0 | O15: ='Dln 10'!$K$236 -> 0 | P15: ='Dln 10'!$K$238 -> 0 | Q15: ='Dln 10'!$K$239 -> 0 | S15: ='Dln 10'!$V$236 -> 0 | T15: ='Dln 10'!$V$238 -> 0 | U15: ='Dln 10'!$V$239 -> 0 | W15: ='Dln 10'!$X$236 -> 0 | X15: ='Dln 10'!$X$238 -> 0 | Y15: ='Dln 10'!$X$239 -> 0
B16: Dln 11 | C16: =Basisgegevens!C22 -> 0 | E16: =SUM('Dln 11'!$K$222:$K$223) -> 0 | F16: ='Dln 11'!$K$224 -> 0 | G16: ='Dln 11'!$K$225 -> 0 | H16: ='Dln 11'!$K$226 -> 0 | I16: ='Dln 11'!$K$227 -> 0 | K16: =SUM($E16:$I16) -> 0 | L16: ='Dln 11'!$K$232 -> 0 | M16: ='Dln 11'!$K$230 -> 0 | O16: ='Dln 11'!$K$236 -> 0 | P16: ='Dln 11'!$K$238 -> 0 | Q16: ='Dln 11'!$K$239 -> 0 | S16: ='Dln 11'!$V$236 -> 0 | T16: ='Dln 11'!$V$238 -> 0 | U16: ='Dln 11'!$V$239 -> 0 | W16: ='Dln 11'!$X$236 -> 0 | X16: ='Dln 11'!$X$238 -> 0 | Y16: ='Dln 11'!$X$239 -> 0
B17: Dln 12 | C17: =Basisgegevens!C23 -> 0 | E17: =SUM('Dln 12'!$K$222:$K$223) -> 0 | F17: ='Dln 12'!$K$224 -> 0 | G17: ='Dln 12'!$K$225 -> 0 | H17: ='Dln 12'!$K$226 -> 0 | I17: ='Dln 12'!$K$227 -> 0 | K17: =SUM($E17:$I17) -> 0 | L17: ='Dln 12'!$K$232 -> 0 | M17: ='Dln 12'!$K$230 -> 0 | O17: ='Dln 12'!$K$236 -> 0 | P17: ='Dln 12'!$K$238 -> 0 | Q17: ='Dln 12'!$K$239 -> 0 | S17: ='Dln 12'!$V$236 -> 0 | T17: ='Dln 12'!$V$238 -> 0 | U17: ='Dln 12'!$V$239 -> 0 | W17: ='Dln 12'!$X$236 -> 0 | X17: ='Dln 12'!$X$238 -> 0 | Y17: ='Dln 12'!$X$239 -> 0
B18: Dln 13 | C18: =Basisgegevens!C24 -> 0 | E18: =SUM('Dln 13'!$K$222:$K$223) -> 0 | F18: ='Dln 13'!$K$224 -> 0 | G18: ='Dln 13'!$K$225 -> 0 | H18: ='Dln 13'!$K$226 -> 0 | I18: ='Dln 13'!$K$227 -> 0 | K18: =SUM($E18:$I18) -> 0 | L18: ='Dln 13'!$K$232 -> 0 | M18: ='Dln 13'!$K$230 -> 0 | O18: ='Dln 13'!$K$236 -> 0 | P18: ='Dln 13'!$K$238 -> 0 | Q18: ='Dln 13'!$K$239 -> 0 | S18: ='Dln 13'!$V$236 -> 0 | T18: ='Dln 13'!$V$238 -> 0 | U18: ='Dln 13'!$V$239 -> 0 | W18: ='Dln 13'!$X$236 -> 0 | X18: ='Dln 13'!$X$238 -> 0 | Y18: ='Dln 13'!$X$239 -> 0
B19: Dln 14 | C19: =Basisgegevens!C25 -> 0 | E19: =SUM('Dln 14'!$K$222:$K$223) -> 0 | F19: ='Dln 14'!$K$224 -> 0 | G19: ='Dln 14'!$K$225 -> 0 | H19: ='Dln 14'!$K$226 -> 0 | I19: ='Dln 14'!$K$227 -> 0 | K19: =SUM($E19:$I19) -> 0 | L19: ='Dln 14'!$K$232 -> 0 | M19: ='Dln 14'!$K$230 -> 0 | O19: ='Dln 14'!$K$236 -> 0 | P19: ='Dln 14'!$K$238 -> 0 | Q19: ='Dln 14'!$K$239 -> 0 | S19: ='Dln 14'!$V$236 -> 0 | T19: ='Dln 14'!$V$238 -> 0 | U19: ='Dln 14'!$V$239 -> 0 | W19: ='Dln 14'!$X$236 -> 0 | X19: ='Dln 14'!$X$238 -> 0 | Y19: ='Dln 14'!$X$239 -> 0
B20: Dln 15 | C20: =Basisgegevens!C26 -> 0 | E20: =SUM('Dln 15'!$K$222:$K$223) -> 0 | F20: ='Dln 15'!$K$224 -> 0 | G20: ='Dln 15'!$K$225 -> 0 | H20: ='Dln 15'!$K$226 -> 0 | I20: ='Dln 15'!$K$227 -> 0 | K20: =SUM($E20:$I20) -> 0 | L20: ='Dln 15'!$K$232 -> 0 | M20: ='Dln 15'!$K$230 -> 0 | O20: ='Dln 15'!$K$236 -> 0 | P20: ='Dln 15'!$K$238 -> 0 | Q20: ='Dln 15'!$K$239 -> 0 | S20: ='Dln 15'!$V$236 -> 0 | T20: ='Dln 15'!$V$238 -> 0 | U20: ='Dln 15'!$V$239 -> 0 | W20: ='Dln 15'!$X$236 -> 0 | X20: ='Dln 15'!$X$238 -> 0 | Y20: ='Dln 15'!$X$239 -> 0
B21: Dln 16 | C21: =Basisgegevens!C27 -> 0 | E21: =SUM('Dln 16'!$K$222:$K$223) -> 0 | F21: ='Dln 16'!$K$224 -> 0 | G21: ='Dln 16'!$K$225 -> 0 | H21: ='Dln 16'!$K$226 -> 0 | I21: ='Dln 16'!$K$227 -> 0 | K21: =SUM($E21:$I21) -> 0 | L21: ='Dln 16'!$K$232 -> 0 | M21: ='Dln 16'!$K$230 -> 0 | O21: ='Dln 16'!$K$236 -> 0 | P21: ='Dln 16'!$K$238 -> 0 | Q21: ='Dln 16'!$K$239 -> 0 | S21: ='Dln 16'!$V$236 -> 0 | T21: ='Dln 16'!$V$238 -> 0 | U21: ='Dln 16'!$V$239 -> 0 | W21: ='Dln 16'!$X$236 -> 0 | X21: ='Dln 16'!$X$238 -> 0 | Y21: ='Dln 16'!$X$239 -> 0
B22: Dln 17 | C22: =Basisgegevens!C28 -> 0 | E22: =SUM('Dln 17'!$K$222:$K$223) -> 0 | F22: ='Dln 17'!$K$224 -> 0 | G22: ='Dln 17'!$K$225 -> 0 | H22: ='Dln 17'!$K$226 -> 0 | I22: ='Dln 17'!$K$227 -> 0 | K22: =SUM($E22:$I22) -> 0 | L22: ='Dln 17'!$K$232 -> 0 | M22: ='Dln 17'!$K$230 -> 0 | O22: ='Dln 17'!$K$236 -> 0 | P22: ='Dln 17'!$K$238 -> 0 | Q22: ='Dln 17'!$K$239 -> 0 | S22: ='Dln 17'!$V$236 -> 0 | T22: ='Dln 17'!$V$238 -> 0 | U22: ='Dln 17'!$V$239 -> 0 | W22: ='Dln 17'!$X$236 -> 0 | X22: ='Dln 17'!$X$238 -> 0 | Y22: ='Dln 17'!$X$239 -> 0
B23: Dln 18 | C23: =Basisgegevens!C29 -> 0 | E23: =SUM('Dln 18'!$K$222:$K$223) -> 0 | F23: ='Dln 18'!$K$224 -> 0 | G23: ='Dln 18'!$K$225 -> 0 | H23: ='Dln 18'!$K$226 -> 0 | I23: ='Dln 18'!$K$227 -> 0 | K23: =SUM($E23:$I23) -> 0 | L23: ='Dln 18'!$K$232 -> 0 | M23: ='Dln 18'!$K$230 -> 0 | O23: ='Dln 18'!$K$236 -> 0 | P23: ='Dln 18'!$K$238 -> 0 | Q23: ='Dln 18'!$K$239 -> 0 | S23: ='Dln 18'!$V$236 -> 0 | T23: ='Dln 18'!$V$238 -> 0 | U23: ='Dln 18'!$V$239 -> 0 | W23: ='Dln 18'!$X$236 -> 0 | X23: ='Dln 18'!$X$238 -> 0 | Y23: ='Dln 18'!$X$239 -> 0
B24: Dln 19 | C24: =Basisgegevens!C30 -> 0 | E24: =SUM('Dln 19'!$K$222:$K$223) -> 0 | F24: ='Dln 19'!$K$224 -> 0 | G24: ='Dln 19'!$K$225 -> 0 | H24: ='Dln 19'!$K$226 -> 0 | I24: ='Dln 19'!$K$227 -> 0 | K24: =SUM($E24:$I24) -> 0 | L24: ='Dln 19'!$K$232 -> 0 | M24: ='Dln 19'!$K$230 -> 0 | O24: ='Dln 19'!$K$236 -> 0 | P24: ='Dln 19'!$K$238 -> 0 | Q24: ='Dln 19'!$K$239 -> 0 | S24: ='Dln 19'!$V$236 -> 0 | T24: ='Dln 19'!$V$238 -> 0 | U24: ='Dln 19'!$V$239 -> 0 | W24: ='Dln 19'!$X$236 -> 0 | X24: ='Dln 19'!$X$238 -> 0 | Y24: ='Dln 19'!$X$239 -> 0
B25: Dln 20 | C25: =Basisgegevens!C31 -> 0 | E25: =SUM('Dln 20'!$K$222:$K$223) -> 0 | F25: ='Dln 20'!$K$224 -> 0 | G25: ='Dln 20'!$K$225 -> 0 | H25: ='Dln 20'!$K$226 -> 0 | I25: ='Dln 20'!$K$227 -> 0 | K25: =SUM($E25:$I25) -> 0 | L25: ='Dln 20'!$K$232 -> 0 | M25: ='Dln 20'!$K$230 -> 0 | O25: ='Dln 20'!$K$236 -> 0 | P25: ='Dln 20'!$K$238 -> 0 | Q25: ='Dln 20'!$K$239 -> 0 | S25: ='Dln 20'!$V$236 -> 0 | T25: ='Dln 20'!$V$238 -> 0 | U25: ='Dln 20'!$V$239 -> 0 | W25: ='Dln 20'!$X$236 -> 0 | X25: ='Dln 20'!$X$238 -> 0 | Y25: ='Dln 20'!$X$239 -> 0
C26: TOTALEN | E26: =SUM(E6:E25) -> 0 | F26: =SUM(F6:F25) -> 0 | G26: =SUM(G6:G25) -> 0 | H26: =SUM(H6:H25) -> 0 | I26: =SUM(I6:I25) -> 0 | K26: =SUM(K6:K25) -> 0 | L26: =SUM(L6:L25) -> 0 | M26: =SUM(M6:M25) -> 0 | O26: =SUM(O6:O25) -> 0 | P26: =SUM(P6:P25) -> 0 | Q26: =SUM(Q6:Q25) -> 0 | S26: =SUM(S6:S25) -> 0 | T26: =SUM(T6:T25) -> 0 | U26: =SUM(U6:U25) -> 0 | W26: =SUM(W6:W25) -> 0 | X26: =SUM(X6:X25) -> 0 | Y26: =SUM(Y6:Y25) -> 0
K28: * Let op: Eigen bijdrage / cofinanciering is meer dan de totale projectkosten
B29: Gelieve het begroting overzicht in pdf op te slaan en te ondertekenen door de hoofdaanvrager
B30: Instelling | H30: Toelichting begroting
B31: Naam:
B32: Functie:
B33: Tel.nr.:
B34: E-mailadres:
B35: Datum:

Sheet OUD Overzicht staatssteun
B2: Begroting - Overzicht staatssteun per begunstigde
C4: Deminimis | E4: AGVV art. 18 - Consultancysteun voor MKB | G4: AGVV art. 25(2)(a) - Fundamenteel onderzoek | I4: AGVV art. 25(2)(b) - Industrieel onderzoek | K4: AGVV art. 25(2)(c) - Experimentele ontwikkeling | M4: AGVV art. 25(2)(d) - Haalbaarheidsstudies | O4: AGVV art. 26 - Onderzoeks-infrastructuur | Q4: AGVV art. 26bis - Test- en experimenteerinfrastructuur | S4: AGVV art. 27 - Innovatieclusters | U4: AGVV art. 28 - Innovatiesteun voor MKB | W4: AGVV art. 29 - Proces- en organisatie-innovatie | Y4: AGVV art. 31 - Opleidingssteun | AA4: DAEB | AC4: Niet-economische activiteit
C5: Steunbedrag | D5: % | E5: Steunbedrag | F5: % | G5: Steunbedrag | H5: % | I5: Steunbedrag | J5: % | K5: Steunbedrag | L5: % | M5: Steunbedrag | N5: % | O5: Steunbedrag | P5: % | Q5: Steunbedrag | R5: % | S5: Steunbedrag | T5: % | U5: Steunbedrag | V5: % | W5: Steunbedrag | X5: % | Y5: Steunbedrag | Z5: % | AA5: Steunbedrag | AB5: % | AC5: Steunbedrag | AD5: % | AF5: Totalen
B6: Hoofdaanvrager - Dln 1 | C6: =SUMIF('Dln 1'!$C$9,$C$4,'Dln 1'!$K$230) -> 0 | D6: =IFERROR(INDEX('Dln 1'!$M:$M,MATCH($C$4,'Dln 1'!#REF!,0),1),0) -> 0 | E6: =SUMIF('Dln 1'!$C$9,$E$4,'Dln 1'!$K$230) -> 0 | F6: =IFERROR(INDEX('Dln 1'!$M:$M,MATCH($E$4,'Dln 1'!#REF!,0),1),0) -> 0 | G6: =SUMIF('Dln 1'!$C$9,$G$4,'Dln 1'!$K$230) -> 0 | H6: =IFERROR(INDEX('Dln 1'!$M:$M,MATCH($G$4,'Dln 1'!#REF!,0),1),0) -> 0 | I6: =SUMIF('Dln 1'!$C$9,$I$4,'Dln 1'!$K$230) -> 0 | J6: =IFERROR(INDEX('Dln 1'!$M:$M,MATCH($I$4,'Dln 1'!#REF!,0),1),0) -> 0 | K6: =SUMIF('Dln 1'!$C$9,$K$4,'Dln 1'!$K$230) -> 0 | L6: =IFERROR(INDEX('Dln 1'!$M:$M,MATCH($K$4,'Dln 1'!#REF!,0),1),0) -> 0 | M6: =SUMIF('Dln 1'!$C$9,$M$4,'Dln 1'!$K$230) -> 0 | N6: =IFERROR(INDEX('Dln 1'!$M:$M,MATCH($M$4,'Dln 1'!#REF!,0),1),0) -> 0 | O6: =SUMIF('Dln 1'!$C$9,$O$4,'Dln 1'!$K$230) -> 0 | P6: =IFERROR(INDEX('Dln 1'!$M:$M,MATCH($O$4,'Dln 1'!#REF!,0),1),0) -> 0 | Q6: =SUMIF('Dln 1'!$C$9,$Q$4,'Dln 1'!$K$230) -> 0 | R6: =IFERROR(INDEX('Dln 1'!$M:$M,MATCH($Q$4,'Dln 1'!#REF!,0),1),0) -> 0 | S6: =SUMIF('Dln 1'!$C$9,$S$4,'Dln 1'!$K$230) -> 0 | T6: =IFERROR(INDEX('Dln 1'!$M:$M,MATCH($S$4,'Dln 1'!#REF!,0),1),0) -> 0 | U6: =SUMIF('Dln 1'!$C$9,$U$4,'Dln 1'!$K$230) -> 0 | V6: =IFERROR(INDEX('Dln 1'!$M:$M,MATCH($U$4,'Dln 1'!#REF!,0),1),0) -> 0 | W6: =SUMIF('Dln 1'!$C$9,$W$4,'Dln 1'!$K$230) -> 0 | X6: =IFERROR(INDEX('Dln 1'!$M:$M,MATCH($W$4,'Dln 1'!#REF!,0),1),0) -> 0 | Y6: =SUMIF('Dln 1'!$C$9,$Y$4,'Dln 1'!$K$230) -> 0 | Z6: =IFERROR(INDEX('Dln 1'!$M:$M,MATCH($Y$4,'Dln 1'!#REF!,0),1),0) -> 0 | AA6: =SUMIF('Dln 1'!$C$9,$AA$4,'Dln 1'!$K$230) -> 0 | AB6: =IFERROR(INDEX('Dln 1'!$M:$M,MATCH($AA$4,'Dln 1'!#REF!,0),1),0) -> 0 | AC6: =SUMIF('Dln 1'!$C$9,$AC$4,'Dln 1'!$K$230) -> 0 | AD6: =IFERROR(INDEX('Dln 1'!$M:$M,MATCH($AC$4,'Dln 1'!#REF!,0),1),0) -> 0 | AF6: =SUM(C6,E6,G6,I6,K6,M6,O6,Q6,S6,U6,W6,Y6,AA6,AC6) -> 0 | AG6: =AF6='Dln 1'!K230 -> TRUE
B7: Dln 2 | C7: =SUMIF('Dln 2'!$C$9,$C$4,'Dln 2'!$K$230) -> 0 | D7: =IFERROR(INDEX('Dln 2'!$M:$M,MATCH($C$4,'Dln 2'!#REF!,0),1),0) -> 0 | E7: =SUMIF('Dln 2'!#REF!,$E$4,'Dln 2'!$O:$O) -> #REF! | F7: =IFERROR(INDEX('Dln 2'!$M:$M,MATCH($E$4,'Dln 2'!#REF!,0),1),0) -> 0 | G7: =SUMIF('Dln 2'!#REF!,$G$4,'Dln 2'!$O:$O) -> #REF! | H7: =IFERROR(INDEX('Dln 2'!$M:$M,MATCH($G$4,'Dln 2'!#REF!,0),1),0) -> 0 | I7: =SUMIF('Dln 2'!#REF!,$I$4,'Dln 2'!$O:$O) -> #REF! | J7: =IFERROR(INDEX('Dln 2'!$M:$M,MATCH($I$4,'Dln 2'!#REF!,0),1),0) -> 0 | K7: =SUMIF('Dln 2'!#REF!,$K$4,'Dln 2'!$O:$O) -> #REF! | L7: =IFERROR(INDEX('Dln 2'!$M:$M,MATCH($K$4,'Dln 2'!#REF!,0),1),0) -> 0 | M7: =SUMIF('Dln 2'!#REF!,$M$4,'Dln 2'!$O:$O) -> #REF! | N7: =IFERROR(INDEX('Dln 2'!$M:$M,MATCH($M$4,'Dln 2'!#REF!,0),1),0) -> 0 | O7: =SUMIF('Dln 2'!#REF!,$O$4,'Dln 2'!$O:$O) -> #REF! | P7: =IFERROR(INDEX('Dln 2'!$M:$M,MATCH($O$4,'Dln 2'!#REF!,0),1),0) -> 0 | Q7: =SUMIF('Dln 2'!#REF!,$Q$4,'Dln 2'!$O:$O) -> #REF! | R7: =IFERROR(INDEX('Dln 2'!$M:$M,MATCH($Q$4,'Dln 2'!#REF!,0),1),0) -> 0 | S7: =SUMIF('Dln 2'!#REF!,$S$4,'Dln 2'!$O:$O) -> #REF! | T7: =IFERROR(INDEX('Dln 2'!$M:$M,MATCH($S$4,'Dln 2'!#REF!,0),1),0) -> 0 | U7: =SUMIF('Dln 2'!#REF!,$U$4,'Dln 2'!$O:$O) -> #REF! | V7: =IFERROR(INDEX('Dln 2'!$M:$M,MATCH($U$4,'Dln 2'!#REF!,0),1),0) -> 0 | W7: =SUMIF('Dln 2'!#REF!,$W$4,'Dln 2'!$O:$O) -> #REF! | X7: =IFERROR(INDEX('Dln 2'!$M:$M,MATCH($W$4,'Dln 2'!#REF!,0),1),0) -> 0 | Y7: =SUMIF('Dln 2'!#REF!,$Y$4,'Dln 2'!$O:$O) -> #REF! | Z7: =IFERROR(INDEX('Dln 2'!$M:$M,MATCH($Y$4,'Dln 2'!#REF!,0),1),0) -> 0 | AA7: =SUMIF('Dln 2'!#REF!,$AA$4,'Dln 2'!$O:$O) -> #REF! | AB7: =IFERROR(INDEX('Dln 2'!$M:$M,MATCH($AA$4,'Dln 2'!#REF!,0),1),0) -> 0 | AC7: =SUMIF('Dln 2'!#REF!,$AC$4,'Dln 2'!$O:$O) -> #REF! | AD7: =IFERROR(INDEX('Dln 2'!$M:$M,MATCH($AC$4,'Dln 2'!#REF!,0),1),0) -> 0 | AF7: =SUM(C7,E7,G7,I7,K7,M7,O7,Q7,S7,U7,W7,Y7,AA7,AC7) -> #REF! | AG7: =AF6='Dln 2'!K230 -> TRUE
B8: Dln 3 | C8: =SUMIF('Dln 3'!$C$9,$C$4,'Dln 3'!$K$230) -> 0 | D8: =IFERROR(INDEX('Dln 3'!$M:$M,MATCH($C$4,'Dln 3'!#REF!,0),1),0) -> 0 | E8: =SUMIF('Dln 3'!#REF!,$E$4,'Dln 3'!$O:$O) -> #REF! | F8: =IFERROR(INDEX('Dln 3'!$M:$M,MATCH($E$4,'Dln 3'!#REF!,0),1),0) -> 0 | G8: =SUMIF('Dln 3'!#REF!,$G$4,'Dln 3'!$O:$O) -> #REF! | H8: =IFERROR(INDEX('Dln 3'!$M:$M,MATCH($G$4,'Dln 3'!#REF!,0),1),0) -> 0 | I8: =SUMIF('Dln 3'!#REF!,$I$4,'Dln 3'!$O:$O) -> #REF! | J8: =IFERROR(INDEX('Dln 3'!$M:$M,MATCH($I$4,'Dln 3'!#REF!,0),1),0) -> 0 | K8: =SUMIF('Dln 3'!#REF!,$K$4,'Dln 3'!$O:$O) -> #REF! | L8: =IFERROR(INDEX('Dln 3'!$M:$M,MATCH($K$4,'Dln 3'!#REF!,0),1),0) -> 0 | M8: =SUMIF('Dln 3'!#REF!,$M$4,'Dln 3'!$O:$O) -> #REF! | N8: =IFERROR(INDEX('Dln 3'!$M:$M,MATCH($M$4,'Dln 3'!#REF!,0),1),0) -> 0 | O8: =SUMIF('Dln 3'!#REF!,$O$4,'Dln 3'!$O:$O) -> #REF! | P8: =IFERROR(INDEX('Dln 3'!$M:$M,MATCH($O$4,'Dln 3'!#REF!,0),1),0) -> 0 | Q8: =SUMIF('Dln 3'!#REF!,$Q$4,'Dln 3'!$O:$O) -> #REF! | R8: =IFERROR(INDEX('Dln 3'!$M:$M,MATCH($Q$4,'Dln 3'!#REF!,0),1),0) -> 0 | S8: =SUMIF('Dln 3'!#REF!,$S$4,'Dln 3'!$O:$O) -> #REF! | T8: =IFERROR(INDEX('Dln 3'!$M:$M,MATCH($S$4,'Dln 3'!#REF!,0),1),0) -> 0 | U8: =SUMIF('Dln 3'!#REF!,$U$4,'Dln 3'!$O:$O) -> #REF! | V8: =IFERROR(INDEX('Dln 3'!$M:$M,MATCH($U$4,'Dln 3'!#REF!,0),1),0) -> 0 | W8: =SUMIF('Dln 3'!#REF!,$W$4,'Dln 3'!$O:$O) -> #REF! | X8: =IFERROR(INDEX('Dln 3'!$M:$M,MATCH($W$4,'Dln 3'!#REF!,0),1),0) -> 0 | Y8: =SUMIF('Dln 3'!#REF!,$Y$4,'Dln 3'!$O:$O) -> #REF! | Z8: =IFERROR(INDEX('Dln 3'!$M:$M,MATCH($Y$4,'Dln 3'!#REF!,0),1),0) -> 0 | AA8: =SUMIF('Dln 3'!#REF!,$AA$4,'Dln 3'!$O:$O) -> #REF! | AB8: =IFERROR(INDEX('Dln 3'!$M:$M,MATCH($AA$4,'Dln 3'!#REF!,0),1),0) -> 0 | AC8: =SUMIF('Dln 3'!#REF!,$AC$4,'Dln 3'!$O:$O) -> #REF! | AD8: =IFERROR(INDEX('Dln 3'!$M:$M,MATCH($AC$4,'Dln 3'!#REF!,0),1),0) -> 0 | AF8: =SUM(C8,E8,G8,I8,K8,M8,O8,Q8,S8,U8,W8,Y8,AA8,AC8) -> #REF! | AG8: =AF6='Dln 3'!K230 -> TRUE
B9: Dln 4 | C9: =SUMIF('Dln 4'!$C$9,$C$4,'Dln 4'!$K$230) -> 0 | D9: =IFERROR(INDEX('Dln 4'!$M:$M,MATCH($C$4,'Dln 4'!#REF!,0),1),0) -> 0 | E9: =SUMIF('Dln 4'!#REF!,$E$4,'Dln 4'!$O:$O) -> #REF! | F9: =IFERROR(INDEX('Dln 4'!$M:$M,MATCH($E$4,'Dln 4'!#REF!,0),1),0) -> 0 | G9: =SUMIF('Dln 4'!#REF!,$G$4,'Dln 4'!$O:$O) -> #REF! | H9: =IFERROR(INDEX('Dln 4'!$M:$M,MATCH($G$4,'Dln 4'!#REF!,0),1),0) -> 0 | I9: =SUMIF('Dln 4'!#REF!,$I$4,'Dln 4'!$O:$O) -> #REF! | J9: =IFERROR(INDEX('Dln 4'!$M:$M,MATCH($I$4,'Dln 4'!#REF!,0),1),0) -> 0 | K9: =SUMIF('Dln 4'!#REF!,$K$4,'Dln 4'!$O:$O) -> #REF! | L9: =IFERROR(INDEX('Dln 4'!$M:$M,MATCH($K$4,'Dln 4'!#REF!,0),1),0) -> 0 | M9: =SUMIF('Dln 4'!#REF!,$M$4,'Dln 4'!$O:$O) -> #REF! | N9: =IFERROR(INDEX('Dln 4'!$M:$M,MATCH($M$4,'Dln 4'!#REF!,0),1),0) -> 0 | O9: =SUMIF('Dln 4'!#REF!,$O$4,'Dln 4'!$O:$O) -> #REF! | P9: =IFERROR(INDEX('Dln 4'!$M:$M,MATCH($O$4,'Dln 4'!#REF!,0),1),0) -> 0 | Q9: =SUMIF('Dln 4'!#REF!,$Q$4,'Dln 4'!$O:$O) -> #REF! | R9: =IFERROR(INDEX('Dln 4'!$M:$M,MATCH($Q$4,'Dln 4'!#REF!,0),1),0) -> 0 | S9: =SUMIF('Dln 4'!#REF!,$S$4,'Dln 4'!$O:$O) -> #REF! | T9: =IFERROR(INDEX('Dln 4'!$M:$M,MATCH($S$4,'Dln 4'!#REF!,0),1),0) -> 0 | U9: =SUMIF('Dln 4'!#REF!,$U$4,'Dln 4'!$O:$O) -> #REF! | V9: =IFERROR(INDEX('Dln 4'!$M:$M,MATCH($U$4,'Dln 4'!#REF!,0),1),0) -> 0 | W9: =SUMIF('Dln 4'!#REF!,$W$4,'Dln 4'!$O:$O) -> #REF! | X9: =IFERROR(INDEX('Dln 4'!$M:$M,MATCH($W$4,'Dln 4'!#REF!,0),1),0) -> 0 | Y9: =SUMIF('Dln 4'!#REF!,$Y$4,'Dln 4'!$O:$O) -> #REF! | Z9: =IFERROR(INDEX('Dln 4'!$M:$M,MATCH($Y$4,'Dln 4'!#REF!,0),1),0) -> 0 | AA9: =SUMIF('Dln 4'!#REF!,$AA$4,'Dln 4'!$O:$O) -> #REF! | AB9: =IFERROR(INDEX('Dln 4'!$M:$M,MATCH($AA$4,'Dln 4'!#REF!,0),1),0) -> 0 | AC9: =SUMIF('Dln 4'!#REF!,$AC$4,'Dln 4'!$O:$O) -> #REF! | AD9: =IFERROR(INDEX('Dln 4'!$M:$M,MATCH($AC$4,'Dln 4'!#REF!,0),1),0) -> 0 | AF9: =SUM(C9,E9,G9,I9,K9,M9,O9,Q9,S9,U9,W9,Y9,AA9,AC9) -> #REF! | AG9: =AF6='Dln 4'!K230 -> TRUE
B10: Dln 5 | C10: =SUMIF('Dln 2'!$C$9,$C$4,'Dln 2'!$K$230) -> 0 | D10: =IFERROR(INDEX('Dln 5'!$M:$M,MATCH($C$4,'Dln 5'!#REF!,0),1),0) -> 0 | E10: =SUMIF('Dln 5'!#REF!,$E$4,'Dln 5'!$O:$O) -> #REF! | F10: =IFERROR(INDEX('Dln 5'!$M:$M,MATCH($E$4,'Dln 5'!#REF!,0),1),0) -> 0 | G10: =SUMIF('Dln 5'!#REF!,$G$4,'Dln 5'!$O:$O) -> #REF! | H10: =IFERROR(INDEX('Dln 5'!$M:$M,MATCH($G$4,'Dln 5'!#REF!,0),1),0) -> 0 | I10: =SUMIF('Dln 5'!#REF!,$I$4,'Dln 5'!$O:$O) -> #REF! | J10: =IFERROR(INDEX('Dln 5'!$M:$M,MATCH($I$4,'Dln 5'!#REF!,0),1),0) -> 0 | K10: =SUMIF('Dln 5'!#REF!,$K$4,'Dln 5'!$O:$O) -> #REF! | L10: =IFERROR(INDEX('Dln 5'!$M:$M,MATCH($K$4,'Dln 5'!#REF!,0),1),0) -> 0 | M10: =SUMIF('Dln 5'!#REF!,$M$4,'Dln 5'!$O:$O) -> #REF! | N10: =IFERROR(INDEX('Dln 5'!$M:$M,MATCH($M$4,'Dln 5'!#REF!,0),1),0) -> 0 | O10: =SUMIF('Dln 5'!#REF!,$O$4,'Dln 5'!$O:$O) -> #REF! | P10: =IFERROR(INDEX('Dln 5'!$M:$M,MATCH($O$4,'Dln 5'!#REF!,0),1),0) -> 0 | Q10: =SUMIF('Dln 5'!#REF!,$Q$4,'Dln 5'!$O:$O) -> #REF! | R10: =IFERROR(INDEX('Dln 5'!$M:$M,MATCH($Q$4,'Dln 5'!#REF!,0),1),0) -> 0 | S10: =SUMIF('Dln 5'!#REF!,$S$4,'Dln 5'!$O:$O) -> #REF! | T10: =IFERROR(INDEX('Dln 5'!$M:$M,MATCH($S$4,'Dln 5'!#REF!,0),1),0) -> 0 | U10: =SUMIF('Dln 5'!#REF!,$U$4,'Dln 5'!$O:$O) -> #REF! | V10: =IFERROR(INDEX('Dln 5'!$M:$M,MATCH($U$4,'Dln 5'!#REF!,0),1),0) -> 0 | W10: =SUMIF('Dln 5'!#REF!,$W$4,'Dln 5'!$O:$O) -> #REF! | X10: =IFERROR(INDEX('Dln 5'!$M:$M,MATCH($W$4,'Dln 5'!#REF!,0),1),0) -> 0 | Y10: =SUMIF('Dln 5'!#REF!,$Y$4,'Dln 5'!$O:$O) -> #REF! | Z10: =IFERROR(INDEX('Dln 5'!$M:$M,MATCH($Y$4,'Dln 5'!#REF!,0),1),0) -> 0 | AA10: =SUMIF('Dln 5'!#REF!,$AA$4,'Dln 5'!$O:$O) -> #REF! | AB10: =IFERROR(INDEX('Dln 5'!$M:$M,MATCH($AA$4,'Dln 5'!#REF!,0),1),0) -> 0 | AC10: =SUMIF('Dln 5'!#REF!,$AC$4,'Dln 5'!$O:$O) -> #REF! | AD10: =IFERROR(INDEX('Dln 5'!$M:$M,MATCH($AC$4,'Dln 5'!#REF!,0),1),0) -> 0 | AF10: =SUM(C10,E10,G10,I10,K10,M10,O10,Q10,S10,U10,W10,Y10,AA10,AC10) -> #REF! | AG10: =AF6='Dln 5'!K230 -> TRUE
B11: Dln 6 | C11: =SUMIF('Dln 2'!$C$9,$C$4,'Dln 2'!$K$230) -> 0 | D11: =IFERROR(INDEX('Dln 6'!$M:$M,MATCH($C$4,'Dln 6'!#REF!,0),1),0) -> 0 | E11: =SUMIF('Dln 6'!#REF!,$E$4,'Dln 6'!$O:$O) -> #REF! | F11: =IFERROR(INDEX('Dln 6'!$M:$M,MATCH($E$4,'Dln 6'!#REF!,0),1),0) -> 0 | G11: =SUMIF('Dln 6'!#REF!,$G$4,'Dln 6'!$O:$O) -> #REF! | H11: =IFERROR(INDEX('Dln 6'!$M:$M,MATCH($G$4,'Dln 6'!#REF!,0),1),0) -> 0 | I11: =SUMIF('Dln 6'!#REF!,$I$4,'Dln 6'!$O:$O) -> #REF! | J11: =IFERROR(INDEX('Dln 6'!$M:$M,MATCH($I$4,'Dln 6'!#REF!,0),1),0) -> 0 | K11: =SUMIF('Dln 6'!#REF!,$K$4,'Dln 6'!$O:$O) -> #REF! | L11: =IFERROR(INDEX('Dln 6'!$M:$M,MATCH($K$4,'Dln 6'!#REF!,0),1),0) -> 0 | M11: =SUMIF('Dln 6'!#REF!,$M$4,'Dln 6'!$O:$O) -> #REF! | N11: =IFERROR(INDEX('Dln 6'!$M:$M,MATCH($M$4,'Dln 6'!#REF!,0),1),0) -> 0 | O11: =SUMIF('Dln 6'!#REF!,$O$4,'Dln 6'!$O:$O) -> #REF! | P11: =IFERROR(INDEX('Dln 6'!$M:$M,MATCH($O$4,'Dln 6'!#REF!,0),1),0) -> 0 | Q11: =SUMIF('Dln 6'!#REF!,$Q$4,'Dln 6'!$O:$O) -> #REF! | R11: =IFERROR(INDEX('Dln 6'!$M:$M,MATCH($Q$4,'Dln 6'!#REF!,0),1),0) -> 0 | S11: =SUMIF('Dln 6'!#REF!,$S$4,'Dln 6'!$O:$O) -> #REF! | T11: =IFERROR(INDEX('Dln 6'!$M:$M,MATCH($S$4,'Dln 6'!#REF!,0),1),0) -> 0 | U11: =SUMIF('Dln 6'!#REF!,$U$4,'Dln 6'!$O:$O) -> #REF! | V11: =IFERROR(INDEX('Dln 6'!$M:$M,MATCH($U$4,'Dln 6'!#REF!,0),1),0) -> 0 | W11: =SUMIF('Dln 6'!#REF!,$W$4,'Dln 6'!$O:$O) -> #REF! | X11: =IFERROR(INDEX('Dln 6'!$M:$M,MATCH($W$4,'Dln 6'!#REF!,0),1),0) -> 0 | Y11: =SUMIF('Dln 6'!#REF!,$Y$4,'Dln 6'!$O:$O) -> #REF! | Z11: =IFERROR(INDEX('Dln 6'!$M:$M,MATCH($Y$4,'Dln 6'!#REF!,0),1),0) -> 0 | AA11: =SUMIF('Dln 6'!#REF!,$AA$4,'Dln 6'!$O:$O) -> #REF! | AB11: =IFERROR(INDEX('Dln 6'!$M:$M,MATCH($AA$4,'Dln 6'!#REF!,0),1),0) -> 0 | AC11: =SUMIF('Dln 6'!#REF!,$AC$4,'Dln 6'!$O:$O) -> #REF! | AD11: =IFERROR(INDEX('Dln 6'!$M:$M,MATCH($AC$4,'Dln 6'!#REF!,0),1),0) -> 0 | AF11: =SUM(C11,E11,G11,I11,K11,M11,O11,Q11,S11,U11,W11,Y11,AA11,AC11) -> #REF! | AG11: =AF6='Dln 6'!K230 -> TRUE
B12: Dln 7 | C12: =SUMIF('Dln 2'!$C$9,$C$4,'Dln 2'!$K$230) -> 0 | D12: =IFERROR(INDEX('Dln 7'!$M:$M,MATCH($C$4,'Dln 7'!#REF!,0),1),0) -> 0 | E12: =SUMIF('Dln 7'!#REF!,$E$4,'Dln 7'!$O:$O) -> #REF! | F12: =IFERROR(INDEX('Dln 7'!$M:$M,MATCH($E$4,'Dln 7'!#REF!,0),1),0) -> 0 | G12: =SUMIF('Dln 7'!#REF!,$G$4,'Dln 7'!$O:$O) -> #REF! | H12: =IFERROR(INDEX('Dln 7'!$M:$M,MATCH($G$4,'Dln 7'!#REF!,0),1),0) -> 0 | I12: =SUMIF('Dln 7'!#REF!,$I$4,'Dln 7'!$O:$O) -> #REF! | J12: =IFERROR(INDEX('Dln 7'!$M:$M,MATCH($I$4,'Dln 7'!#REF!,0),1),0) -> 0 | K12: =SUMIF('Dln 7'!#REF!,$K$4,'Dln 7'!$O:$O) -> #REF! | L12: =IFERROR(INDEX('Dln 7'!$M:$M,MATCH($K$4,'Dln 7'!#REF!,0),1),0) -> 0 | M12: =SUMIF('Dln 7'!#REF!,$M$4,'Dln 7'!$O:$O) -> #REF! | N12: =IFERROR(INDEX('Dln 7'!$M:$M,MATCH($M$4,'Dln 7'!#REF!,0),1),0) -> 0 | O12: =SUMIF('Dln 7'!#REF!,$O$4,'Dln 7'!$O:$O) -> #REF! | P12: =IFERROR(INDEX('Dln 7'!$M:$M,MATCH($O$4,'Dln 7'!#REF!,0),1),0) -> 0 | Q12: =SUMIF('Dln 7'!#REF!,$Q$4,'Dln 7'!$O:$O) -> #REF! | R12: =IFERROR(INDEX('Dln 7'!$M:$M,MATCH($Q$4,'Dln 7'!#REF!,0),1),0) -> 0 | S12: =SUMIF('Dln 7'!#REF!,$S$4,'Dln 7'!$O:$O) -> #REF! | T12: =IFERROR(INDEX('Dln 7'!$M:$M,MATCH($S$4,'Dln 7'!#REF!,0),1),0) -> 0 | U12: =SUMIF('Dln 7'!#REF!,$U$4,'Dln 7'!$O:$O) -> #REF! | V12: =IFERROR(INDEX('Dln 7'!$M:$M,MATCH($U$4,'Dln 7'!#REF!,0),1),0) -> 0 | W12: =SUMIF('Dln 7'!#REF!,$W$4,'Dln 7'!$O:$O) -> #REF! | X12: =IFERROR(INDEX('Dln 7'!$M:$M,MATCH($W$4,'Dln 7'!#REF!,0),1),0) -> 0 | Y12: =SUMIF('Dln 7'!#REF!,$Y$4,'Dln 7'!$O:$O) -> #REF! | Z12: =IFERROR(INDEX('Dln 7'!$M:$M,MATCH($Y$4,'Dln 7'!#REF!,0),1),0) -> 0 | AA12: =SUMIF('Dln 7'!#REF!,$AA$4,'Dln 7'!$O:$O) -> #REF! | AB12: =IFERROR(INDEX('Dln 7'!$M:$M,MATCH($AA$4,'Dln 7'!#REF!,0),1),0) -> 0 | AC12: =SUMIF('Dln 7'!#REF!,$AC$4,'Dln 7'!$O:$O) -> #REF! | AD12: =IFERROR(INDEX('Dln 7'!$M:$M,MATCH($AC$4,'Dln 7'!#REF!,0),1),0) -> 0 | AF12: =SUM(C12,E12,G12,I12,K12,M12,O12,Q12,S12,U12,W12,Y12,AA12,AC12) -> #REF! | AG12: =AF6='Dln 7'!K230 -> TRUE
B13: Dln 8 | C13: =SUMIF('Dln 2'!$C$9,$C$4,'Dln 2'!$K$230) -> 0 | D13: =IFERROR(INDEX('Dln 8'!$M:$M,MATCH($C$4,'Dln 8'!#REF!,0),1),0) -> 0 | E13: =SUMIF('Dln 8'!#REF!,$E$4,'Dln 8'!$O:$O) -> #REF! | F13: =IFERROR(INDEX('Dln 8'!$M:$M,MATCH($E$4,'Dln 8'!#REF!,0),1),0) -> 0 | G13: =SUMIF('Dln 8'!#REF!,$G$4,'Dln 8'!$O:$O) -> #REF! | H13: =IFERROR(INDEX('Dln 8'!$M:$M,MATCH($G$4,'Dln 8'!#REF!,0),1),0) -> 0 | I13: =SUMIF('Dln 8'!#REF!,$I$4,'Dln 8'!$O:$O) -> #REF! | J13: =IFERROR(INDEX('Dln 8'!$M:$M,MATCH($I$4,'Dln 8'!#REF!,0),1),0) -> 0 | K13: =SUMIF('Dln 8'!#REF!,$K$4,'Dln 8'!$O:$O) -> #REF! | L13: =IFERROR(INDEX('Dln 8'!$M:$M,MATCH($K$4,'Dln 8'!#REF!,0),1),0) -> 0 | M13: =SUMIF('Dln 8'!#REF!,$M$4,'Dln 8'!$O:$O) -> #REF! | N13: =IFERROR(INDEX('Dln 8'!$M:$M,MATCH($M$4,'Dln 8'!#REF!,0),1),0) -> 0 | O13: =SUMIF('Dln 8'!#REF!,$O$4,'Dln 8'!$O:$O) -> #REF! | P13: =IFERROR(INDEX('Dln 8'!$M:$M,MATCH($O$4,'Dln 8'!#REF!,0),1),0) -> 0 | Q13: =SUMIF('Dln 8'!#REF!,$Q$4,'Dln 8'!$O:$O) -> #REF! | R13: =IFERROR(INDEX('Dln 8'!$M:$M,MATCH($Q$4,'Dln 8'!#REF!,0),1),0) -> 0 | S13: =SUMIF('Dln 8'!#REF!,$S$4,'Dln 8'!$O:$O) -> #REF! | T13: =IFERROR(INDEX('Dln 8'!$M:$M,MATCH($S$4,'Dln 8'!#REF!,0),1),0) -> 0 | U13: =SUMIF('Dln 8'!#REF!,$U$4,'Dln 8'!$O:$O) -> #REF! | V13: =IFERROR(INDEX('Dln 8'!$M:$M,MATCH($U$4,'Dln 8'!#REF!,0),1),0) -> 0 | W13: =SUMIF('Dln 8'!#REF!,$W$4,'Dln 8'!$O:$O) -> #REF! | X13: =IFERROR(INDEX('Dln 8'!$M:$M,MATCH($W$4,'Dln 8'!#REF!,0),1),0) -> 0 | Y13: =SUMIF('Dln 8'!#REF!,$Y$4,'Dln 8'!$O:$O) -> #REF! | Z13: =IFERROR(INDEX('Dln 8'!$M:$M,MATCH($Y$4,'Dln 8'!#REF!,0),1),0) -> 0 | AA13: =SUMIF('Dln 8'!#REF!,$AA$4,'Dln 8'!$O:$O) -> #REF! | AB13: =IFERROR(INDEX('Dln 8'!$M:$M,MATCH($AA$4,'Dln 8'!#REF!,0),1),0) -> 0 | AC13: =SUMIF('Dln 8'!#REF!,$AC$4,'Dln 8'!$O:$O) -> #REF! | AD13: =IFERROR(INDEX('Dln 8'!$M:$M,MATCH($AC$4,'Dln 8'!#REF!,0),1),0) -> 0 | AF13: =SUM(C13,E13,G13,I13,K13,M13,O13,Q13,S13,U13,W13,Y13,AA13,AC13) -> #REF! | AG13: =AF6='Dln 8'!K230 -> TRUE
B14: Dln 9 | C14: =SUMIF('Dln 2'!$C$9,$C$4,'Dln 2'!$K$230) -> 0 | D14: =IFERROR(INDEX('Dln 9'!$M:$M,MATCH($C$4,'Dln 9'!#REF!,0),1),0) -> 0 | E14: =SUMIF('Dln 9'!#REF!,$E$4,'Dln 9'!$O:$O) -> #REF! | F14: =IFERROR(INDEX('Dln 9'!$M:$M,MATCH($E$4,'Dln 9'!#REF!,0),1),0) -> 0 | G14: =SUMIF('Dln 9'!#REF!,$G$4,'Dln 9'!$O:$O) -> #REF! | H14: =IFERROR(INDEX('Dln 9'!$M:$M,MATCH($G$4,'Dln 9'!#REF!,0),1),0) -> 0 | I14: =SUMIF('Dln 9'!#REF!,$I$4,'Dln 9'!$O:$O) -> #REF! | J14: =IFERROR(INDEX('Dln 9'!$M:$M,MATCH($I$4,'Dln 9'!#REF!,0),1),0) -> 0 | K14: =SUMIF('Dln 9'!#REF!,$K$4,'Dln 9'!$O:$O) -> #REF! | L14: =IFERROR(INDEX('Dln 9'!$M:$M,MATCH($K$4,'Dln 9'!#REF!,0),1),0) -> 0 | M14: =SUMIF('Dln 9'!#REF!,$M$4,'Dln 9'!$O:$O) -> #REF! | N14: =IFERROR(INDEX('Dln 9'!$M:$M,MATCH($M$4,'Dln 9'!#REF!,0),1),0) -> 0 | O14: =SUMIF('Dln 9'!#REF!,$O$4,'Dln 9'!$O:$O) -> #REF! | P14: =IFERROR(INDEX('Dln 9'!$M:$M,MATCH($O$4,'Dln 9'!#REF!,0),1),0) -> 0 | Q14: =SUMIF('Dln 9'!#REF!,$Q$4,'Dln 9'!$O:$O) -> #REF! | R14: =IFERROR(INDEX('Dln 9'!$M:$M,MATCH($Q$4,'Dln 9'!#REF!,0),1),0) -> 0 | S14: =SUMIF('Dln 9'!#REF!,$S$4,'Dln 9'!$O:$O) -> #REF! | T14: =IFERROR(INDEX('Dln 9'!$M:$M,MATCH($S$4,'Dln 9'!#REF!,0),1),0) -> 0 | U14: =SUMIF('Dln 9'!#REF!,$U$4,'Dln 9'!$O:$O) -> #REF! | V14: =IFERROR(INDEX('Dln 9'!$M:$M,MATCH($U$4,'Dln 9'!#REF!,0),1),0) -> 0 | W14: =SUMIF('Dln 9'!#REF!,$W$4,'Dln 9'!$O:$O) -> #REF! | X14: =IFERROR(INDEX('Dln 9'!$M:$M,MATCH($W$4,'Dln 9'!#REF!,0),1),0) -> 0 | Y14: =SUMIF('Dln 9'!#REF!,$Y$4,'Dln 9'!$O:$O) -> #REF! | Z14: =IFERROR(INDEX('Dln 9'!$M:$M,MATCH($Y$4,'Dln 9'!#REF!,0),1),0) -> 0 | AA14: =SUMIF('Dln 9'!#REF!,$AA$4,'Dln 9'!$O:$O) -> #REF! | AB14: =IFERROR(INDEX('Dln 9'!$M:$M,MATCH($AA$4,'Dln 9'!#REF!,0),1),0) -> 0 | AC14: =SUMIF('Dln 9'!#REF!,$AC$4,'Dln 9'!$O:$O) -> #REF! | AD14: =IFERROR(INDEX('Dln 9'!$M:$M,MATCH($AC$4,'Dln 9'!#REF!,0),1),0) -> 0 | AF14: =SUM(C14,E14,G14,I14,K14,M14,O14,Q14,S14,U14,W14,Y14,AA14,AC14) -> #REF! | AG14: =AF6='Dln 9'!K230 -> TRUE
B15: Dln 10 | C15: =SUMIF('Dln 2'!$C$9,$C$4,'Dln 2'!$K$230) -> 0 | D15: =IFERROR(INDEX('Dln 10'!$M:$M,MATCH($C$4,'Dln 10'!#REF!,0),1),0) -> 0 | E15: =SUMIF('Dln 10'!#REF!,$E$4,'Dln 10'!$O:$O) -> #REF! | F15: =IFERROR(INDEX('Dln 10'!$M:$M,MATCH($E$4,'Dln 10'!#REF!,0),1),0) -> 0 | G15: =SUMIF('Dln 10'!#REF!,$G$4,'Dln 10'!$O:$O) -> #REF! | H15: =IFERROR(INDEX('Dln 10'!$M:$M,MATCH($G$4,'Dln 10'!#REF!,0),1),0) -> 0 | I15: =SUMIF('Dln 10'!#REF!,$I$4,'Dln 10'!$O:$O) -> #REF! | J15: =IFERROR(INDEX('Dln 10'!$M:$M,MATCH($I$4,'Dln 10'!#REF!,0),1),0) -> 0 | K15: =SUMIF('Dln 10'!#REF!,$K$4,'Dln 10'!$O:$O) -> #REF! | L15: =IFERROR(INDEX('Dln 10'!$M:$M,MATCH($K$4,'Dln 10'!#REF!,0),1),0) -> 0 | M15: =SUMIF('Dln 10'!#REF!,$M$4,'Dln 10'!$O:$O) -> #REF! | N15: =IFERROR(INDEX('Dln 10'!$M:$M,MATCH($M$4,'Dln 10'!#REF!,0),1),0) -> 0 | O15: =SUMIF('Dln 10'!#REF!,$O$4,'Dln 10'!$O:$O) -> #REF! | P15: =IFERROR(INDEX('Dln 10'!$M:$M,MATCH($O$4,'Dln 10'!#REF!,0),1),0) -> 0 | Q15: =SUMIF('Dln 10'!#REF!,$Q$4,'Dln 10'!$O:$O) -> #REF! | R15: =IFERROR(INDEX('Dln 10'!$M:$M,MATCH($Q$4,'Dln 10'!#REF!,0),1),0) -> 0 | S15: =SUMIF('Dln 10'!#REF!,$S$4,'Dln 10'!$O:$O) -> #REF! | T15: =IFERROR(INDEX('Dln 10'!$M:$M,MATCH($S$4,'Dln 10'!#REF!,0),1),0) -> 0 | U15: =SUMIF('Dln 10'!#REF!,$U$4,'Dln 10'!$O:$O) -> #REF! | V15: =IFERROR(INDEX('Dln 10'!$M:$M,MATCH($U$4,'Dln 10'!#REF!,0),1),0) -> 0 | W15: =SUMIF('Dln 10'!#REF!,$W$4,'Dln 10'!$O:$O) -> #REF! | X15: =IFERROR(INDEX('Dln 10'!$M:$M,MATCH($W$4,'Dln 10'!#REF!,0),1),0) -> 0 | Y15: =SUMIF('Dln 10'!#REF!,$Y$4,'Dln 10'!$O:$O) -> #REF! | Z15: =IFERROR(INDEX('Dln 10'!$M:$M,MATCH($Y$4,'Dln 10'!#REF!,0),1),0) -> 0 | AA15: =SUMIF('Dln 10'!#REF!,$AA$4,'Dln 10'!$O:$O) -> #REF! | AB15: =IFERROR(INDEX('Dln 10'!$M:$M,MATCH($AA$4,'Dln 10'!#REF!,0),1),0) -> 0 | AC15: =SUMIF('Dln 10'!#REF!,$AC$4,'Dln 10'!$O:$O) -> #REF! | AD15: =IFERROR(INDEX('Dln 10'!$M:$M,MATCH($AC$4,'Dln 10'!#REF!,0),1),0) -> 0 | AF15: =SUM(C15,E15,G15,I15,K15,M15,O15,Q15,S15,U15,W15,Y15,AA15,AC15) -> #REF! | AG15: =AF6='Dln 10'!K230 -> TRUE
B16: Dln 11 | C16: =SUMIF('Dln 2'!$C$9,$C$4,'Dln 2'!$K$230) -> 0 | D16: =IFERROR(INDEX('Dln 11'!$M:$M,MATCH($C$4,'Dln 11'!#REF!,0),1),0) -> 0 | E16: =SUMIF('Dln 11'!#REF!,$E$4,'Dln 11'!$O:$O) -> #REF! | F16: =IFERROR(INDEX('Dln 11'!$M:$M,MATCH($E$4,'Dln 11'!#REF!,0),1),0) -> 0 | G16: =SUMIF('Dln 11'!#REF!,$G$4,'Dln 11'!$O:$O) -> #REF! | H16: =IFERROR(INDEX('Dln 11'!$M:$M,MATCH($G$4,'Dln 11'!#REF!,0),1),0) -> 0 | I16: =SUMIF('Dln 11'!#REF!,$I$4,'Dln 11'!$O:$O) -> #REF! | J16: =IFERROR(INDEX('Dln 11'!$M:$M,MATCH($I$4,'Dln 11'!#REF!,0),1),0) -> 0 | K16: =SUMIF('Dln 11'!#REF!,$K$4,'Dln 11'!$O:$O) -> #REF! | L16: =IFERROR(INDEX('Dln 11'!$M:$M,MATCH($K$4,'Dln 11'!#REF!,0),1),0) -> 0 | M16: =SUMIF('Dln 11'!#REF!,$M$4,'Dln 11'!$O:$O) -> #REF! | N16: =IFERROR(INDEX('Dln 11'!$M:$M,MATCH($M$4,'Dln 11'!#REF!,0),1),0) -> 0 | O16: =SUMIF('Dln 11'!#REF!,$O$4,'Dln 11'!$O:$O) -> #REF! | P16: =IFERROR(INDEX('Dln 11'!$M:$M,MATCH($O$4,'Dln 11'!#REF!,0),1),0) -> 0 | Q16: =SUMIF('Dln 11'!#REF!,$Q$4,'Dln 11'!$O:$O) -> #REF! | R16: =IFERROR(INDEX('Dln 11'!$M:$M,MATCH($Q$4,'Dln 11'!#REF!,0),1),0) -> 0 | S16: =SUMIF('Dln 11'!#REF!,$S$4,'Dln 11'!$O:$O) -> #REF! | T16: =IFERROR(INDEX('Dln 11'!$M:$M,MATCH($S$4,'Dln 11'!#REF!,0),1),0) -> 0 | U16: =SUMIF('Dln 11'!#REF!,$U$4,'Dln 11'!$O:$O) -> #REF! | V16: =IFERROR(INDEX('Dln 11'!$M:$M,MATCH($U$4,'Dln 11'!#REF!,0),1),0) -> 0 | W16: =SUMIF('Dln 11'!#REF!,$W$4,'Dln 11'!$O:$O) -> #REF! | X16: =IFERROR(INDEX('Dln 11'!$M:$M,MATCH($W$4,'Dln 11'!#REF!,0),1),0) -> 0 | Y16: =SUMIF('Dln 11'!#REF!,$Y$4,'Dln 11'!$O:$O) -> #REF! | Z16: =IFERROR(INDEX('Dln 11'!$M:$M,MATCH($Y$4,'Dln 11'!#REF!,0),1),0) -> 0 | AA16: =SUMIF('Dln 11'!#REF!,$AA$4,'Dln 11'!$O:$O) -> #REF! | AB16: =IFERROR(INDEX('Dln 11'!$M:$M,MATCH($AA$4,'Dln 11'!#REF!,0),1),0) -> 0 | AC16: =SUMIF('Dln 11'!#REF!,$AC$4,'Dln 11'!$O:$O) -> #REF! | AD16: =IFERROR(INDEX('Dln 11'!$M:$M,MATCH($AC$4,'Dln 11'!#REF!,0),1),0) -> 0 | AF16: =SUM(C16,E16,G16,I16,K16,M16,O16,Q16,S16,U16,W16,Y16,AA16,AC16) -> #REF! | AG16: =AF6='Dln 11'!K230 -> TRUE
B17: Dln 12 | C17: =SUMIF('Dln 2'!$C$9,$C$4,'Dln 2'!$K$230) -> 0 | D17: =IFERROR(INDEX('Dln 12'!$M:$M,MATCH($C$4,'Dln 12'!#REF!,0),1),0) -> 0 | E17: =SUMIF('Dln 12'!#REF!,$E$4,'Dln 12'!$O:$O) -> #REF! | F17: =IFERROR(INDEX('Dln 12'!$M:$M,MATCH($E$4,'Dln 12'!#REF!,0),1),0) -> 0 | G17: =SUMIF('Dln 12'!#REF!,$G$4,'Dln 12'!$O:$O) -> #REF! | H17: =IFERROR(INDEX('Dln 12'!$M:$M,MATCH($G$4,'Dln 12'!#REF!,0),1),0) -> 0 | I17: =SUMIF('Dln 12'!#REF!,$I$4,'Dln 12'!$O:$O) -> #REF! | J17: =IFERROR(INDEX('Dln 12'!$M:$M,MATCH($I$4,'Dln 12'!#REF!,0),1),0) -> 0 | K17: =SUMIF('Dln 12'!#REF!,$K$4,'Dln 12'!$O:$O) -> #REF! | L17: =IFERROR(INDEX('Dln 12'!$M:$M,MATCH($K$4,'Dln 12'!#REF!,0),1),0) -> 0 | M17: =SUMIF('Dln 12'!#REF!,$M$4,'Dln 12'!$O:$O) -> #REF! | N17: =IFERROR(INDEX('Dln 12'!$M:$M,MATCH($M$4,'Dln 12'!#REF!,0),1),0) -> 0 | O17: =SUMIF('Dln 12'!#REF!,$O$4,'Dln 12'!$O:$O) -> #REF! | P17: =IFERROR(INDEX('Dln 12'!$M:$M,MATCH($O$4,'Dln 12'!#REF!,0),1),0) -> 0 | Q17: =SUMIF('Dln 12'!#REF!,$Q$4,'Dln 12'!$O:$O) -> #REF! | R17: =IFERROR(INDEX('Dln 12'!$M:$M,MATCH($Q$4,'Dln 12'!#REF!,0),1),0) -> 0 | S17: =SUMIF('Dln 12'!#REF!,$S$4,'Dln 12'!$O:$O) -> #REF! | T17: =IFERROR(INDEX('Dln 12'!$M:$M,MATCH($S$4,'Dln 12'!#REF!,0),1),0) -> 0 | U17: =SUMIF('Dln 12'!#REF!,$U$4,'Dln 12'!$O:$O) -> #REF! | V17: =IFERROR(INDEX('Dln 12'!$M:$M,MATCH($U$4,'Dln 12'!#REF!,0),1),0) -> 0 | W17: =SUMIF('Dln 12'!#REF!,$W$4,'Dln 12'!$O:$O) -> #REF! | X17: =IFERROR(INDEX('Dln 12'!$M:$M,MATCH($W$4,'Dln 12'!#REF!,0),1),0) -> 0 | Y17: =SUMIF('Dln 12'!#REF!,$Y$4,'Dln 12'!$O:$O) -> #REF! | Z17: =IFERROR(INDEX('Dln 12'!$M:$M,MATCH($Y$4,'Dln 12'!#REF!,0),1),0) -> 0 | AA17: =SUMIF('Dln 12'!#REF!,$AA$4,'Dln 12'!$O:$O) -> #REF! | AB17: =IFERROR(INDEX('Dln 12'!$M:$M,MATCH($AA$4,'Dln 12'!#REF!,0),1),0) -> 0 | AC17: =SUMIF('Dln 12'!#REF!,$AC$4,'Dln 12'!$O:$O) -> #REF! | AD17: =IFERROR(INDEX('Dln 12'!$M:$M,MATCH($AC$4,'Dln 12'!#REF!,0),1),0) -> 0 | AF17: =SUM(C17,E17,G17,I17,K17,M17,O17,Q17,S17,U17,W17,Y17,AA17,AC17) -> #REF! | AG17: =AF6='Dln 12'!K230 -> TRUE
B18: Dln 13 | C18: =SUMIF('Dln 2'!$C$9,$C$4,'Dln 2'!$K$230) -> 0 | D18: =IFERROR(INDEX('Dln 13'!$M:$M,MATCH($C$4,'Dln 13'!#REF!,0),1),0) -> 0 | E18: =SUMIF('Dln 13'!#REF!,$E$4,'Dln 13'!$O:$O) -> #REF! | F18: =IFERROR(INDEX('Dln 13'!$M:$M,MATCH($E$4,'Dln 13'!#REF!,0),1),0) -> 0 | G18: =SUMIF('Dln 13'!#REF!,$G$4,'Dln 13'!$O:$O) -> #REF! | H18: =IFERROR(INDEX('Dln 13'!$M:$M,MATCH($G$4,'Dln 13'!#REF!,0),1),0) -> 0 | I18: =SUMIF('Dln 13'!#REF!,$I$4,'Dln 13'!$O:$O) -> #REF! | J18: =IFERROR(INDEX('Dln 13'!$M:$M,MATCH($I$4,'Dln 13'!#REF!,0),1),0) -> 0 | K18: =SUMIF('Dln 13'!#REF!,$K$4,'Dln 13'!$O:$O) -> #REF! | L18: =IFERROR(INDEX('Dln 13'!$M:$M,MATCH($K$4,'Dln 13'!#REF!,0),1),0) -> 0 | M18: =SUMIF('Dln 13'!#REF!,$M$4,'Dln 13'!$O:$O) -> #REF! | N18: =IFERROR(INDEX('Dln 13'!$M:$M,MATCH($M$4,'Dln 13'!#REF!,0),1),0) -> 0 | O18: =SUMIF('Dln 13'!#REF!,$O$4,'Dln 13'!$O:$O) -> #REF! | P18: =IFERROR(INDEX('Dln 13'!$M:$M,MATCH($O$4,'Dln 13'!#REF!,0),1),0) -> 0 | Q18: =SUMIF('Dln 13'!#REF!,$Q$4,'Dln 13'!$O:$O) -> #REF! | R18: =IFERROR(INDEX('Dln 13'!$M:$M,MATCH($Q$4,'Dln 13'!#REF!,0),1),0) -> 0 | S18: =SUMIF('Dln 13'!#REF!,$S$4,'Dln 13'!$O:$O) -> #REF! | T18: =IFERROR(INDEX('Dln 13'!$M:$M,MATCH($S$4,'Dln 13'!#REF!,0),1),0) -> 0 | U18: =SUMIF('Dln 13'!#REF!,$U$4,'Dln 13'!$O:$O) -> #REF! | V18: =IFERROR(INDEX('Dln 13'!$M:$M,MATCH($U$4,'Dln 13'!#REF!,0),1),0) -> 0 | W18: =SUMIF('Dln 13'!#REF!,$W$4,'Dln 13'!$O:$O) -> #REF! | X18: =IFERROR(INDEX('Dln 13'!$M:$M,MATCH($W$4,'Dln 13'!#REF!,0),1),0) -> 0 | Y18: =SUMIF('Dln 13'!#REF!,$Y$4,'Dln 13'!$O:$O) -> #REF! | Z18: =IFERROR(INDEX('Dln 13'!$M:$M,MATCH($Y$4,'Dln 13'!#REF!,0),1),0) -> 0 | AA18: =SUMIF('Dln 13'!#REF!,$AA$4,'Dln 13'!$O:$O) -> #REF! | AB18: =IFERROR(INDEX('Dln 13'!$M:$M,MATCH($AA$4,'Dln 13'!#REF!,0),1),0) -> 0 | AC18: =SUMIF('Dln 13'!#REF!,$AC$4,'Dln 13'!$O:$O) -> #REF! | AD18: =IFERROR(INDEX('Dln 13'!$M:$M,MATCH($AC$4,'Dln 13'!#REF!,0),1),0) -> 0 | AF18: =SUM(C18,E18,G18,I18,K18,M18,O18,Q18,S18,U18,W18,Y18,AA18,AC18) -> #REF! | AG18: =AF6='Dln 13'!K230 -> TRUE
B19: Dln 14 | C19: =SUMIF('Dln 2'!$C$9,$C$4,'Dln 2'!$K$230) -> 0 | D19: =IFERROR(INDEX('Dln 14'!$M:$M,MATCH($C$4,'Dln 14'!#REF!,0),1),0) -> 0 | E19: =SUMIF('Dln 14'!#REF!,$E$4,'Dln 14'!$O:$O) -> #REF! | F19: =IFERROR(INDEX('Dln 14'!$M:$M,MATCH($E$4,'Dln 14'!#REF!,0),1),0) -> 0 | G19: =SUMIF('Dln 14'!#REF!,$G$4,'Dln 14'!$O:$O) -> #REF! | H19: =IFERROR(INDEX('Dln 14'!$M:$M,MATCH($G$4,'Dln 14'!#REF!,0),1),0) -> 0 | I19: =SUMIF('Dln 14'!#REF!,$I$4,'Dln 14'!$O:$O) -> #REF! | J19: =IFERROR(INDEX('Dln 14'!$M:$M,MATCH($I$4,'Dln 14'!#REF!,0),1),0) -> 0 | K19: =SUMIF('Dln 14'!#REF!,$K$4,'Dln 14'!$O:$O) -> #REF! | L19: =IFERROR(INDEX('Dln 14'!$M:$M,MATCH($K$4,'Dln 14'!#REF!,0),1),0) -> 0 | M19: =SUMIF('Dln 14'!#REF!,$M$4,'Dln 14'!$O:$O) -> #REF! | N19: =IFERROR(INDEX('Dln 14'!$M:$M,MATCH($M$4,'Dln 14'!#REF!,0),1),0) -> 0 | O19: =SUMIF('Dln 14'!#REF!,$O$4,'Dln 14'!$O:$O) -> #REF! | P19: =IFERROR(INDEX('Dln 14'!$M:$M,MATCH($O$4,'Dln 14'!#REF!,0),1),0) -> 0 | Q19: =SUMIF('Dln 14'!#REF!,$Q$4,'Dln 14'!$O:$O) -> #REF! | R19: =IFERROR(INDEX('Dln 14'!$M:$M,MATCH($Q$4,'Dln 14'!#REF!,0),1),0) -> 0 | S19: =SUMIF('Dln 14'!#REF!,$S$4,'Dln 14'!$O:$O) -> #REF! | T19: =IFERROR(INDEX('Dln 14'!$M:$M,MATCH($S$4,'Dln 14'!#REF!,0),1),0) -> 0 | U19: =SUMIF('Dln 14'!#REF!,$U$4,'Dln 14'!$O:$O) -> #REF! | V19: =IFERROR(INDEX('Dln 14'!$M:$M,MATCH($U$4,'Dln 14'!#REF!,0),1),0) -> 0 | W19: =SUMIF('Dln 14'!#REF!,$W$4,'Dln 14'!$O:$O) -> #REF! | X19: =IFERROR(INDEX('Dln 14'!$M:$M,MATCH($W$4,'Dln 14'!#REF!,0),1),0) -> 0 | Y19: =SUMIF('Dln 14'!#REF!,$Y$4,'Dln 14'!$O:$O) -> #REF! | Z19: =IFERROR(INDEX('Dln 14'!$M:$M,MATCH($Y$4,'Dln 14'!#REF!,0),1),0) -> 0 | AA19: =SUMIF('Dln 14'!#REF!,$AA$4,'Dln 14'!$O:$O) -> #REF! | AB19: =IFERROR(INDEX('Dln 14'!$M:$M,MATCH($AA$4,'Dln 14'!#REF!,0),1),0) -> 0 | AC19: =SUMIF('Dln 14'!#REF!,$AC$4,'Dln 14'!$O:$O) -> #REF! | AD19: =IFERROR(INDEX('Dln 14'!$M:$M,MATCH($AC$4,'Dln 14'!#REF!,0),1),0) -> 0 | AF19: =SUM(C19,E19,G19,I19,K19,M19,O19,Q19,S19,U19,W19,Y19,AA19,AC19) -> #REF! | AG19: =AF6='Dln 14'!K230 -> TRUE
B20: Dln 15 | C20: =SUMIF('Dln 2'!$C$9,$C$4,'Dln 2'!$K$230) -> 0 | D20: =IFERROR(INDEX('Dln 15'!$M:$M,MATCH($C$4,'Dln 15'!#REF!,0),1),0) -> 0 | E20: =SUMIF('Dln 15'!#REF!,$E$4,'Dln 15'!$O:$O) -> #REF! | F20: =IFERROR(INDEX('Dln 15'!$M:$M,MATCH($E$4,'Dln 15'!#REF!,0),1),0) -> 0 | G20: =SUMIF('Dln 15'!#REF!,$G$4,'Dln 15'!$O:$O) -> #REF! | H20: =IFERROR(INDEX('Dln 15'!$M:$M,MATCH($G$4,'Dln 15'!#REF!,0),1),0) -> 0 | I20: =SUMIF('Dln 15'!#REF!,$I$4,'Dln 15'!$O:$O) -> #REF! | J20: =IFERROR(INDEX('Dln 15'!$M:$M,MATCH($I$4,'Dln 15'!#REF!,0),1),0) -> 0 | K20: =SUMIF('Dln 15'!#REF!,$K$4,'Dln 15'!$O:$O) -> #REF! | L20: =IFERROR(INDEX('Dln 15'!$M:$M,MATCH($K$4,'Dln 15'!#REF!,0),1),0) -> 0 | M20: =SUMIF('Dln 15'!#REF!,$M$4,'Dln 15'!$O:$O) -> #REF! | N20: =IFERROR(INDEX('Dln 15'!$M:$M,MATCH($M$4,'Dln 15'!#REF!,0),1),0) -> 0 | O20: =SUMIF('Dln 15'!#REF!,$O$4,'Dln 15'!$O:$O) -> #REF! | P20: =IFERROR(INDEX('Dln 15'!$M:$M,MATCH($O$4,'Dln 15'!#REF!,0),1),0) -> 0 | Q20: =SUMIF('Dln 15'!#REF!,$Q$4,'Dln 15'!$O:$O) -> #REF! | R20: =IFERROR(INDEX('Dln 15'!$M:$M,MATCH($Q$4,'Dln 15'!#REF!,0),1),0) -> 0 | S20: =SUMIF('Dln 15'!#REF!,$S$4,'Dln 15'!$O:$O) -> #REF! | T20: =IFERROR(INDEX('Dln 15'!$M:$M,MATCH($S$4,'Dln 15'!#REF!,0),1),0) -> 0 | U20: =SUMIF('Dln 15'!#REF!,$U$4,'Dln 15'!$O:$O) -> #REF! | V20: =IFERROR(INDEX('Dln 15'!$M:$M,MATCH($U$4,'Dln 15'!#REF!,0),1),0) -> 0 | W20: =SUMIF('Dln 15'!#REF!,$W$4,'Dln 15'!$O:$O) -> #REF! | X20: =IFERROR(INDEX('Dln 15'!$M:$M,MATCH($W$4,'Dln 15'!#REF!,0),1),0) -> 0 | Y20: =SUMIF('Dln 15'!#REF!,$Y$4,'Dln 15'!$O:$O) -> #REF! | Z20: =IFERROR(INDEX('Dln 15'!$M:$M,MATCH($Y$4,'Dln 15'!#REF!,0),1),0) -> 0 | AA20: =SUMIF('Dln 15'!#REF!,$AA$4,'Dln 15'!$O:$O) -> #REF! | AB20: =IFERROR(INDEX('Dln 15'!$M:$M,MATCH($AA$4,'Dln 15'!#REF!,0),1),0) -> 0 | AC20: =SUMIF('Dln 15'!#REF!,$AC$4,'Dln 15'!$O:$O) -> #REF! | AD20: =IFERROR(INDEX('Dln 15'!$M:$M,MATCH($AC$4,'Dln 15'!#REF!,0),1),0) -> 0 | AF20: =SUM(C20,E20,G20,I20,K20,M20,O20,Q20,S20,U20,W20,Y20,AA20,AC20) -> #REF! | AG20: =AF6='Dln 15'!K230 -> TRUE
