Workbook
Name _Hlk215498732: Toelichting!$A$145
Name Activiteit1: Hulpsheets!$BD$4:$BD$5
Name Activiteit2: Hulpsheets!#REF!
Name AGVV: Hulpsheets!$AE$17:$AE$17
Name Costs: [1]hulpsheets!$J$1:$J$9
Name Costs: Hulpsheets!$AW$6:$AW$12
Name DAEB: Hulpsheets!#REF!
Name Deminimis: Hulpsheets!#REF!
Name NFU: Hulpsheets!$L$4:$L$10
Name NFU_Functie: Hulpsheets!$L$3:$L$9
Name Niet_economische_activiteit: Hulpsheets!#REF!
Name Ondernemingen: Hulpsheets!$AE$11:$AE$12
Name Onderzoeksorganisaties: Hulpsheets!$AE$5:$AE$7
Name organisation: 'Dln 1'!#REF!
Name organisation: 'Dln 10'!#REF!
Name organisation: 'Dln 11'!#REF!
Name organisation: 'Dln 12'!#REF!
Name organisation: 'Dln 13'!#REF!
Name organisation: 'Dln 14'!#REF!
Name organisation: 'Dln 15'!#REF!
Name organisation: 'Dln 16'!#REF!
Name organisation: 'Dln 17'!#REF!
Name organisation: 'Dln 18'!#REF!
Name organisation: 'Dln 19'!#REF!
Name organisation: 'Dln 2'!#REF!
Name organisation: 'Dln 20'!#REF!
Name organisation: 'Dln 3'!#REF!
Name organisation: 'Dln 4'!#REF!
Name organisation: 'Dln 5'!#REF!
Name organisation: 'Dln 6'!#REF!
Name organisation: 'Dln 7'!#REF!
Name organisation: 'Dln 8'!#REF!
Name organisation: 'Dln 9'!#REF!
Name organisation: #REF!
Name organisation: #REF!
Name Overig: Hulpsheets!$AU$3:$AU$3
Name Ruling: [2]hulpsheets!$A$1:$A$3
Name Ruling: Hulpsheets!$J$4:$J$6
Name Tabel_NFU: [2]hulpsheets!$H$14:$N$110
Name Tabel_NFU: Hulpsheets!$W$3:$AC$99
Name Tabel_UNL: Hulpsheets!$P$3:$U$123
Name Tabel_VSNU: [2]hulpsheets!$A$14:$F$110
Name Type_organisation: Hulpsheets!$F$4:$F$9
Name UNL: Hulpsheets!$N$4:$N$9
Name UNL_Functie: Hulpsheets!$N$3:$N$8

Sheet Hulpsheets
B1: Basisgegevens | J1: Tabblad per deelnemer
P2: UNL kosten | Q2: Tabel 01/7/2025 | W2: NFU kosten | X2: Tabel 01/07/2026 | AG2: ZONDER Samenwerking | AN2: MET Samenwerking
B3: Samenwerkingsverband? | D3: Provincies | F3: Type organisatie | H3: Type activiteit | J3: NFU/UNL | L3: NFU | N3: UNL | P3: Aantal maanden | Q3: {=TRANSPOSE(N4:N8)} -> Promovendus | R3: Sr.wet. Medewerker | S3: NWP-MBO | T3: NWP-HBO | U3: NWP-Academisch | W3: Aantal maanden | X3: {=TRANSPOSE(L4:L9)} -> Promovendus | Y3: PostDoc | Z3: (Arts) onderzoeker | AA3: NWP-MBO | AB3: NWP-HBO | AC3: NWP-Academisch | AH3: Onderzoeksorganisatie | AI3: Grote onderneming | AJ3: Middelgrote onderneming | AK3: Kleine onderneming | AL3: Maximum subsidiebedrag | AO3: Onderzoeksorganisatie | AP3: Grote onderneming | AQ3: Middelgrote onderneming | AR3: Kleine onderneming | AS3: Maximum subsidiebedrag | AU3: Salarisaanvraag | AW3: Afschrijvingen | AX3: Afschrijving jaar 1 | AY3: Afschrijving jaar 2 | AZ3: Afschrijving jaar 3 | BA3: Afschrijving jaar 4 | BB3: Afschrijving jaar 5 | BD3: Activiteit onderzoeksorganisatie
B4: Ja | D4: Drenthe | F4: Universitair Medisch Centrum | H4: Kleine onderneming | J4: NFU | L4: Promovendus | N4: Promovendus | P4: 1 | Q4: 5062 | R4: 7825 | S4: 5868 | T4: 7019 | U4: 8369 | W4: 1 | X4: 5114 | Y4: 8491 | Z4: 7097 | AA4: 5921 | AB4: 7097 | AC4: 8491 | AE4: Onderzoeksorganisaties | AG4: Niet-economische activiteit | AH4: 1 | AI4: 1 | AJ4: 1 | AK4: 1 | AL4: 1000000000 | AN4: Niet-economische activiteit | AO4: 1 | AP4: 1 | AQ4: 1 | AR4: 1 | AS4: 1000000000 | AU4: Ja | AW4: Computer | AX4: 0.4 | AY4: 0.3 | AZ4: 0.2 | BA4: 0.1 | BB4: 0 | BD4: Niet-economische activiteit
B5: Nee | D5: Flevoland | F5: Universiteit | H5: Middelgrote onderneming | J5: UNL | L5: PostDoc | N5: Sr.wet. Medewerker | P5: 2 | Q5: 10124 | R5: 15650 | S5: 11736 | T5: 14038 | U5: 16738 | W5: 2 | X5: 10229 | Y5: 16983 | Z5: 14194 | AA5: 11841 | AB5: 14194 | AC5: 16983 | AE5: Geen staatssteun | AG5: Deminimis | AH5: 1 | AI5: 1 | AJ5: 1 | AK5: 1 | AL5: 300000 | AN5: Deminimis | AO5: 1 | AP5: 1 | AQ5: 1 | AR5: 1 | AS5: 300000 | AU5: Nee | AW5: Overig | AX5: 0.2 | AY5: 0.2 | AZ5: 0.2 | BA5: 0.2 | BB5: 0.2 | BD5: Economische activiteit
D6: Friesland | F6: Belangengroep/Belangenorganisatie | H6: Grote onderneming | J6: Overig | L6: (Arts) onderzoeker | N6: NWP-MBO | P6: 3 | Q6: 15186 | R6: 23475 | S6: 17604 | T6: 21057 | U6: 25107 | W6: 3 | X6: 15343 | Y6: 25474 | Z6: 21291 | AA6: 17762 | AB6: 21291 | AC6: 25474 | AE6: Deminimis | AG6: AGVV art. 18 - Consultancysteun voor MKB | AH6: 0.5 | AI6: 0.5 | AJ6: 0.5 | AK6: 0.5 | AL6: 2200000 | AN6: AGVV art. 18 - Consultancysteun voor MKB | AO6: 0.5 | AP6: 0.5 | AQ6: 0.5 | AR6: 0.5 | AS6: 2200000
D7: Gelderland | F7: Onderzoeksorganisatie (conform EU O&O&I kader) | L7: NWP-MBO | N7: NWP-HBO | P7: 4 | Q7: 20248 | R7: 31300 | S7: 23472 | T7: 28076 | U7: 33475 | W7: 4 | X7: 20458 | Y7: 33965 | Z7: 28388 | AA7: 23682 | AB7: 28388 | AC7: 33965 | AE7: AGVV | AG7: AGVV art. 25(2)(a) - Fundamenteel onderzoek | AH7: 1 | AI7: 1 | AJ7: 1 | AK7: 1 | AL7: 55000000 | AN7: AGVV art. 25(2)(a) - Fundamenteel onderzoek | AO7: 1 | AP7: 1 | AQ7: 1 | AR7: 1 | AS7: 55000000 | AU7: Steunintensiteit en % verborgen onder de groepering. | BD7: Activiteit onderneming
D8: Groningen | F8: Organisaties met een wettelijke taak | L8: NWP-HBO | N8: NWP-Academisch | P8: 5 | Q8: 25310 | R8: 39125 | S8: 29340 | T8: 35095 | U8: 41844 | W8: 5 | X8: 25572 | Y8: 42456 | Z8: 35485 | AA8: 29603 | AB8: 35485 | AC8: 42456 | AG8: AGVV art. 25(2)(b) - Industrieel onderzoek | AH8: 0.5 | AI8: 0.5 | AJ8: 0.6 | AK8: 0.7 | AL8: 35000000 | AN8: AGVV art. 25(2)(b) - Industrieel onderzoek | AO8: 0.65 | AP8: 0.65 | AQ8: 0.75 | AR8: 0.8 | AS8: 35000000
D9: Limburg | F9: Overige (zorg-)instellingen | L9: NWP-Academisch | N9: Medische Specialist | P9: 6 | Q9: 30372 | R9: 46951 | S9: 35208 | T9: 42115 | U9: 50213 | W9: 6 | X9: 30687 | Y9: 50948 | Z9: 42582 | AA9: 35523 | AB9: 42582 | AC9: 50948 | AG9: AGVV art. 25(2)(c) - Experimentele ontwikkeling | AH9: 0.25 | AI9: 0.25 | AJ9: 0.35 | AK9: 0.45 | AL9: 25000000 | AN9: AGVV art. 25(2)(c) - Experimentele ontwikkeling | AO9: 0.4 | AP9: 0.4 | AQ9: 0.5 | AR9: 0.6 | AS9: 25000000
D10: Noord-Brabant | L10: Medische Specialist | P10: 7 | Q10: 35434 | R10: 54776 | S10: 41076 | T10: 49134 | U10: 58582 | W10: 7 | X10: 35801 | Y10: 59439 | Z10: 49679 | AA10: 41444 | AB10: 49679 | AC10: 59439 | AE10: Ondernemingen | AG10: AGVV art. 25(2)(d) - Haalbaarheidsstudies | AH10: 0.5 | AI10: 0.5 | AJ10: 0.6 | AK10: 0.7 | AL10: 8250000 | AN10: AGVV art. 25(2)(d) - Haalbaarheidsstudies | AO10: 0.5 | AP10: 0.5 | AQ10: 0.6 | AR10: 0.7 | AS10: 8250000
D11: Noord-Holland | P11: 8 | Q11: 40496 | R11: 62601 | S11: 46944 | T11: 56153 | U11: 66951 | W11: 8 | X11: 40915 | Y11: 67930 | Z11: 56776 | AA11: 47364 | AB11: 56776 | AC11: 67930 | AE11: Deminimis | AG11: AGVV art. 26 - Onderzoeks-infrastructuur | AH11: 0.5 | AI11: 0.5 | AJ11: 0.5 | AK11: 0.5 | AL11: 35000000 | AN11: AGVV art. 26 - Onderzoeks-infrastructuur | AO11: 0.5 | AP11: 0.5 | AQ11: 0.5 | AR11: 0.5 | AS11: 35000000
D12: Overijssel | P12: 9 | Q12: 45558 | R12: 70426 | S12: 52812 | T12: 63172 | U12: 75320 | W12: 9 | X12: 46030 | Y12: 76421 | Z12: 63873 | AA12: 53285 | AB12: 63873 | AC12: 76421 | AE12: AGVV | AG12: AGVV art. 26bis - Test- en experimenteerinfrastructuur | AH12: 0.25 | AI12: 0.25 | AJ12: 0.35 | AK12: 0.45 | AL12: 25000000 | AN12: AGVV art. 26bis - Test- en experimenteerinfrastructuur | AO12: 0.25 | AP12: 0.25 | AQ12: 0.35 | AR12: 0.45 | AS12: 25000000
D13: Utrecht | P13: 10 | Q13: 50620 | R13: 78251 | S13: 58680 | T13: 70191 | U13: 83688 | W13: 10 | X13: 51144 | Y13: 84913 | Z13: 70970 | AA13: 59205 | AB13: 70970 | AC13: 84913 | AG13: AGVV art. 27 - Innovatieclusters | AH13: 0.5 | AI13: 0.5 | AJ13: 0.5 | AK13: 0.5 | AL13: 10000000 | AN13: AGVV art. 27 - Innovatieclusters | AO13: 0.5 | AP13: 0.5 | AQ13: 0.5 | AR13: 0.5 | AS13: 10000000
D14: Zeeland | P14: 11 | Q14: 55682 | R14: 86076 | S14: 64548 | T14: 77210 | U14: 92057 | W14: 11 | X14: 56259 | Y14: 93404 | Z14: 78067 | AA14: 65126 | AB14: 78067 | AC14: 93404 | AG14: AGVV art. 28 - Innovatiesteun voor MKB | AH14: 0.5 | AI14: 0.5 | AJ14: 0.5 | AK14: 0.5 | AL14: 10000000 | AN14: AGVV art. 28 - Innovatiesteun voor MKB | AO14: 0.5 | AP14: 0.5 | AQ14: 0.5 | AR14: 0.5 | AS14: 10000000
D15: Zuid-Holland | P15: 12 | Q15: 65806 | R15: 101726 | S15: 76284 | T15: 91248 | U15: 108795 | W15: 12 | X15: 66487 | Y15: 110386 | Z15: 92261 | AA15: 76966 | AB15: 92261 | AC15: 110386 | AG15: AGVV art. 29 - Proces- en organisatie-innovatie | AH15: 0.15 | AI15: 0.15 | AJ15: 0.5 | AK15: 0.5 | AL15: 12500000 | AN15: AGVV art. 29 - Proces- en organisatie-innovatie | AO15: 0.15 | AP15: 0.15 | AQ15: 0.5 | AR15: 0.5 | AS15: 12500000
P16: 13 | Q16: 72561 | R16: 110644 | S16: 82972 | T16: 99248 | U16: 118333 | W16: 13 | X16: 73302 | Y16: 120063 | Z16: 100349 | AA16: 83714 | AB16: 100349 | AC16: 120063 | AE16: AGVV | AG16: AGVV art. 31 - Opleidingssteun | AH16: 0.5 | AI16: 0.5 | AJ16: 0.6 | AK16: 0.7 | AL16: 3000000 | AN16: AGVV art. 31 - Opleidingssteun | AO16: 0.5 | AP16: 0.5 | AQ16: 0.6 | AR16: 0.7 | AS16: 3000000
P17: 14 | Q17: 79316 | R17: 119562 | S17: 89659 | T17: 107247 | U17: 127871 | W17: 14 | X17: 80117 | Y17: 129741 | Z17: 108438 | AA17: 90461 | AB17: 108438 | AC17: 129741 | AE17: AGVV art. 25(2)(b) - Industrieel onderzoek | AG17: DAEB | AH17: 1 | AI17: 1 | AJ17: 1 | AK17: 1 | AL17: 1000000000 | AN17: DAEB | AO17: 1 | AP17: 1 | AQ17: 1 | AR17: 1 | AS17: 1000000000
P18: 15 | Q18: 86071 | R18: 128480 | S18: 96347 | T18: 115247 | U18: 137409 | W18: 15 | X18: 86931 | Y18: 139418 | Z18: 116526 | AA18: 97209 | AB18: 116526 | AC18: 139418 | AG18: Geen subsidie | AH18: 0 | AI18: 0 | AJ18: 0 | AK18: 0 | AN18: Geen subsidie | AO18: 0 | AP18: 0 | AQ18: 0 | AR18: 0
P19: 16 | Q19: 92825 | R19: 137398 | S19: 103035 | T19: 123246 | U19: 146946 | W19: 16 | X19: 93746 | Y19: 149096 | Z19: 124614 | AA19: 103956 | AB19: 124614 | AC19: 149096
P20: 17 | Q20: 99580 | R20: 146316 | S20: 109722 | T20: 131246 | U20: 156484 | W20: 17 | X20: 100561 | Y20: 158773 | Z20: 132702 | AA20: 110704 | AB20: 132702 | AC20: 158773
P21: 18 | Q21: 106335 | R21: 155235 | S21: 116410 | T21: 139245 | U21: 166022 | W21: 18 | X21: 107376 | Y21: 168451 | Z21: 140791 | AA21: 117452 | AB21: 140791 | AC21: 168451
P22: 19 | Q22: 113090 | R22: 164153 | S22: 123098 | T22: 147245 | U22: 175560 | W22: 19 | X22: 114190 | Y22: 178128 | Z22: 148879 | AA22: 124199 | AB22: 148879 | AC22: 178128
P23: 20 | Q23: 119845 | R23: 173071 | S23: 129785 | T23: 155244 | U23: 185098 | W23: 20 | X23: 121005 | Y23: 187805 | Z23: 156967 | AA23: 130947 | AB23: 156967 | AC23: 187805
P24: 21 | Q24: 126600 | R24: 181989 | S24: 136473 | T24: 163244 | U24: 194636 | W24: 21 | X24: 127820 | Y24: 197483 | Z24: 165055 | AA24: 137694 | AB24: 165055 | AC24: 197483
P25: 22 | Q25: 133354 | R25: 190907 | S25: 143161 | T25: 171243 | U25: 204173 | W25: 22 | X25: 134635 | Y25: 207160 | Z25: 173144 | AA25: 144442 | AB25: 173144 | AC25: 207160
P26: 23 | Q26: 140109 | R26: 199825 | S26: 149848 | T26: 179243 | U26: 213711 | W26: 23 | X26: 141449 | Y26: 216838 | Z26: 181232 | AA26: 151189 | AB26: 181232 | AC26: 216838
P27: 24 | Q27: 146864 | R27: 208743 | S27: 156536 | T27: 187242 | U27: 223249 | W27: 24 | X27: 148264 | Y27: 226515 | Z27: 189320 | AA27: 157937 | AB27: 189320 | AC27: 226515
P28: 25 | Q28: 154269 | R28: 218125 | S28: 163571 | T28: 195658 | U28: 233283 | W28: 25 | X28: 155740 | Y28: 236696 | Z28: 197829 | AA28: 165035 | AB28: 197829 | AC28: 236696
P29: 26 | Q29: 161673 | R29: 227507 | S29: 170607 | T29: 204073 | U29: 243317 | W29: 26 | X29: 163216 | Y29: 246876 | Z29: 206338 | AA29: 172134 | AB29: 206338 | AC29: 246876
P30: 27 | Q30: 169078 | R30: 236889 | S30: 177642 | T30: 212489 | U30: 253350 | W30: 27 | X30: 170692 | Y30: 257057 | Z30: 214847 | AA30: 179232 | AB30: 214847 | AC30: 257057
... P99: 96 | Q99: 775939 | R99: 978329 | S99: 733644 | T99: 877558 | U99: 1046312 | W99: 96 | X99: 783128 | Y99: 1061616 | Z99: 887301 | AA99: 740209 | AB99: 887301 | AC99: 1061616
P100: 97 | Q100: 785594 | R100: 990092 | S100: 742465 | T100: 888109 | U100: 1058892
P101: 98 | Q101: 795249 | R101: 1001855 | S101: 751286 | T101: 898661 | U101: 1071472
P102: 99 | Q102: 804904 | R102: 1013618 | S102: 760107 | T102: 909212 | U102: 1084053
P103: 100 | Q103: 814559 | R103: 1025381 | S103: 768928 | T103: 919763 | U103: 1096633
P104: 101 | Q104: 824214 | R104: 1037144 | S104: 777749 | T104: 930314 | U104: 1109213
P105: 102 | Q105: 833869 | R105: 1048907 | S105: 786570 | T105: 940866 | U105: 1121793
P106: 103 | Q106: 843524 | R106: 1060669 | S106: 795391 | T106: 951417 | U106: 1134373
P107: 104 | Q107: 853179 | R107: 1072432 | S107: 804212 | T107: 961968 | U107: 1146953
P108: 105 | Q108: 862834 | R108: 1084195 | S108: 813033 | T108: 972519 | U108: 1159534
P109: 106 | Q109: 872489 | R109: 1095958 | S109: 821854 | T109: 983071 | U109: 1172114
P110: 107 | Q110: 882144 | R110: 1107721 | S110: 830675 | T110: 993622 | U110: 1184694
P111: 108 | Q111: 891799 | R111: 1119484 | S111: 839496 | T111: 1004173 | U111: 1197274
... P123: 120 | Q123: 1013257 | R123: 1267455 | S123: 950460 | T123: 1136904 | U123: 1355529

Sheet Toelichting
A2: Zorg dat u bekend bent met de specifieke voorwaarden van de subsidieoproep.
A4: In de subsidieoproep staat vermeld waar een begroting aan moet voldoen. Neem bij vragen contact op met de contactpersonen van de subsidieoproep
A6: Let op: alleen de gele cellen zijn bewerkbaar. De blauwe cellen zijn vergrendeld of worden automatisch ingevuld op basis van berekeningen. U hoeft hierin niets in te vullen.
A8: Start uw begroting door het tabblad "Basisgegevens" in te vullen.
A10: Projectgegevens
A12: Daadwerkelijke samenwerking
A13: Er is sprake van een daadwerkelijke samenwerking als minimaal twee onafhankelijke partijen samenwerken om kennis of technologie uit te wisselen of om een gezamenlijk doel te bereiken. De partijen bepalen samen de omvang van het project, dragen bij aan de uitvoering en delen de risico's en resultaten. Het is mogelijk dat één of meer partijen alle projectkosten betalen. De andere partijen lopen dan geen financieel risico.
A14: Let op: Onderzoek in opdracht of het uitvoeren van betaalde onderzoeksdiensten telt niet als samenwerking.
A16: Ruime verspreiding projectresultaten
A17: Ruime verspreiding projectresultaten betekent dat de projectresultaten ruim worden verspreid via conferenties, publicaties, open access-repositories, gratis opensource-software of licenties met IE-rechten tegen een marktprijs beschikbaar gesteld worden.
A19: Gegevens deelnemers
A20: In deze tabel vult u alle partijen in die binnen de aanvraag aanspraak maken op (een deel van) de subsidie. Dit betreft zowel de hoofdaanvrager als de medeaanvragers.
... A203: Indien u via de DAEB subsidie ontvangt, dient u elke 3 jaar een financiële rapportage aan te leveren. Hiervoor zijn kolomen V t/m AB. Deze kunt u uitklappen

Sheet Basisgegevens
B2: Projectgegevens
B4: Projecttitel
B5: Daadwerkelijke samenwerking of ruime verspreiding projectresultaten* | D5: U dient alle basisgegevens in te vullen
B6: Looptijd (maanden)
B9: Gegevens deelnemers
F10: Ongeldige combinatie van type steun en type organisatie.
B11: Nr. | C11: Naam organisatie** | D11: Type organisatie*** | E11: Omvang van organisatie**** | F11: Type steun | G11: AGVV artikel
B12: Hoofdaanvrager - Dln 1 | H12: U dient alle basisgegevens in te vullen
B13: Dln 2 | H13: U dient alle basisgegevens in te vullen
B14: Dln 3 | H14: U dient alle basisgegevens in te vullen
B15: Dln 4 | H15: U dient alle basisgegevens in te vullen
B16: Dln 5 | H16: U dient alle basisgegevens in te vullen
B17: Dln 6 | H17: U dient alle basisgegevens in te vullen
B18: Dln 7 | H18: U dient alle basisgegevens in te vullen
B19: Dln 8 | H19: U dient alle basisgegevens in te vullen
B20: Dln 9 | H20: U dient alle basisgegevens in te vullen
B21: Dln 10 | H21: U dient alle basisgegevens in te vullen
B22: Dln 11 | H22: U dient alle basisgegevens in te vullen
B23: Dln 12 | H23: U dient alle basisgegevens in te vullen
... B31: Dln 20 | H31: U dient alle basisgegevens in te vullen
B33: *Zie het tabblad 'Toelichting' voor de definities van daadwerkelijke samenwerking en ruime verspreiding van projectresultaten.
B34: **Gebruik exact dezelfde organisatienamen als die in AIMS zijn geregistreerd. Hiermee voorkomt u afwijkingen tussen de begroting en de subsidieaanvraag
B35: *** Zie tabblad 'Toelichting' voor de definities van de verschillende organisatietypen
B36: **** Zie het tabblad 'Toelichting' voor meer informatie over hoe de omvang van uw organisatie wordt bepaald

Sheet Overzicht begroting
B2: Overzicht begroting | O2: Overzicht Realisatie
S3: Indien DAEB: realisatie jaar 4 t/m 6 | W3: Indien DAEB: realisatie jaar 7 t/m 9
B5: Nr. | C5: Naam Organisatie | E5: 1. Personeelskosten | F5: 2. Materiële kosten | G5: 3. Apparatuurkosten | H5: 4. Communicatie- en implementatiekosten | I5: 5. Overige kosten | K5: Totale kosten | L5: Eigen bijdrage / cofin | M5: Subsidiebedrag | O5: Gerealiseerde kosten | P5: Eigen bijdrage / cofinanciering | Q5: Totaal gerealiseerd (totale kosten minus benodigde eigen bijdrage/cofin.) | S5: Gerealiseerde kosten | T5: Gerealiseerde eigen bijdrage / cofinanciering | U5: Totaal gerealiseerd (totale kosten minus benodigde eigen bijdrage/cofin.) | W5: Gerealiseerde kosten | X5: Gerealiseerde eigen bijdrage / cofinanciering | Y5: Totaal gerealiseerd (totale kosten minus benodigde eigen bijdrage/cofin.)
B6: Hoofdaanvrager - Dln 1 | C6: =Basisgegevens!C12 -> 0 | E6: =SUM('Dln 1'!$K$222:$K$223) -> 0 | F6: ='Dln 1'!$K$224 -> 0 | G6: ='Dln 1'!$K$225 -> 0 | H6: ='Dln 1'!$K$226 -> 0 | I6: ='Dln 1'!$K$227 -> 0 | K6: =SUM($E6:$I6) -> 0 | L6: ='Dln 1'!$K$232 -> 0 | M6: ='Dln 1'!$K$230 -> 0 | O6: ='Dln 1'!$K$236 -> 0 | P6: ='Dln 1'!$K$238 -> 0 | Q6: ='Dln 1'!$K$239 -> 0 | S6: ='Dln 1'!$V$236 -> 0 | T6: ='Dln 1'!$V$238 -> 0 | U6: ='Dln 1'!$V$239 -> 0 | W6: ='Dln 1'!$X$236 -> 0 | X6: ='Dln 1'!$X$238 -> 0 | Y6: ='Dln 1'!$X$239 -> 0
B7: Dln 2 | C7: =Basisgegevens!C13 -> 0 | E7: =SUM('Dln 2'!$K$222:$K$223) -> 0 | F7: ='Dln 2'!$K$224 -> 0 | G7: ='Dln 2'!$K$225 -> 0 | H7: ='Dln 2'!$K$226 -> 0 | I7: ='Dln 2'!$K$227 -> 0 | K7: =SUM($E7:$I7) -> 0 | L7: ='Dln 2'!$K$232 -> 0 | M7: ='Dln 2'!$K$230 -> 0 | O7: ='Dln 2'!$K$236 -> 0 | P7: ='Dln 2'!$K$238 -> 0 | Q7: ='Dln 2'!$K$239 -> 0 | S7: ='Dln 2'!$V$236 -> 0 | T7: ='Dln 2'!$V$238 -> 0 | U7: ='Dln 2'!$V$239 -> 0 | W7: ='Dln 2'!$X$236 -> 0 | X7: ='Dln 2'!$X$238 -> 0 | Y7: ='Dln 2'!$X$239 -> 0
B8: Dln 3 | C8: =Basisgegevens!C14 -> 0 | E8: =SUM('Dln 3'!$K$222:$K$223) -> 0 | F8: ='Dln 3'!$K$224 -> 0 | G8: ='Dln 3'!$K$225 -> 0 | H8: ='Dln 3'!$K$226 -> 0 | I8: ='Dln 3'!$K$227 -> 0 | K8: =SUM($E8:$I8) -> 0 | L8: ='Dln 3'!$K$232 -> 0 | M8: ='Dln 3'!$K$230 -> 0 | O8: ='Dln 3'!$K$236 -> 0 | P8: ='Dln 3'!$K$238 -> 0 | Q8: ='Dln 3'!$K$239 -> 0 | S8: ='Dln 3'!$V$236 -> 0 | T8: ='Dln 3'!$V$238 -> 0 | U8: ='Dln 3'!$V$239 -> 0 | W8: ='Dln 3'!$X$236 -> 0 | X8: ='Dln 3'!$X$238 -> 0 | Y8: ='Dln 3'!$X$239 -> 0
B9: Dln 4 | C9: =Basisgegevens!C15 -> 0 | E9: =SUM('Dln 4'!$K$222:$K$223) -> 0 | F9: ='Dln 4'!$K$224 -> 0 | G9: ='Dln 4'!$K$225 -> 0 | H9: ='Dln 4'!$K$226 -> 0 | I9: ='Dln 4'!$K$227 -> 0 | K9: =SUM($E9:$I9) -> 0 | L9: ='Dln 4'!$K$232 -> 0 | M9: ='Dln 4'!$K$230 -> 0 | O9: ='Dln 4'!$K$236 -> 0 | P9: ='Dln 4'!$K$238 -> 0 | Q9: ='Dln 4'!$K$239 -> 0 | S9: ='Dln 4'!$V$236 -> 0 | T9: ='Dln 4'!$V$238 -> 0 | U9: ='Dln 4'!$V$239 -> 0 | W9: ='Dln 4'!$X$236 -> 0 | X9: ='Dln 4'!$X$238 -> 0 | Y9: ='Dln 4'!$X$239 -> 0
B10: Dln 5 | C10: =Basisgegevens!C16 -> 0 | E10: =SUM('Dln 5'!$K$222:$K$223) -> 0 | F10: ='Dln 5'!$K$224 -> 0 | G10: ='Dln 5'!$K$225 -> 0 | H10: ='Dln 5'!$K$226 -> 0 | I10: ='Dln 5'!$K$227 -> 0 | K10: =SUM($E10:$I10) -> 0 | L10: ='Dln 5'!$K$232 -> 0 | M10: ='Dln 5'!$K$230 -> 0 | O10: ='Dln 5'!$K$236 -> 0 | P10: ='Dln 5'!$K$238 -> 0 | Q10: ='Dln 5'!$K$239 -> 0 | S10: ='Dln 5'!$V$236 -> 0 | T10: ='Dln 5'!$V$238 -> 0 | U10: ='Dln 5'!$V$239 -> 0 | W10: ='Dln 5'!$X$236 -> 0 | X10: ='Dln 5'!$X$238 -> 0 | Y10: ='Dln 5'!$X$239 -> 0
B11: Dln 6 | C11: =Basisgegevens!C17 -> 0 | E11: =SUM('Dln 6'!$K$222:$K$223) -> 0 | F11: ='Dln 6'!$K$224 -> 0 | G11: ='Dln 6'!$K$225 -> 0 | H11: ='Dln 6'!$K$226 -> 0 | I11: ='Dln 6'!$K$227 -> 0 | K11: =SUM($E11:$I11) -> 0 | L11: ='Dln 6'!$K$232 -> 0 | M11: ='Dln 6'!$K$230 -> 0 | O11: ='Dln 6'!$K$236 -> 0 | P11: ='Dln 6'!$K$238 -> 0 | Q11: ='Dln 6'!$K$239 -> 0 | S11: ='Dln 6'!$V$236 -> 0 | T11: ='Dln 6'!$V$238 -> 0 | U11: ='Dln 6'!$V$239 -> 0 | W11: ='Dln 6'!$X$236 -> 0 | X11: ='Dln 6'!$X$238 -> 0 | Y11: ='Dln 6'!$X$239 -> 0
B12: Dln 7 | C12: =Basisgegevens!C18 -> 0 | E12: =SUM('Dln 7'!$K$222:$K$223) -> 0 | F12: ='Dln 7'!$K$224 -> 0 | G12: ='Dln 7'!$K$225 -> 0 | H12: ='Dln 7'!$K$226 -> 0 | I12: ='Dln 7'!$K$227 -> 0 | K12: =SUM($E12:$I12) -> 0 | L12: ='Dln 7'!$K$232 -> 0 | M12: ='Dln 7'!$K$230 -> 0 | O12: ='Dln 7'!$K$236 -> 0 | P12: ='Dln 7'!$K$238 -> 0 | Q12: ='Dln 7'!$K$239 -> 0 | S12: ='Dln 7'!$V$236 -> 0 | T12: ='Dln 7'!$V$238 -> 0 | U12: ='Dln 7'!$V$239 -> 0 | W12: ='Dln 7'!$X$236 -> 0 | X12: ='Dln 7'!$X$238 -> 0 | Y12: ='Dln 7'!$X$239 -> 0
B13: Dln 8 | C13: =Basisgegevens!C19 -> 0 | E13: =SUM('Dln 8'!$K$222:$K$223) -> 0 | F13: ='Dln 8'!$K$224 -> 0 | G13: ='Dln 8'!$K$225 -> 0 | H13: ='Dln 8'!$K$226 -> 0 | I13: ='Dln 8'!$K$227 -> 0 | K13: =SUM($E13:$I13) -> 0 | L13: ='Dln 8'!$K$232 -> 0 | M13: ='Dln 8'!$K$230 -> 0 | O13: ='Dln 8'!$K$236 -> 0 | P13: ='Dln 8'!$K$238 -> 0 | Q13: ='Dln 8'!$K$239 -> 0 | S13: ='Dln 8'!$V$236 -> 0 | T13: ='Dln 8'!$V$238 -> 0 | U13: ='Dln 8'!$V$239 -> 0 | W13: ='Dln 8'!$X$236 -> 0 | X13: ='Dln 8'!$X$238 -> 0 | Y13: ='Dln 8'!$X$239 -> 0
B14: Dln 9 | C14: =Basisgegevens!C20 -> 0 | E14: =SUM('Dln 9'!$K$222:$K$223) -> 0 | F14: ='Dln 9'!$K$224 -> 0 | G14: ='Dln 9'!$K$225 -> 0 | H14: ='Dln 9'!$K$226 -> 0 | I14: ='Dln 9'!$K$227 -> 0 | K14: =SUM($E14:$I14) -> 0 | L14: ='Dln 9'!$K$232 -> 0 | M14: ='Dln 9'!$K$230 -> 0 | O14: ='Dln 9'!$K$236 -> 0 | P14: ='Dln 9'!$K$238 -> 0 | Q14: ='Dln 9'!$K$239 -> 0 | S14: ='Dln 9'!$V$236 -> 0 | T14: ='Dln 9'!$V$238 -> 0 | U14: ='Dln 9'!$V$239 -> 0 | W14: ='Dln 9'!$X$236 -> 0 | X14: ='Dln 9'!$X$238 -> 0 | Y14: ='Dln 9'!$X$239 -> 0
B15: Dln 10 | C15: =Basisgegevens!C21 -> 0 | E15: =SUM('Dln 10'!$K$222:$K$223) -> 0 | F15: ='Dln 10'!$K$224 -> 0 | G15: ='Dln 10'!$K$225 -> 0 | H15: ='Dln 10'!$K$226 -> 0 | I15: ='Dln 10'!$K$227 -> 0 | K15: =SUM($E15:$I15) -> 0 | L15: ='Dln 10'!$K$232 -> 0 | M15: ='Dln 10'!$K$230 -> 0 | O15: ='Dln 10'!$K$236 -> 0 | P15: ='Dln 10'!$K$238 -> 0 | Q15: ='Dln 10'!$K$239 -> 0 | S15: ='Dln 10'!$V$236 -> 0 | T15: ='Dln 10'!$V$238 -> 0 | U15: ='Dln 10'!$V$239 -> 0 | W15: ='Dln 10'!$X$236 -> 0 | X15: ='Dln 10'!$X$238 -> 0 | Y15: ='Dln 10'!$X$239 -> 0
B16: Dln 11 | C16: =Basisgegevens!C22 -> 0 | E16: =SUM('Dln 11'!$K$222:$K$223) -> 0 | F16: ='Dln 11'!$K$224 -> 0 | G16: ='Dln 11'!$K$225 -> 0 | H16: ='Dln 11'!$K$226 -> 0 | I16: ='Dln 11'!$K$227 -> 0 | K16: =SUM($E16:$I16) -> 0 | L16: ='Dln 11'!$K$232 -> 0 | M16: ='Dln 11'!$K$230 -> 0 | O16: ='Dln 11'!$K$236 -> 0 | P16: ='Dln 11'!$K$238 -> 0 | Q16: ='Dln 11'!$K$239 -> 0 | S16: ='Dln 11'!$V$236 -> 0 | T16: ='Dln 11'!$V$238 -> 0 | U16: ='Dln 11'!$V$239 -> 0 | W16: ='Dln 11'!$X$236 -> 0 | X16: ='Dln 11'!$X$238 -> 0 | Y16: ='Dln 11'!$X$239 -> 0
B17: Dln 12 | C17: =Basisgegevens!C23 -> 0 | E17: =SUM('Dln 12'!$K$222:$K$223) -> 0 | F17: ='Dln 12'!$K$224 -> 0 | G17: ='Dln 12'!$K$225 -> 0 | H17: ='Dln 12'!$K$226 -> 0 | I17: ='Dln 12'!$K$227 -> 0 | K17: =SUM($E17:$I17) -> 0 | L17: ='Dln 12'!$K$232 -> 0 | M17: ='Dln 12'!$K$230 -> 0 | O17: ='Dln 12'!$K$236 -> 0 | P17: ='Dln 12'!$K$238 -> 0 | Q17: ='Dln 12'!$K$239 -> 0 | S17: ='Dln 12'!$V$236 -> 0 | T17: ='Dln 12'!$V$238 -> 0 | U17: ='Dln 12'!$V$239 -> 0 | W17: ='Dln 12'!$X$236 -> 0 | X17: ='Dln 12'!$X$238 -> 0 | Y17: ='Dln 12'!$X$239 -> 0
B18: Dln 13 | C18: =Basisgegevens!C24 -> 0 | E18: =SUM('Dln 13'!$K$222:$K$223) -> 0 | F18: ='Dln 13'!$K$224 -> 0 | G18: ='Dln 13'!$K$225 -> 0 | H18: ='Dln 13'!$K$226 -> 0 | I18: ='Dln 13'!$K$227 -> 0 | K18: =SUM($E18:$I18) -> 0 | L18: ='Dln 13'!$K$232 -> 0 | M18: ='Dln 13'!$K$230 -> 0 | O18: ='Dln 13'!$K$236 -> 0 | P18: ='Dln 13'!$K$238 -> 0 | Q18: ='Dln 13'!$K$239 -> 0 | S18: ='Dln 13'!$V$236 -> 0 | T18: ='Dln 13'!$V$238 -> 0 | U18: ='Dln 13'!$V$239 -> 0 | W18: ='Dln 13'!$X$236 -> 0 | X18: ='Dln 13'!$X$238 -> 0 | Y18: ='Dln 13'!$X$239 -> 0
B19: Dln 14 | C19: =Basisgegevens!C25 -> 0 | E19: =SUM('Dln 14'!$K$222:$K$223) -> 0 | F19: ='Dln 14'!$K$224 -> 0 | G19: ='Dln 14'!$K$225 -> 0 | H19: ='Dln 14'!$K$226 -> 0 | I19: ='Dln 14'!$K$227 -> 0 | K19: =SUM($E19:$I19) -> 0 | L19: ='Dln 14'!$K$232 -> 0 | M19: ='Dln 14'!$K$230 -> 0 | O19: ='Dln 14'!$K$236 -> 0 | P19: ='Dln 14'!$K$238 -> 0 | Q19: ='Dln 14'!$K$239 -> 0 | S19: ='Dln 14'!$V$236 -> 0 | T19: ='Dln 14'!$V$238 -> 0 | U19: ='Dln 14'!$V$239 -> 0 | W19: ='Dln 14'!$X$236 -> 0 | X19: ='Dln 14'!$X$238 -> 0 | Y19: ='Dln 14'!$X$239 -> 0
B20: Dln 15 | C20: =Basisgegevens!C26 -> 0 | E20: =SUM('Dln 15'!$K$222:$K$223) -> 0 | F20: ='Dln 15'!$K$224 -> 0 | G20: ='Dln 15'!$K$225 -> 0 | H20: ='Dln 15'!$K$226 -> 0 | I20: ='Dln 15'!$K$227 -> 0 | K20: =SUM($E20:$I20) -> 0 | L20: ='Dln 15'!$K$232 -> 0 | M20: ='Dln 15'!$K$230 -> 0 | O20: ='Dln 15'!$K$236 -> 0 | P20: ='Dln 15'!$K$238 -> 0 | Q20: ='Dln 15'!$K$239 -> 0 | S20: ='Dln 15'!$V$236 -> 0 | T20: ='Dln 15'!$V$238 -> 0 | U20: ='Dln 15'!$V$239 -> 0 | W20: ='Dln 15'!$X$236 -> 0 | X20: ='Dln 15'!$X$238 -> 0 | Y20: ='Dln 15'!$X$239 -> 0
B21: Dln 16 | C21: =Basisgegevens!C27 -> 0 | E21: =SUM('Dln 16'!$K$222:$K$223) -> 0 | F21: ='Dln 16'!$K$224 -> 0 | G21: ='Dln 16'!$K$225 -> 0 | H21: ='Dln 16'!$K$226 -> 0 | I21: ='Dln 16'!$K$227 -> 0 | K21: =SUM($E21:$I21) -> 0 | L21: ='Dln 16'!$K$232 -> 0 | M21: ='Dln 16'!$K$230 -> 0 | O21: ='Dln 16'!$K$236 -> 0 | P21: ='Dln 16'!$K$238 -> 0 | Q21: ='Dln 16'!$K$239 -> 0 | S21: ='Dln 16'!$V$236 -> 0 | T21: ='Dln 16'!$V$238 -> 0 | U21: ='Dln 16'!$V$239 -> 0 | W21: ='Dln 16'!$X$236 -> 0 | X21: ='Dln 16'!$X$238 -> 0 | Y21: ='Dln 16'!$X$239 -> 0
B22: Dln 17 | C22: =Basisgegevens!C28 -> 0 | E22: =SUM('Dln 17'!$K$222:$K$223) -> 0 | F22: ='Dln 17'!$K$224 -> 0 | G22: ='Dln 17'!$K$225 -> 0 | H22: ='Dln 17'!$K$226 -> 0 | I22: ='Dln 17'!$K$227 -> 0 | K22: =SUM($E22:$I22) -> 0 | L22: ='Dln 17'!$K$232 -> 0 | M22: ='Dln 17'!$K$230 -> 0 | O22: ='Dln 17'!$K$236 -> 0 | P22: ='Dln 17'!$K$238 -> 0 | Q22: ='Dln 17'!$K$239 -> 0 | S22: ='Dln 17'!$V$236 -> 0 | T22: ='Dln 17'!$V$238 -> 0 | U22: ='Dln 17'!$V$239 -> 0 | W22: ='Dln 17'!$X$236 -> 0 | X22: ='Dln 17'!$X$238 -> 0 | Y22: ='Dln 17'!$X$239 -> 0
B23: Dln 18 | C23: =Basisgegevens!C29 -> 0 | E23: =SUM('Dln 18'!$K$222:$K$223) -> 0 | F23: ='Dln 18'!$K$224 -> 0 | G23: ='Dln 18'!$K$225 -> 0 | H23: ='Dln 18'!$K$226 -> 0 | I23: ='Dln 18'!$K$227 -> 0 | K23: =SUM($E23:$I23) -> 0 | L23: ='Dln 18'!$K$232 -> 0 | M23: ='Dln 18'!$K$230 -> 0 | O23: ='Dln 18'!$K$236 -> 0 | P23: ='Dln 18'!$K$238 -> 0 | Q23: ='Dln 18'!$K$239 -> 0 | S23: ='Dln 18'!$V$236 -> 0 | T23: ='Dln 18'!$V$238 -> 0 | U23: ='Dln 18'!$V$239 -> 0 | W23: ='Dln 18'!$X$236 -> 0 | X23: ='Dln 18'!$X$238 -> 0 | Y23: ='Dln 18'!$X$239 -> 0
B24: Dln 19 | C24: =Basisgegevens!C30 -> 0 | E24: =SUM('Dln 19'!$K$222:$K$223) -> 0 | F24: ='Dln 19'!$K$224 -> 0 | G24: ='Dln 19'!$K$225 -> 0 | H24: ='Dln 19'!$K$226 -> 0 | I24: ='Dln 19'!$K$227 -> 0 | K24: =SUM($E24:$I24) -> 0 | L24: ='Dln 19'!$K$232 -> 0 | M24: ='Dln 19'!$K$230 -> 0 | O24: ='Dln 19'!$K$236 -> 0 | P24: ='Dln 19'!$K$238 -> 0 | Q24: ='Dln 19'!$K$239 -> 0 | S24: ='Dln 19'!$V$236 -> 0 | T24: ='Dln 19'!$V$238 -> 0 | U24: ='Dln 19'!$V$239 -> 0 | W24: ='Dln 19'!$X$236 -> 0 | X24: ='Dln 19'!$X$238 -> 0 | Y24: ='Dln 19'!$X$239 -> 0
B25: Dln 20 | C25: =Basisgegevens!C31 -> 0 | E25: =SUM('Dln 20'!$K$222:$K$223) -> 0 | F25: ='Dln 20'!$K$224 -> 0 | G25: ='Dln 20'!$K$225 -> 0 | H25: ='Dln 20'!$K$226 -> 0 | I25: ='Dln 20'!$K$227 -> 0 | K25: =SUM($E25:$I25) -> 0 | L25: ='Dln 20'!$K$232 -> 0 | M25: ='Dln 20'!$K$230 -> 0 | O25: ='Dln 20'!$K$236 -> 0 | P25: ='Dln 20'!$K$238 -> 0 | Q25: ='Dln 20'!$K$239 -> 0 | S25: ='Dln 20'!$V$236 -> 0 | T25: ='Dln 20'!$V$238 -> 0 | U25: ='Dln 20'!$V$239 -> 0 | W25: ='Dln 20'!$X$236 -> 0 | X25: ='Dln 20'!$X$238 -> 0 | Y25: ='Dln 20'!$X$239 -> 0
C26: TOTALEN | E26: =SUM(E6:E25) -> 0 | F26: =SUM(F6:F25) -> 0 | G26: =SUM(G6:G25) -> 0 | H26: =SUM(H6:H25) -> 0 | I26: =SUM(I6:I25) -> 0 | K26: =SUM(K6:K25) -> 0 | L26: =SUM(L6:L25) -> 0 | M26: =SUM(M6:M25) -> 0 | O26: =SUM(O6:O25) -> 0 | P26: =SUM(P6:P25) -> 0 | Q26: =SUM(Q6:Q25) -> 0 | S26: =SUM(S6:S25) -> 0 | T26: =SUM(T6:T25) -> 0 | U26: =SUM(U6:U25) -> 0 | W26: =SUM(W6:W25) -> 0 | X26: =SUM(X6:X25) -> 0 | Y26: =SUM(Y6:Y25) -> 0
K28: * Let op: Eigen bijdrage / cofinanciering is meer dan de totale projectkosten
B29: Gelieve het begroting overzicht in pdf op te slaan en te ondertekenen door de hoofdaanvrager
B30: Instelling | H30: Toelichting begroting
B31: Naam:
B32: Functie:
B33: Tel.nr.:
B34: E-mailadres:
B35: Datum:

Sheet OUD Overzicht staatssteun
B2: Begroting - Overzicht staatssteun per begunstigde
C4: Deminimis | E4: AGVV art. 18 - Consultancysteun voor MKB | G4: AGVV art. 25(2)(a) - Fundamenteel onderzoek | I4: AGVV art. 25(2)(b) - Industrieel onderzoek | K4: AGVV art. 25(2)(c) - Experimentele ontwikkeling | M4: AGVV art. 25(2)(d) - Haalbaarheidsstudies | O4: AGVV art. 26 - Onderzoeks-infrastructuur | Q4: AGVV art. 26bis - Test- en experimenteerinfrastructuur | S4: AGVV art. 27 - Innovatieclusters | U4: AGVV art. 28 - Innovatiesteun voor MKB | W4: AGVV art. 29 - Proces- en organisatie-innovatie | Y4: AGVV art. 31 - Opleidingssteun | AA4: DAEB | AC4: Niet-economische activiteit
C5: Steunbedrag | D5: % | E5: Steunbedrag | F5: % | G5: Steunbedrag | H5: % | I5: Steunbedrag | J5: % | K5: Steunbedrag | L5: % | M5: Steunbedrag | N5: % | O5: Steunbedrag | P5: % | Q5: Steunbedrag | R5: % | S5: Steunbedrag | T5: % | U5: Steunbedrag | V5: % | W5: Steunbedrag | X5: % | Y5: Steunbedrag | Z5: % | AA5: Steunbedrag | AB5: % | AC5: Steunbedrag | AD5: % | AF5: Totalen
B6: Hoofdaanvrager - Dln 1 | C6: =SUMIF('Dln 1'!$C$9,$C$4,'Dln 1'!$K$230) -> 0 | D6: =IFERROR(INDEX('Dln 1'!$M:$M,MATCH($C$4,'Dln 1'!#REF!,0),1),0) -> 0 | E6: =SUMIF('Dln 1'!$C$9,$E$4,'Dln 1'!$K$230) -> 0 | F6: =IFERROR(INDEX('Dln 1'!$M:$M,MATCH($E$4,'Dln 1'!#REF!,0),1),0) -> 0 | G6: =SUMIF('Dln 1'!$C$9,$G$4,'Dln 1'!$K$230) -> 0 | H6: =IFERROR(INDEX('Dln 1'!$M:$M,MATCH($G$4,'Dln 1'!#REF!,0),1),0) -> 0 | I6: =SUMIF('Dln 1'!$C$9,$I$4,'Dln 1'!$K$230) -> 0 | J6: =IFERROR(INDEX('Dln 1'!$M:$M,MATCH($I$4,'Dln 1'!#REF!,0),1),0) -> 0 | K6: =SUMIF('Dln 1'!$C$9,$K$4,'Dln 1'!$K$230) -> 0 | L6: =IFERROR(INDEX('Dln 1'!$M:$M,MATCH($K$4,'Dln 1'!#REF!,0),1),0) -> 0 | M6: =SUMIF('Dln 1'!$C$9,$M$4,'Dln 1'!$K$230) -> 0 | N6: =IFERROR(INDEX('Dln 1'!$M:$M,MATCH($M$4,'Dln 1'!#REF!,0),1),0) -> 0 | O6: =SUMIF('Dln 1'!$C$9,$O$4,'Dln 1'!$K$230) -> 0 | P6: =IFERROR(INDEX('Dln 1'!$M:$M,MATCH($O$4,'Dln 1'!#REF!,0),1),0) -> 0 | Q6: =SUMIF('Dln 1'!$C$9,$Q$4,'Dln 1'!$K$230) -> 0 | R6: =IFERROR(INDEX('Dln 1'!$M:$M,MATCH($Q$4,'Dln 1'!#REF!,0),1),0) -> 0 | S6: =SUMIF('Dln 1'!$C$9,$S$4,'Dln 1'!$K$230) -> 0 | T6: =IFERROR(INDEX('Dln 1'!$M:$M,MATCH($S$4,'Dln 1'!#REF!,0),1),0) -> 0 | U6: =SUMIF('Dln 1'!$C$9,$U$4,'Dln 1'!$K$230) -> 0 | V6: =IFERROR(INDEX('Dln 1'!$M:$M,MATCH($U$4,'Dln 1'!#REF!,0),1),0) -> 0 | W6: =SUMIF('Dln 1'!$C$9,$W$4,'Dln 1'!$K$230) -> 0 | X6: =IFERROR(INDEX('Dln 1'!$M:$M,MATCH($W$4,'Dln 1'!#REF!,0),1),0) -> 0 | Y6: =SUMIF('Dln 1'!$C$9,$Y$4,'Dln 1'!$K$230) -> 0 | Z6: =IFERROR(INDEX('Dln 1'!$M:$M,MATCH($Y$4,'Dln 1'!#REF!,0),1),0) -> 0 | AA6: =SUMIF('Dln 1'!$C$9,$AA$4,'Dln 1'!$K$230) -> 0 | AB6: =IFERROR(INDEX('Dln 1'!$M:$M,MATCH($AA$4,'Dln 1'!#REF!,0),1),0) -> 0 | AC6: =SUMIF('Dln 1'!$C$9,$AC$4,'Dln 1'!$K$230) -> 0 | AD6: =IFERROR(INDEX('Dln 1'!$M:$M,MATCH($AC$4,'Dln 1'!#REF!,0),1),0) -> 0 | AF6: =SUM(C6,E6,G6,I6,K6,M6,O6,Q6,S6,U6,W6,Y6,AA6,AC6) -> 0 | AG6: =AF6='Dln 1'!K230 -> TRUE
B7: Dln 2 | C7: =SUMIF('Dln 2'!$C$9,$C$4,'Dln 2'!$K$230) -> 0 | D7: =IFERROR(INDEX('Dln 2'!$M:$M,MATCH($C$4,'Dln 2'!#REF!,0),1),0) -> 0 | E7: =SUMIF('Dln 2'!#REF!,$E$4,'Dln 2'!$O:$O) -> #REF! | F7: =IFERROR(INDEX('Dln 2'!$M:$M,MATCH($E$4,'Dln 2'!#REF!,0),1),0) -> 0 | G7: =SUMIF('Dln 2'!#REF!,$G$4,'Dln 2'!$O:$O) -> #REF! | H7: =IFERROR(INDEX('Dln 2'!$M:$M,MATCH($G$4,'Dln 2'!#REF!,0),1),0) -> 0 | I7: =SUMIF('Dln 2'!#REF!,$I$4,'Dln 2'!$O:$O) -> #REF! | J7: =IFERROR(INDEX('Dln 2'!$M:$M,MATCH($I$4,'Dln 2'!#REF!,0),1),0) -> 0 | K7: =SUMIF('Dln 2'!#REF!,$K$4,'Dln 2'!$O:$O) -> #REF! | L7: =IFERROR(INDEX('Dln 2'!$M:$M,MATCH($K$4,'Dln 2'!#REF!,0),1),0) -> 0 | M7: =SUMIF('Dln 2'!#REF!,$M$4,'Dln 2'!$O:$O) -> #REF! | N7: =IFERROR(INDEX('Dln 2'!$M:$M,MATCH($M$4,'Dln 2'!#REF!,0),1),0) -> 0 | O7: =SUMIF('Dln 2'!#REF!,$O$4,'Dln 2'!$O:$O) -> #REF! | P7: =IFERROR(INDEX('Dln 2'!$M:$M,MATCH($O$4,'Dln 2'!#REF!,0),1),0) -> 0 | Q7: =SUMIF('Dln 2'!#REF!,$Q$4,'Dln 2'!$O:$O) -> #REF! | R7: =IFERROR(INDEX('Dln 2'!$M:$M,MATCH($Q$4,'Dln 2'!#REF!,0),1),0) -> 0 | S7: =SUMIF('Dln 2'!#REF!,$S$4,'Dln 2'!$O:$O) -> #REF! | T7: =IFERROR(INDEX('Dln 2'!$M:$M,MATCH($S$4,'Dln 2'!#REF!,0),1),0) -> 0 | U7: =SUMIF('Dln 2'!#REF!,$U$4,'Dln 2'!$O:$O) -> #REF! | V7: =IFERROR(INDEX('Dln 2'!$M:$M,MATCH($U$4,'Dln 2'!#REF!,0),1),0) -> 0 | W7: =SUMIF('Dln 2'!#REF!,$W$4,'Dln 2'!$O:$O) -> #REF! | X7: =IFERROR(INDEX('Dln 2'!$M:$M,MATCH($W$4,'Dln 2'!#REF!,0),1),0) -> 0 | Y7: =SUMIF('Dln 2'!#REF!,$Y$4,'Dln 2'!$O:$O) -> #REF! | Z7: =IFERROR(INDEX('Dln 2'!$M:$M,MATCH($Y$4,'Dln 2'!#REF!,0),1),0) -> 0 | AA7: =SUMIF('Dln 2'!#REF!,$AA$4,'Dln 2'!$O:$O) -> #REF! | AB7: =IFERROR(INDEX('Dln 2'!$M:$M,MATCH($AA$4,'Dln 2'!#REF!,0),1),0) -> 0 | AC7: =SUMIF('Dln 2'!#REF!,$AC$4,'Dln 2'!$O:$O) -> #REF! | AD7: =IFERROR(INDEX('Dln 2'!$M:$M,MATCH($AC$4,'Dln 2'!#REF!,0),1),0) -> 0 | AF7: =SUM(C7,E7,G7,I7,K7,M7,O7,Q7,S7,U7,W7,Y7,AA7,AC7) -> #REF! | AG7: =AF6='Dln 2'!K230 -> TRUE
B8: Dln 3 | C8: =SUMIF('Dln 3'!$C$9,$C$4,'Dln 3'!$K$230) -> 0 | D8: =IFERROR(INDEX('Dln 3'!$M:$M,MATCH($C$4,'Dln 3'!#REF!,0),1),0) -> 0 | E8: =SUMIF('Dln 3'!#REF!,$E$4,'Dln 3'!$O:$O) -> #REF! | F8: =IFERROR(INDEX('Dln 3'!$M:$M,MATCH($E$4,'Dln 3'!#REF!,0),1),0) -> 0 | G8: =SUMIF('Dln 3'!#REF!,$G$4,'Dln 3'!$O:$O) -> #REF! | H8: =IFERROR(INDEX('Dln 3'!$M:$M,MATCH($G$4,'Dln 3'!#REF!,0),1),0) -> 0 | I8: =SUMIF('Dln 3'!#REF!,$I$4,'Dln 3'!$O:$O) -> #REF! | J8: =IFERROR(INDEX('Dln 3'!$M:$M,MATCH($I$4,'Dln 3'!#REF!,0),1),0) -> 0 | K8: =SUMIF('Dln 3'!#REF!,$K$4,'Dln 3'!$O:$O) -> #REF! | L8: =IFERROR(INDEX('Dln 3'!$M:$M,MATCH($K$4,'Dln 3'!#REF!,0),1),0) -> 0 | M8: =SUMIF('Dln 3'!#REF!,$M$4,'Dln 3'!$O:$O) -> #REF! | N8: =IFERROR(INDEX('Dln 3'!$M:$M,MATCH($M$4,'Dln 3'!#REF!,0),1),0) -> 0 | O8: =SUMIF('Dln 3'!#REF!,$O$4,'Dln 3'!$O:$O) -> #REF! | P8: =IFERROR(INDEX('Dln 3'!$M:$M,MATCH($O$4,'Dln 3'!#REF!,0),1),0) -> 0 | Q8: =SUMIF('Dln 3'!#REF!,$Q$4,'Dln 3'!$O:$O) -> #REF! | R8: =IFERROR(INDEX('Dln 3'!$M:$M,MATCH($Q$4,'Dln 3'!#REF!,0),1),0) -> 0 | S8: =SUMIF('Dln 3'!#REF!,$S$4,'Dln 3'!$O:$O) -> #REF! | T8: =IFERROR(INDEX('Dln 3'!$M:$M,MATCH($S$4,'Dln 3'!#REF!,0),1),0) -> 0 | U8: =SUMIF('Dln 3'!#REF!,$U$4,'Dln 3'!$O:$O) -> #REF! | V8: =IFERROR(INDEX('Dln 3'!$M:$M,MATCH($U$4,'Dln 3'!#REF!,0),1),0) -> 0 | W8: =SUMIF('Dln 3'!#REF!,$W$4,'Dln 3'!$O:$O) -> #REF! | X8: =IFERROR(INDEX('Dln 3'!$M:$M,MATCH($W$4,'Dln 3'!#REF!,0),1),0) -> 0 | Y8: =SUMIF('Dln 3'!#REF!,$Y$4,'Dln 3'!$O:$O) -> #REF! | Z8: =IFERROR(INDEX('Dln 3'!$M:$M,MATCH($Y$4,'Dln 3'!#REF!,0),1),0) -> 0 | AA8: =SUMIF('Dln 3'!#REF!,$AA$4,'Dln 3'!$O:$O) -> #REF! | AB8: =IFERROR(INDEX('Dln 3'!$M:$M,MATCH($AA$4,'Dln 3'!#REF!,0),1),0) -> 0 | AC8: =SUMIF('Dln 3'!#REF!,$AC$4,'Dln 3'!$O:$O) -> #REF! | AD8: =IFERROR(INDEX('Dln 3'!$M:$M,MATCH($AC$4,'Dln 3'!#REF!,0),1),0) -> 0 | AF8: =SUM(C8,E8,G8,I8,K8,M8,O8,Q8,S8,U8,W8,Y8,AA8,AC8) -> #REF! | AG8: =AF6='Dln 3'!K230 -> TRUE
B9: Dln 4 | C9: =SUMIF('Dln 4'!$C$9,$C$4,'Dln 4'!$K$230) -> 0 | D9: =IFERROR(INDEX('Dln 4'!$M:$M,MATCH($C$4,'Dln 4'!#REF!,0),1),0) -> 0 | E9: =SUMIF('Dln 4'!#REF!,$E$4,'Dln 4'!$O:$O) -> #REF! | F9: =IFERROR(INDEX('Dln 4'!$M:$M,MATCH($E$4,'Dln 4'!#REF!,0),1),0) -> 0 | G9: =SUMIF('Dln 4'!#REF!,$G$4,'Dln 4'!$O:$O) -> #REF! | H9: =IFERROR(INDEX('Dln 4'!$M:$M,MATCH($G$4,'Dln 4'!#REF!,0),1),0) -> 0 | I9: =SUMIF('Dln 4'!#REF!,$I$4,'Dln 4'!$O:$O) -> #REF! | J9: =IFERROR(INDEX('Dln 4'!$M:$M,MATCH($I$4,'Dln 4'!#REF!,0),1),0) -> 0 | K9: =SUMIF('Dln 4'!#REF!,$K$4,'Dln 4'!$O:$O) -> #REF! | L9: =IFERROR(INDEX('Dln 4'!$M:$M,MATCH($K$4,'Dln 4'!#REF!,0),1),0) -> 0 | M9: =SUMIF('Dln 4'!#REF!,$M$4,'Dln 4'!$O:$O) -> #REF! | N9: =IFERROR(INDEX('Dln 4'!$M:$M,MATCH($M$4,'Dln 4'!#REF!,0),1),0) -> 0 | O9: =SUMIF('Dln 4'!#REF!,$O$4,'Dln 4'!$O:$O) -> #REF! | P9: =IFERROR(INDEX('Dln 4'!$M:$M,MATCH($O$4,'Dln 4'!#REF!,0),1),0) -> 0 | Q9: =SUMIF('Dln 4'!#REF!,$Q$4,'Dln 4'!$O:$O) -> #REF! | R9: =IFERROR(INDEX('Dln 4'!$M:$M,MATCH($Q$4,'Dln 4'!#REF!,0),1),0) -> 0 | S9: =SUMIF('Dln 4'!#REF!,$S$4,'Dln 4'!$O:$O) -> #REF! | T9: =IFERROR(INDEX('Dln 4'!$M:$M,MATCH($S$4,'Dln 4'!#REF!,0),1),0) -> 0 | U9: =SUMIF('Dln 4'!#REF!,$U$4,'Dln 4'!$O:$O) -> #REF! | V9: =IFERROR(INDEX('Dln 4'!$M:$M,MATCH($U$4,'Dln 4'!#REF!,0),1),0) -> 0 | W9: =SUMIF('Dln 4'!#REF!,$W$4,'Dln 4'!$O:$O) -> #REF! | X9: =IFERROR(INDEX('Dln 4'!$M:$M,MATCH($W$4,'Dln 4'!#REF!,0),1),0) -> 0 | Y9: =SUMIF('Dln 4'!#REF!,$Y$4,'Dln 4'!$O:$O) -> #REF! | Z9: =IFERROR(INDEX('Dln 4'!$M:$M,MATCH($Y$4,'Dln 4'!#REF!,0),1),0) -> 0 | AA9: =SUMIF('Dln 4'!#REF!,$AA$4,'Dln 4'!$O:$O) -> #REF! | AB9: =IFERROR(INDEX('Dln 4'!$M:$M,MATCH($AA$4,'Dln 4'!#REF!,0),1),0) -> 0 | AC9: =SUMIF('Dln 4'!#REF!,$AC$4,'Dln 4'!$O:$O) -> #REF! | AD9: =IFERROR(INDEX('Dln 4'!$M:$M,MATCH($AC$4,'Dln 4'!#REF!,0),1),0) -> 0 | AF9: =SUM(C9,E9,G9,I9,K9,M9,O9,Q9,S9,U9,W9,Y9,AA9,AC9) -> #REF! | AG9: =AF6='Dln 4'!K230 -> TRUE
B10: Dln 5 | C10: =SUMIF('Dln 2'!$C$9,$C$4,'Dln 2'!$K$230) -> 0 | D10: =IFERROR(INDEX('Dln 5'!$M:$M,MATCH($C$4,'Dln 5'!#REF!,0),1),0) -> 0 | E10: =SUMIF('Dln 5'!#REF!,$E$4,'Dln 5'!$O:$O) -> #REF! | F10: =IFERROR(INDEX('Dln 5'!$M:$M,MATCH($E$4,'Dln 5'!#REF!,0),1),0) -> 0 | G10: =SUMIF('Dln 5'!#REF!,$G$4,'Dln 5'!$O:$O) -> #REF! | H10: =IFERROR(INDEX('Dln 5'!$M:$M,MATCH($G$4,'Dln 5'!#REF!,0),1),0) -> 0 | I10: =SUMIF('Dln 5'!#REF!,$I$4,'Dln 5'!$O:$O) -> #REF! | J10: =IFERROR(INDEX('Dln 5'!$M:$M,MATCH($I$4,'Dln 5'!#REF!,0),1),0) -> 0 | K10: =SUMIF('Dln 5'!#REF!,$K$4,'Dln 5'!$O:$O) -> #REF! | L10: =IFERROR(INDEX('Dln 5'!$M:$M,MATCH($K$4,'Dln 5'!#REF!,0),1),0) -> 0 | M10: =SUMIF('Dln 5'!#REF!,$M$4,'Dln 5'!$O:$O) -> #REF! | N10: =IFERROR(INDEX('Dln 5'!$M:$M,MATCH($M$4,'Dln 5'!#REF!,0),1),0) -> 0 | O10: =SUMIF('Dln 5'!#REF!,$O$4,'Dln 5'!$O:$O) -> #REF! | P10: =IFERROR(INDEX('Dln 5'!$M:$M,MATCH($O$4,'Dln 5'!#REF!,0),1),0) -> 0 | Q10: =SUMIF('Dln 5'!#REF!,$Q$4,'Dln 5'!$O:$O) -> #REF! | R10: =IFERROR(INDEX('Dln 5'!$M:$M,MATCH($Q$4,'Dln 5'!#REF!,0),1),0) -> 0 | S10: =SUMIF('Dln 5'!#REF!,$S$4,'Dln 5'!$O:$O) -> #REF! | T10: =IFERROR(INDEX('Dln 5'!$M:$M,MATCH($S$4,'Dln 5'!#REF!,0),1),0) -> 0 | U10: =SUMIF('Dln 5'!#REF!,$U$4,'Dln 5'!$O:$O) -> #REF! | V10: =IFERROR(INDEX('Dln 5'!$M:$M,MATCH($U$4,'Dln 5'!#REF!,0),1),0) -> 0 | W10: =SUMIF('Dln 5'!#REF!,$W$4,'Dln 5'!$O:$O) -> #REF! | X10: =IFERROR(INDEX('Dln 5'!$M:$M,MATCH($W$4,'Dln 5'!#REF!,0),1),0) -> 0 | Y10: =SUMIF('Dln 5'!#REF!,$Y$4,'Dln 5'!$O:$O) -> #REF! | Z10: =IFERROR(INDEX('Dln 5'!$M:$M,MATCH($Y$4,'Dln 5'!#REF!,0),1),0) -> 0 | AA10: =SUMIF('Dln 5'!#REF!,$AA$4,'Dln 5'!$O:$O) -> #REF! | AB10: =IFERROR(INDEX('Dln 5'!$M:$M,MATCH($AA$4,'Dln 5'!#REF!,0),1),0) -> 0 | AC10: =SUMIF('Dln 5'!#REF!,$AC$4,'Dln 5'!$O:$O) -> #REF! | AD10: =IFERROR(INDEX('Dln 5'!$M:$M,MATCH($AC$4,'Dln 5'!#REF!,0),1),0) -> 0 | AF10: =SUM(C10,E10,G10,I10,K10,M10,O10,Q10,S10,U10,W10,Y10,AA10,AC10) -> #REF! | AG10: =AF6='Dln 5'!K230 -> TRUE
B11: Dln 6 | C11: =SUMIF('Dln 2'!$C$9,$C$4,'Dln 2'!$K$230) -> 0 | D11: =IFERROR(INDEX('Dln 6'!$M:$M,MATCH($C$4,'Dln 6'!#REF!,0),1),0) -> 0 | E11: =SUMIF('Dln 6'!#REF!,$E$4,'Dln 6'!$O:$O) -> #REF! | F11: =IFERROR(INDEX('Dln 6'!$M:$M,MATCH($E$4,'Dln 6'!#REF!,0),1),0) -> 0 | G11: =SUMIF('Dln 6'!#REF!,$G$4,'Dln 6'!$O:$O) -> #REF! | H11: =IFERROR(INDEX('Dln 6'!$M:$M,MATCH($G$4,'Dln 6'!#REF!,0),1),0) -> 0 | I11: =SUMIF('Dln 6'!#REF!,$I$4,'Dln 6'!$O:$O) -> #REF! | J11: =IFERROR(INDEX('Dln 6'!$M:$M,MATCH($I$4,'Dln 6'!#REF!,0),1),0) -> 0 | K11: =SUMIF('Dln 6'!#REF!,$K$4,'Dln 6'!$O:$O) -> #REF! | L11: =IFERROR(INDEX('Dln 6'!$M:$M,MATCH($K$4,'Dln 6'!#REF!,0),1),0) -> 0 | M11: =SUMIF('Dln 6'!#REF!,$M$4,'Dln 6'!$O:$O) -> #REF! | N11: =IFERROR(INDEX('Dln 6'!$M:$M,MATCH($M$4,'Dln 6'!#REF!,0),1),0) -> 0 | O11: =SUMIF('Dln 6'!#REF!,$O$4,'Dln 6'!$O:$O) -> #REF! | P11: =IFERROR(INDEX('Dln 6'!$M:$M,MATCH($O$4,'Dln 6'!#REF!,0),1),0) -> 0 | Q11: =SUMIF('Dln 6'!#REF!,$Q$4,'Dln 6'!$O:$O) -> #REF! | R11: =IFERROR(INDEX('Dln 6'!$M:$M,MATCH($Q$4,'Dln 6'!#REF!,0),1),0) -> 0 | S11: =SUMIF('Dln 6'!#REF!,$S$4,'Dln 6'!$O:$O) -> #REF! | T11: =IFERROR(INDEX('Dln 6'!$M:$M,MATCH($S$4,'Dln 6'!#REF!,0),1),0) -> 0 | U11: =SUMIF('Dln 6'!#REF!,$U$4,'Dln 6'!$O:$O) -> #REF! | V11: =IFERROR(INDEX('Dln 6'!$M:$M,MATCH($U$4,'Dln 6'!#REF!,0),1),0) -> 0 | W11: =SUMIF('Dln 6'!#REF!,$W$4,'Dln 6'!$O:$O) -> #REF! | X11: =IFERROR(INDEX('Dln 6'!$M:$M,MATCH($W$4,'Dln 6'!#REF!,0),1),0) -> 0 | Y11: =SUMIF('Dln 6'!#REF!,$Y$4,'Dln 6'!$O:$O) -> #REF! | Z11: =IFERROR(INDEX('Dln 6'!$M:$M,MATCH($Y$4,'Dln 6'!#REF!,0),1),0) -> 0 | AA11: =SUMIF('Dln 6'!#REF!,$AA$4,'Dln 6'!$O:$O) -> #REF! | AB11: =IFERROR(INDEX('Dln 6'!$M:$M,MATCH($AA$4,'Dln 6'!#REF!,0),1),0) -> 0 | AC11: =SUMIF('Dln 6'!#REF!,$AC$4,'Dln 6'!$O:$O) -> #REF! | AD11: =IFERROR(INDEX('Dln 6'!$M:$M,MATCH($AC$4,'Dln 6'!#REF!,0),1),0) -> 0 | AF11: =SUM(C11,E11,G11,I11,K11,M11,O11,Q11,S11,U11,W11,Y11,AA11,AC11) -> #REF! | AG11: =AF6='Dln 6'!K230 -> TRUE
B12: Dln 7 | C12: =SUMIF('Dln 2'!$C$9,$C$4,'Dln 2'!$K$230) -> 0 | D12: =IFERROR(INDEX('Dln 7'!$M:$M,MATCH($C$4,'Dln 7'!#REF!,0),1),0) -> 0 | E12: =SUMIF('Dln 7'!#REF!,$E$4,'Dln 7'!$O:$O) -> #REF! | F12: =IFERROR(INDEX('Dln 7'!$M:$M,MATCH($E$4,'Dln 7'!#REF!,0),1),0) -> 0 | G12: =SUMIF('Dln 7'!#REF!,$G$4,'Dln 7'!$O:$O) -> #REF! | H12: =IFERROR(INDEX('Dln 7'!$M:$M,MATCH($G$4,'Dln 7'!#REF!,0),1),0) -> 0 | I12: =SUMIF('Dln 7'!#REF!,$I$4,'Dln 7'!$O:$O) -> #REF! | J12: =IFERROR(INDEX('Dln 7'!$M:$M,MATCH($I$4,'Dln 7'!#REF!,0),1),0) -> 0 | K12: =SUMIF('Dln 7'!#REF!,$K$4,'Dln 7'!$O:$O) -> #REF! | L12: =IFERROR(INDEX('Dln 7'!$M:$M,MATCH($K$4,'Dln 7'!#REF!,0),1),0) -> 0 | M12: =SUMIF('Dln 7'!#REF!,$M$4,'Dln 7'!$O:$O) -> #REF! | N12: =IFERROR(INDEX('Dln 7'!$M:$M,MATCH($M$4,'Dln 7'!#REF!,0),1),0) -> 0 | O12: =SUMIF('Dln 7'!#REF!,$O$4,'Dln 7'!$O:$O) -> #REF! | P12: =IFERROR(INDEX('Dln 7'!$M:$M,MATCH($O$4,'Dln 7'!#REF!,0),1),0) -> 0 | Q12: =SUMIF('Dln 7'!#REF!,$Q$4,'Dln 7'!$O:$O) -> #REF! | R12: =IFERROR(INDEX('Dln 7'!$M:$M,MATCH($Q$4,'Dln 7'!#REF!,0),1),0) -> 0 | S12: =SUMIF('Dln 7'!#REF!,$S$4,'Dln 7'!$O:$O) -> #REF! | T12: =IFERROR(INDEX('Dln 7'!$M:$M,MATCH($S$4,'Dln 7'!#REF!,0),1),0) -> 0 | U12: =SUMIF('Dln 7'!#REF!,$U$4,'Dln 7'!$O:$O) -> #REF! | V12: =IFERROR(INDEX('Dln 7'!$M:$M,MATCH($U$4,'Dln 7'!#REF!,0),1),0) -> 0 | W12: =SUMIF('Dln 7'!#REF!,$W$4,'Dln 7'!$O:$O) -> #REF! | X12: =IFERROR(INDEX('Dln 7'!$M:$M,MATCH($W$4,'Dln 7'!#REF!,0),1),0) -> 0 | Y12: =SUMIF('Dln 7'!#REF!,$Y$4,'Dln 7'!$O:$O) -> #REF! | Z12: =IFERROR(INDEX('Dln 7'!$M:$M,MATCH($Y$4,'Dln 7'!#REF!,0),1),0) -> 0 | AA12: =SUMIF('Dln 7'!#REF!,$AA$4,'Dln 7'!$O:$O) -> #REF! | AB12: =IFERROR(INDEX('Dln 7'!$M:$M,MATCH($AA$4,'Dln 7'!#REF!,0),1),0) -> 0 | AC12: =SUMIF('Dln 7'!#REF!,$AC$4,'Dln 7'!$O:$O) -> #REF! | AD12: =IFERROR(INDEX('Dln 7'!$M:$M,MATCH($AC$4,'Dln 7'!#REF!,0),1),0) -> 0 | AF12: =SUM(C12,E12,G12,I12,K12,M12,O12,Q12,S12,U12,W12,Y12,AA12,AC12) -> #REF! | AG12: =AF6='Dln 7'!K230 -> TRUE
B13: Dln 8 | C13: =SUMIF('Dln 2'!$C$9,$C$4,'Dln 2'!$K$230) -> 0 | D13: =IFERROR(INDEX('Dln 8'!$M:$M,MATCH($C$4,'Dln 8'!#REF!,0),1),0) -> 0 | E13: =SUMIF('Dln 8'!#REF!,$E$4,'Dln 8'!$O:$O) -> #REF! | F13: =IFERROR(INDEX('Dln 8'!$M:$M,MATCH($E$4,'Dln 8'!#REF!,0),1),0) -> 0 | G13: =SUMIF('Dln 8'!#REF!,$G$4,'Dln 8'!$O:$O) -> #REF! | H13: =IFERROR(INDEX('Dln 8'!$M:$M,MATCH($G$4,'Dln 8'!#REF!,0),1),0) -> 0 | I13: =SUMIF('Dln 8'!#REF!,$I$4,'Dln 8'!$O:$O) -> #REF! | J13: =IFERROR(INDEX('Dln 8'!$M:$M,MATCH($I$4,'Dln 8'!#REF!,0),1),0) -> 0 | K13: =SUMIF('Dln 8'!#REF!,$K$4,'Dln 8'!$O:$O) -> #REF! | L13: =IFERROR(INDEX('Dln 8'!$M:$M,MATCH($K$4,'Dln 8'!#REF!,0),1),0) -> 0 | M13: =SUMIF('Dln 8'!#REF!,$M$4,'Dln 8'!$O:$O) -> #REF! | N13: =IFERROR(INDEX('Dln 8'!$M:$M,MATCH($M$4,'Dln 8'!#REF!,0),1),0) -> 0 | O13: =SUMIF('Dln 8'!#REF!,$O$4,'Dln 8'!$O:$O) -> #REF! | P13: =IFERROR(INDEX('Dln 8'!$M:$M,MATCH($O$4,'Dln 8'!#REF!,0),1),0) -> 0 | Q13: =SUMIF('Dln 8'!#REF!,$Q$4,'Dln 8'!$O:$O) -> #REF! | R13: =IFERROR(INDEX('Dln 8'!$M:$M,MATCH($Q$4,'Dln 8'!#REF!,0),1),0) -> 0 | S13: =SUMIF('Dln 8'!#REF!,$S$4,'Dln 8'!$O:$O) -> #REF! | T13: =IFERROR(INDEX('Dln 8'!$M:$M,MATCH($S$4,'Dln 8'!#REF!,0),1),0) -> 0 | U13: =SUMIF('Dln 8'!#REF!,$U$4,'Dln 8'!$O:$O) -> #REF! | V13: =IFERROR(INDEX('Dln 8'!$M:$M,MATCH($U$4,'Dln 8'!#REF!,0),1),0) -> 0 | W13: =SUMIF('Dln 8'!#REF!,$W$4,'Dln 8'!$O:$O) -> #REF! | X13: =IFERROR(INDEX('Dln 8'!$M:$M,MATCH($W$4,'Dln 8'!#REF!,0),1),0) -> 0 | Y13: =SUMIF('Dln 8'!#REF!,$Y$4,'Dln 8'!$O:$O) -> #REF! | Z13: =IFERROR(INDEX('Dln 8'!$M:$M,MATCH($Y$4,'Dln 8'!#REF!,0),1),0) -> 0 | AA13: =SUMIF('Dln 8'!#REF!,$AA$4,'Dln 8'!$O:$O) -> #REF! | AB13: =IFERROR(INDEX('Dln 8'!$M:$M,MATCH($AA$4,'Dln 8'!#REF!,0),1),0) -> 0 | AC13: =SUMIF('Dln 8'!#REF!,$AC$4,'Dln 8'!$O:$O) -> #REF! | AD13: =IFERROR(INDEX('Dln 8'!$M:$M,MATCH($AC$4,'Dln 8'!#REF!,0),1),0) -> 0 | AF13: =SUM(C13,E13,G13,I13,K13,M13,O13,Q13,S13,U13,W13,Y13,AA13,AC13) -> #REF! | AG13: =AF6='Dln 8'!K230 -> TRUE
B14: Dln 9 | C14: =SUMIF('Dln 2'!$C$9,$C$4,'Dln 2'!$K$230) -> 0 | D14: =IFERROR(INDEX('Dln 9'!$M:$M,MATCH($C$4,'Dln 9'!#REF!,0),1),0) -> 0 | E14: =SUMIF('Dln 9'!#REF!,$E$4,'Dln 9'!$O:$O) -> #REF! | F14: =IFERROR(INDEX('Dln 9'!$M:$M,MATCH($E$4,'Dln 9'!#REF!,0),1),0) -> 0 | G14: =SUMIF('Dln 9'!#REF!,$G$4,'Dln 9'!$O:$O) -> #REF! | H14: =IFERROR(INDEX('Dln 9'!$M:$M,MATCH($G$4,'Dln 9'!#REF!,0),1),0) -> 0 | I14: =SUMIF('Dln 9'!#REF!,$I$4,'Dln 9'!$O:$O) -> #REF! | J14: =IFERROR(INDEX('Dln 9'!$M:$M,MATCH($I$4,'Dln 9'!#REF!,0),1),0) -> 0 | K14: =SUMIF('Dln 9'!#REF!,$K$4,'Dln 9'!$O:$O) -> #REF! | L14: =IFERROR(INDEX('Dln 9'!$M:$M,MATCH($K$4,'Dln 9'!#REF!,0),1),0) -> 0 | M14: =SUMIF('Dln 9'!#REF!,$M$4,'Dln 9'!$O:$O) -> #REF! | N14: =IFERROR(INDEX('Dln 9'!$M:$M,MATCH($M$4,'Dln 9'!#REF!,0),1),0) -> 0 | O14: =SUMIF('Dln 9'!#REF!,$O$4,'Dln 9'!$O:$O) -> #REF! | P14: =IFERROR(INDEX('Dln 9'!$M:$M,MATCH($O$4,'Dln 9'!#REF!,0),1),0) -> 0 | Q14: =SUMIF('Dln 9'!#REF!,$Q$4,'Dln 9'!$O:$O) -> #REF! | R14: =IFERROR(INDEX('Dln 9'!$M:$M,MATCH($Q$4,'Dln 9'!#REF!,0),1),0) -> 0 | S14: =SUMIF('Dln 9'!#REF!,$S$4,'Dln 9'!$O:$O) -> #REF! | T14: =IFERROR(INDEX('Dln 9'!$M:$M,MATCH($S$4,'Dln 9'!#REF!,0),1),0) -> 0 | U14: =SUMIF('Dln 9'!#REF!,$U$4,'Dln 9'!$O:$O) -> #REF! | V14: =IFERROR(INDEX('Dln 9'!$M:$M,MATCH($U$4,'Dln 9'!#REF!,0),1),0) -> 0 | W14: =SUMIF('Dln 9'!#REF!,$W$4,'Dln 9'!$O:$O) -> #REF! | X14: =IFERROR(INDEX('Dln 9'!$M:$M,MATCH($W$4,'Dln 9'!#REF!,0),1),0) -> 0 | Y14: =SUMIF('Dln 9'!#REF!,$Y$4,'Dln 9'!$O:$O) -> #REF! | Z14: =IFERROR(INDEX('Dln 9'!$M:$M,MATCH($Y$4,'Dln 9'!#REF!,0),1),0) -> 0 | AA14: =SUMIF('Dln 9'!#REF!,$AA$4,'Dln 9'!$O:$O) -> #REF! | AB14: =IFERROR(INDEX('Dln 9'!$M:$M,MATCH($AA$4,'Dln 9'!#REF!,0),1),0) -> 0 | AC14: =SUMIF('Dln 9'!#REF!,$AC$4,'Dln 9'!$O:$O) -> #REF! | AD14: =IFERROR(INDEX('Dln 9'!$M:$M,MATCH($AC$4,'Dln 9'!#REF!,0),1),0) -> 0 | AF14: =SUM(C14,E14,G14,I14,K14,M14,O14,Q14,S14,U14,W14,Y14,AA14,AC14) -> #REF! | AG14: =AF6='Dln 9'!K230 -> TRUE
B15: Dln 10 | C15: =SUMIF('Dln 2'!$C$9,$C$4,'Dln 2'!$K$230) -> 0 | D15: =IFERROR(INDEX('Dln 10'!$M:$M,MATCH($C$4,'Dln 10'!#REF!,0),1),0) -> 0 | E15: =SUMIF('Dln 10'!#REF!,$E$4,'Dln 10'!$O:$O) -> #REF! | F15: =IFERROR(INDEX('Dln 10'!$M:$M,MATCH($E$4,'Dln 10'!#REF!,0),1),0) -> 0 | G15: =SUMIF('Dln 10'!#REF!,$G$4,'Dln 10'!$O:$O) -> #REF! | H15: =IFERROR(INDEX('Dln 10'!$M:$M,MATCH($G$4,'Dln 10'!#REF!,0),1),0) -> 0 | I15: =SUMIF('Dln 10'!#REF!,$I$4,'Dln 10'!$O:$O) -> #REF! | J15: =IFERROR(INDEX('Dln 10'!$M:$M,MATCH($I$4,'Dln 10'!#REF!,0),1),0) -> 0 | K15: =SUMIF('Dln 10'!#REF!,$K$4,'Dln 10'!$O:$O) -> #REF! | L15: =IFERROR(INDEX('Dln 10'!$M:$M,MATCH($K$4,'Dln 10'!#REF!,0),1),0) -> 0 | M15: =SUMIF('Dln 10'!#REF!,$M$4,'Dln 10'!$O:$O) -> #REF! | N15: =IFERROR(INDEX('Dln 10'!$M:$M,MATCH($M$4,'Dln 10'!#REF!,0),1),0) -> 0 | O15: =SUMIF('Dln 10'!#REF!,$O$4,'Dln 10'!$O:$O) -> #REF! | P15: =IFERROR(INDEX('Dln 10'!$M:$M,MATCH($O$4,'Dln 10'!#REF!,0),1),0) -> 0 | Q15: =SUMIF('Dln 10'!#REF!,$Q$4,'Dln 10'!$O:$O) -> #REF! | R15: =IFERROR(INDEX('Dln 10'!$M:$M,MATCH($Q$4,'Dln 10'!#REF!,0),1),0) -> 0 | S15: =SUMIF('Dln 10'!#REF!,$S$4,'Dln 10'!$O:$O) -> #REF! | T15: =IFERROR(INDEX('Dln 10'!$M:$M,MATCH($S$4,'Dln 10'!#REF!,0),1),0) -> 0 | U15: =SUMIF('Dln 10'!#REF!,$U$4,'Dln 10'!$O:$O) -> #REF! | V15: =IFERROR(INDEX('Dln 10'!$M:$M,MATCH($U$4,'Dln 10'!#REF!,0),1),0) -> 0 | W15: =SUMIF('Dln 10'!#REF!,$W$4,'Dln 10'!$O:$O) -> #REF! | X15: =IFERROR(INDEX('Dln 10'!$M:$M,MATCH($W$4,'Dln 10'!#REF!,0),1),0) -> 0 | Y15: =SUMIF('Dln 10'!#REF!,$Y$4,'Dln 10'!$O:$O) -> #REF! | Z15: =IFERROR(INDEX('Dln 10'!$M:$M,MATCH($Y$4,'Dln 10'!#REF!,0),1),0) -> 0 | AA15: =SUMIF('Dln 10'!#REF!,$AA$4,'Dln 10'!$O:$O) -> #REF! | AB15: =IFERROR(INDEX('Dln 10'!$M:$M,MATCH($AA$4,'Dln 10'!#REF!,0),1),0) -> 0 | AC15: =SUMIF('Dln 10'!#REF!,$AC$4,'Dln 10'!$O:$O) -> #REF! | AD15: =IFERROR(INDEX('Dln 10'!$M:$M,MATCH($AC$4,'Dln 10'!#REF!,0),1),0) -> 0 | AF15: =SUM(C15,E15,G15,I15,K15,M15,O15,Q15,S15,U15,W15,Y15,AA15,AC15) -> #REF! | AG15: =AF6='Dln 10'!K230 -> TRUE
B16: Dln 11 | C16: =SUMIF('Dln 2'!$C$9,$C$4,'Dln 2'!$K$230) -> 0 | D16: =IFERROR(INDEX('Dln 11'!$M:$M,MATCH($C$4,'Dln 11'!#REF!,0),1),0) -> 0 | E16: =SUMIF('Dln 11'!#REF!,$E$4,'Dln 11'!$O:$O) -> #REF! | F16: =IFERROR(INDEX('Dln 11'!$M:$M,MATCH($E$4,'Dln 11'!#REF!,0),1),0) -> 0 | G16: =SUMIF('Dln 11'!#REF!,$G$4,'Dln 11'!$O:$O) -> #REF! | H16: =IFERROR(INDEX('Dln 11'!$M:$M,MATCH($G$4,'Dln 11'!#REF!,0),1),0) -> 0 | I16: =SUMIF('Dln 11'!#REF!,$I$4,'Dln 11'!$O:$O) -> #REF! | J16: =IFERROR(INDEX('Dln 11'!$M:$M,MATCH($I$4,'Dln 11'!#REF!,0),1),0) -> 0 | K16: =SUMIF('Dln 11'!#REF!,$K$4,'Dln 11'!$O:$O) -> #REF! | L16: =IFERROR(INDEX('Dln 11'!$M:$M,MATCH($K$4,'Dln 11'!#REF!,0),1),0) -> 0 | M16: =SUMIF('Dln 11'!#REF!,$M$4,'Dln 11'!$O:$O) -> #REF! | N16: =IFERROR(INDEX('Dln 11'!$M:$M,MATCH($M$4,'Dln 11'!#REF!,0),1),0) -> 0 | O16: =SUMIF('Dln 11'!#REF!,$O$4,'Dln 11'!$O:$O) -> #REF! | P16: =IFERROR(INDEX('Dln 11'!$M:$M,MATCH($O$4,'Dln 11'!#REF!,0),1),0) -> 0 | Q16: =SUMIF('Dln 11'!#REF!,$Q$4,'Dln 11'!$O:$O) -> #REF! | R16: =IFERROR(INDEX('Dln 11'!$M:$M,MATCH($Q$4,'Dln 11'!#REF!,0),1),0) -> 0 | S16: =SUMIF('Dln 11'!#REF!,$S$4,'Dln 11'!$O:$O) -> #REF! | T16: =IFERROR(INDEX('Dln 11'!$M:$M,MATCH($S$4,'Dln 11'!#REF!,0),1),0) -> 0 | U16: =SUMIF('Dln 11'!#REF!,$U$4,'Dln 11'!$O:$O) -> #REF! | V16: =IFERROR(INDEX('Dln 11'!$M:$M,MATCH($U$4,'Dln 11'!#REF!,0),1),0) -> 0 | W16: =SUMIF('Dln 11'!#REF!,$W$4,'Dln 11'!$O:$O) -> #REF! | X16: =IFERROR(INDEX('Dln 11'!$M:$M,MATCH($W$4,'Dln 11'!#REF!,0),1),0) -> 0 | Y16: =SUMIF('Dln 11'!#REF!,$Y$4,'Dln 11'!$O:$O) -> #REF! | Z16: =IFERROR(INDEX('Dln 11'!$M:$M,MATCH($Y$4,'Dln 11'!#REF!,0),1),0) -> 0 | AA16: =SUMIF('Dln 11'!#REF!,$AA$4,'Dln 11'!$O:$O) -> #REF! | AB16: =IFERROR(INDEX('Dln 11'!$M:$M,MATCH($AA$4,'Dln 11'!#REF!,0),1),0) -> 0 | AC16: =SUMIF('Dln 11'!#REF!,$AC$4,'Dln 11'!$O:$O) -> #REF! | AD16: =IFERROR(INDEX('Dln 11'!$M:$M,MATCH($AC$4,'Dln 11'!#REF!,0),1),0) -> 0 | AF16: =SUM(C16,E16,G16,I16,K16,M16,O16,Q16,S16,U16,W16,Y16,AA16,AC16) -> #REF! | AG16: =AF6='Dln 11'!K230 -> TRUE
B17: Dln 12 | C17: =SUMIF('Dln 2'!$C$9,$C$4,'Dln 2'!$K$230) -> 0 | D17: =IFERROR(INDEX('Dln 12'!$M:$M,MATCH($C$4,'Dln 12'!#REF!,0),1),0) -> 0 | E17: =SUMIF('Dln 12'!#REF!,$E$4,'Dln 12'!$O:$O) -> #REF! | F17: =IFERROR(INDEX('Dln 12'!$M:$M,MATCH($E$4,'Dln 12'!#REF!,0),1),0) -> 0 | G17: =SUMIF('Dln 12'!#REF!,$G$4,'Dln 12'!$O:$O) -> #REF! | H17: =IFERROR(INDEX('Dln 12'!$M:$M,MATCH($G$4,'Dln 12'!#REF!,0),1),0) -> 0 | I17: =SUMIF('Dln 12'!#REF!,$I$4,'Dln 12'!$O:$O) -> #REF! | J17: =IFERROR(INDEX('Dln 12'!$M:$M,MATCH($I$4,'Dln 12'!#REF!,0),1),0) -> 0 | K17: =SUMIF('Dln 12'!#REF!,$K$4,'Dln 12'!$O:$O) -> #REF! | L17: =IFERROR(INDEX('Dln 12'!$M:$M,MATCH($K$4,'Dln 12'!#REF!,0),1),0) -> 0 | M17: =SUMIF('Dln 12'!#REF!,$M$4,'Dln 12'!$O:$O) -> #REF! | N17: =IFERROR(INDEX('Dln 12'!$M:$M,MATCH($M$4,'Dln 12'!#REF!,0),1),0) -> 0 | O17: =SUMIF('Dln 12'!#REF!,$O$4,'Dln 12'!$O:$O) -> #REF! | P17: =IFERROR(INDEX('Dln 12'!$M:$M,MATCH($O$4,'Dln 12'!#REF!,0),1),0) -> 0 | Q17: =SUMIF('Dln 12'!#REF!,$Q$4,'Dln 12'!$O:$O) -> #REF! | R17: =IFERROR(INDEX('Dln 12'!$M:$M,MATCH($Q$4,'Dln 12'!#REF!,0),1),0) -> 0 | S17: =SUMIF('Dln 12'!#REF!,$S$4,'Dln 12'!$O:$O) -> #REF! | T17: =IFERROR(INDEX('Dln 12'!$M:$M,MATCH($S$4,'Dln 12'!#REF!,0),1),0) -> 0 | U17: =SUMIF('Dln 12'!#REF!,$U$4,'Dln 12'!$O:$O) -> #REF! | V17: =IFERROR(INDEX('Dln 12'!$M:$M,MATCH($U$4,'Dln 12'!#REF!,0),1),0) -> 0 | W17: =SUMIF('Dln 12'!#REF!,$W$4,'Dln 12'!$O:$O) -> #REF! | X17: =IFERROR(INDEX('Dln 12'!$M:$M,MATCH($W$4,'Dln 12'!#REF!,0),1),0) -> 0 | Y17: =SUMIF('Dln 12'!#REF!,$Y$4,'Dln 12'!$O:$O) -> #REF! | Z17: =IFERROR(INDEX('Dln 12'!$M:$M,MATCH($Y$4,'Dln 12'!#REF!,0),1),0) -> 0 | AA17: =SUMIF('Dln 12'!#REF!,$AA$4,'Dln 12'!$O:$O) -> #REF! | AB17: =IFERROR(INDEX('Dln 12'!$M:$M,MATCH($AA$4,'Dln 12'!#REF!,0),1),0) -> 0 | AC17: =SUMIF('Dln 12'!#REF!,$AC$4,'Dln 12'!$O:$O) -> #REF! | AD17: =IFERROR(INDEX('Dln 12'!$M:$M,MATCH($AC$4,'Dln 12'!#REF!,0),1),0) -> 0 | AF17: =SUM(C17,E17,G17,I17,K17,M17,O17,Q17,S17,U17,W17,Y17,AA17,AC17) -> #REF! | AG17: =AF6='Dln 12'!K230 -> TRUE
B18: Dln 13 | C18: =SUMIF('Dln 2'!$C$9,$C$4,'Dln 2'!$K$230) -> 0 | D18: =IFERROR(INDEX('Dln 13'!$M:$M,MATCH($C$4,'Dln 13'!#REF!,0),1),0) -> 0 | E18: =SUMIF('Dln 13'!#REF!,$E$4,'Dln 13'!$O:$O) -> #REF! | F18: =IFERROR(INDEX('Dln 13'!$M:$M,MATCH($E$4,'Dln 13'!#REF!,0),1),0) -> 0 | G18: =SUMIF('Dln 13'!#REF!,$G$4,'Dln 13'!$O:$O) -> #REF! | H18: =IFERROR(INDEX('Dln 13'!$M:$M,MATCH($G$4,'Dln 13'!#REF!,0),1),0) -> 0 | I18: =SUMIF('Dln 13'!#REF!,$I$4,'Dln 13'!$O:$O) -> #REF! | J18: =IFERROR(INDEX('Dln 13'!$M:$M,MATCH($I$4,'Dln 13'!#REF!,0),1),0) -> 0 | K18: =SUMIF('Dln 13'!#REF!,$K$4,'Dln 13'!$O:$O) -> #REF! | L18: =IFERROR(INDEX('Dln 13'!$M:$M,MATCH($K$4,'Dln 13'!#REF!,0),1),0) -> 0 | M18: =SUMIF('Dln 13'!#REF!,$M$4,'Dln 13'!$O:$O) -> #REF! | N18: =IFERROR(INDEX('Dln 13'!$M:$M,MATCH($M$4,'Dln 13'!#REF!,0),1),0) -> 0 | O18: =SUMIF('Dln 13'!#REF!,$O$4,'Dln 13'!$O:$O) -> #REF! | P18: =IFERROR(INDEX('Dln 13'!$M:$M,MATCH($O$4,'Dln 13'!#REF!,0),1),0) -> 0 | Q18: =SUMIF('Dln 13'!#REF!,$Q$4,'Dln 13'!$O:$O) -> #REF! | R18: =IFERROR(INDEX('Dln 13'!$M:$M,MATCH($Q$4,'Dln 13'!#REF!,0),1),0) -> 0 | S18: =SUMIF('Dln 13'!#REF!,$S$4,'Dln 13'!$O:$O) -> #REF! | T18: =IFERROR(INDEX('Dln 13'!$M:$M,MATCH($S$4,'Dln 13'!#REF!,0),1),0) -> 0 | U18: =SUMIF('Dln 13'!#REF!,$U$4,'Dln 13'!$O:$O) -> #REF! | V18: =IFERROR(INDEX('Dln 13'!$M:$M,MATCH($U$4,'Dln 13'!#REF!,0),1),0) -> 0 | W18: =SUMIF('Dln 13'!#REF!,$W$4,'Dln 13'!$O:$O) -> #REF! | X18: =IFERROR(INDEX('Dln 13'!$M:$M,MATCH($W$4,'Dln 13'!#REF!,0),1),0) -> 0 | Y18: =SUMIF('Dln 13'!#REF!,$Y$4,'Dln 13'!$O:$O) -> #REF! | Z18: =IFERROR(INDEX('Dln 13'!$M:$M,MATCH($Y$4,'Dln 13'!#REF!,0),1),0) -> 0 | AA18: =SUMIF('Dln 13'!#REF!,$AA$4,'Dln 13'!$O:$O) -> #REF! | AB18: =IFERROR(INDEX('Dln 13'!$M:$M,MATCH($AA$4,'Dln 13'!#REF!,0),1),0) -> 0 | AC18: =SUMIF('Dln 13'!#REF!,$AC$4,'Dln 13'!$O:$O) -> #REF! | AD18: =IFERROR(INDEX('Dln 13'!$M:$M,MATCH($AC$4,'Dln 13'!#REF!,0),1),0) -> 0 | AF18: =SUM(C18,E18,G18,I18,K18,M18,O18,Q18,S18,U18,W18,Y18,AA18,AC18) -> #REF! | AG18: =AF6='Dln 13'!K230 -> TRUE
B19: Dln 14 | C19: =SUMIF('Dln 2'!$C$9,$C$4,'Dln 2'!$K$230) -> 0 | D19: =IFERROR(INDEX('Dln 14'!$M:$M,MATCH($C$4,'Dln 14'!#REF!,0),1),0) -> 0 | E19: =SUMIF('Dln 14'!#REF!,$E$4,'Dln 14'!$O:$O) -> #REF! | F19: =IFERROR(INDEX('Dln 14'!$M:$M,MATCH($E$4,'Dln 14'!#REF!,0),1),0) -> 0 | G19: =SUMIF('Dln 14'!#REF!,$G$4,'Dln 14'!$O:$O) -> #REF! | H19: =IFERROR(INDEX('Dln 14'!$M:$M,MATCH($G$4,'Dln 14'!#REF!,0),1),0) -> 0 | I19: =SUMIF('Dln 14'!#REF!,$I$4,'Dln 14'!$O:$O) -> #REF! | J19: =IFERROR(INDEX('Dln 14'!$M:$M,MATCH($I$4,'Dln 14'!#REF!,0),1),0) -> 0 | K19: =SUMIF('Dln 14'!#REF!,$K$4,'Dln 14'!$O:$O) -> #REF! | L19: =IFERROR(INDEX('Dln 14'!$M:$M,MATCH($K$4,'Dln 14'!#REF!,0),1),0) -> 0 | M19: =SUMIF('Dln 14'!#REF!,$M$4,'Dln 14'!$O:$O) -> #REF! | N19: =IFERROR(INDEX('Dln 14'!$M:$M,MATCH($M$4,'Dln 14'!#REF!,0),1),0) -> 0 | O19: =SUMIF('Dln 14'!#REF!,$O$4,'Dln 14'!$O:$O) -> #REF! | P19: =IFERROR(INDEX('Dln 14'!$M:$M,MATCH($O$4,'Dln 14'!#REF!,0),1),0) -> 0 | Q19: =SUMIF('Dln 14'!#REF!,$Q$4,'Dln 14'!$O:$O) -> #REF! | R19: =IFERROR(INDEX('Dln 14'!$M:$M,MATCH($Q$4,'Dln 14'!#REF!,0),1),0) -> 0 | S19: =SUMIF('Dln 14'!#REF!,$S$4,'Dln 14'!$O:$O) -> #REF! | T19: =IFERROR(INDEX('Dln 14'!$M:$M,MATCH($S$4,'Dln 14'!#REF!,0),1),0) -> 0 | U19: =SUMIF('Dln 14'!#REF!,$U$4,'Dln 14'!$O:$O) -> #REF! | V19: =IFERROR(INDEX('Dln 14'!$M:$M,MATCH($U$4,'Dln 14'!#REF!,0),1),0) -> 0 | W19: =SUMIF('Dln 14'!#REF!,$W$4,'Dln 14'!$O:$O) -> #REF! | X19: =IFERROR(INDEX('Dln 14'!$M:$M,MATCH($W$4,'Dln 14'!#REF!,0),1),0) -> 0 | Y19: =SUMIF('Dln 14'!#REF!,$Y$4,'Dln 14'!$O:$O) -> #REF! | Z19: =IFERROR(INDEX('Dln 14'!$M:$M,MATCH($Y$4,'Dln 14'!#REF!,0),1),0) -> 0 | AA19: =SUMIF('Dln 14'!#REF!,$AA$4,'Dln 14'!$O:$O) -> #REF! | AB19: =IFERROR(INDEX('Dln 14'!$M:$M,MATCH($AA$4,'Dln 14'!#REF!,0),1),0) -> 0 | AC19: =SUMIF('Dln 14'!#REF!,$AC$4,'Dln 14'!$O:$O) -> #REF! | AD19: =IFERROR(INDEX('Dln 14'!$M:$M,MATCH($AC$4,'Dln 14'!#REF!,0),1),0) -> 0 | AF19: =SUM(C19,E19,G19,I19,K19,M19,O19,Q19,S19,U19,W19,Y19,AA19,AC19) -> #REF! | AG19: =AF6='Dln 14'!K230 -> TRUE
B20: Dln 15 | C20: =SUMIF('Dln 2'!$C$9,$C$4,'Dln 2'!$K$230) -> 0 | D20: =IFERROR(INDEX('Dln 15'!$M:$M,MATCH($C$4,'Dln 15'!#REF!,0),1),0) -> 0 | E20: =SUMIF('Dln 15'!#REF!,$E$4,'Dln 15'!$O:$O) -> #REF! | F20: =IFERROR(INDEX('Dln 15'!$M:$M,MATCH($E$4,'Dln 15'!#REF!,0),1),0) -> 0 | G20: =SUMIF('Dln 15'!#REF!,$G$4,'Dln 15'!$O:$O) -> #REF! | H20: =IFERROR(INDEX('Dln 15'!$M:$M,MATCH($G$4,'Dln 15'!#REF!,0),1),0) -> 0 | I20: =SUMIF('Dln 15'!#REF!,$I$4,'Dln 15'!$O:$O) -> #REF! | J20: =IFERROR(INDEX('Dln 15'!$M:$M,MATCH($I$4,'Dln 15'!#REF!,0),1),0) -> 0 | K20: =SUMIF('Dln 15'!#REF!,$K$4,'Dln 15'!$O:$O) -> #REF! | L20: =IFERROR(INDEX('Dln 15'!$M:$M,MATCH($K$4,'Dln 15'!#REF!,0),1),0) -> 0 | M20: =SUMIF('Dln 15'!#REF!,$M$4,'Dln 15'!$O:$O) -> #REF! | N20: =IFERROR(INDEX('Dln 15'!$M:$M,MATCH($M$4,'Dln 15'!#REF!,0),1),0) -> 0 | O20: =SUMIF('Dln 15'!#REF!,$O$4,'Dln 15'!$O:$O) -> #REF! | P20: =IFERROR(INDEX('Dln 15'!$M:$M,MATCH($O$4,'Dln 15'!#REF!,0),1),0) -> 0 | Q20: =SUMIF('Dln 15'!#REF!,$Q$4,'Dln 15'!$O:$O) -> #REF! | R20: =IFERROR(INDEX('Dln 15'!$M:$M,MATCH($Q$4,'Dln 15'!#REF!,0),1),0) -> 0 | S20: =SUMIF('Dln 15'!#REF!,$S$4,'Dln 15'!$O:$O) -> #REF! | T20: =IFERROR(INDEX('Dln 15'!$M:$M,MATCH($S$4,'Dln 15'!#REF!,0),1),0) -> 0 | U20: =SUMIF('Dln 15'!#REF!,$U$4,'Dln 15'!$O:$O) -> #REF! | V20: =IFERROR(INDEX('Dln 15'!$M:$M,MATCH($U$4,'Dln 15'!#REF!,0),1),0) -> 0 | W20: =SUMIF('Dln 15'!#REF!,$W$4,'Dln 15'!$O:$O) -> #REF! | X20: =IFERROR(INDEX('Dln 15'!$M:$M,MATCH($W$4,'Dln 15'!#REF!,0),1),0) -> 0 | Y20: =SUMIF('Dln 15'!#REF!,$Y$4,'Dln 15'!$O:$O) -> #REF! | Z20: =IFERROR(INDEX('Dln 15'!$M:$M,MATCH($Y$4,'Dln 15'!#REF!,0),1),0) -> 0 | AA20: =SUMIF('Dln 15'!#REF!,$AA$4,'Dln 15'!$O:$O) -> #REF! | AB20: =IFERROR(INDEX('Dln 15'!$M:$M,MATCH($AA$4,'Dln 15'!#REF!,0),1),0) -> 0 | AC20: =SUMIF('Dln 15'!#REF!,$AC$4,'Dln 15'!$O:$O) -> #REF! | AD20: =IFERROR(INDEX('Dln 15'!$M:$M,MATCH($AC$4,'Dln 15'!#REF!,0),1),0) -> 0 | AF20: =SUM(C20,E20,G20,I20,K20,M20,O20,Q20,S20,U20,W20,Y20,AA20,AC20) -> #REF! | AG20: =AF6='Dln 15'!K230 -> TRUE
B21: Dln 16 | C21: =SUMIF('Dln 2'!$C$9,$C$4,'Dln 2'!$K$230) -> 0 | D21: =IFERROR(INDEX('Dln 16'!$M:$M,MATCH($C$4,'Dln 16'!#REF!,0),1),0) -> 0 | E21: =SUMIF('Dln 16'!#REF!,$E$4,'Dln 16'!$O:$O) -> #REF! | F21: =IFERROR(INDEX('Dln 16'!$M:$M,MATCH($E$4,'Dln 16'!#REF!,0),1),0) -> 0 | G21: =SUMIF('Dln 16'!#REF!,$G$4,'Dln 16'!$O:$O) -> #REF! | H21: =IFERROR(INDEX('Dln 16'!$M:$M,MATCH($G$4,'Dln 16'!#REF!,0),1),0) -> 0 | I21: =SUMIF('Dln 16'!#REF!,$I$4,'Dln 16'!$O:$O) -> #REF! | J21: =IFERROR(INDEX('Dln 16'!$M:$M,MATCH($I$4,'Dln 16'!#REF!,0),1),0) -> 0 | K21: =SUMIF('Dln 16'!#REF!,$K$4,'Dln 16'!$O:$O) -> #REF! | L21: =IFERROR(INDEX('Dln 16'!$M:$M,MATCH($K$4,'Dln 16'!#REF!,0),1),0) -> 0 | M21: =SUMIF('Dln 16'!#REF!,$M$4,'Dln 16'!$O:$O) -> #REF! | N21: =IFERROR(INDEX('Dln 16'!$M:$M,MATCH($M$4,'Dln 16'!#REF!,0),1),0) -> 0 | O21: =SUMIF('Dln 16'!#REF!,$O$4,'Dln 16'!$O:$O) -> #REF! | P21: =IFERROR(INDEX('Dln 16'!$M:$M,MATCH($O$4,'Dln 16'!#REF!,0),1),0) -> 0 | Q21: =SUMIF('Dln 16'!#REF!,$Q$4,'Dln 16'!$O:$O) -> #REF! | R21: =IFERROR(INDEX('Dln 16'!$M:$M,MATCH($Q$4,'Dln 16'!#REF!,0),1),0) -> 0 | S21: =SUMIF('Dln 16'!#REF!,$S$4,'Dln 16'!$O:$O) -> #REF! | T21: =IFERROR(INDEX('Dln 16'!$M:$M,MATCH($S$4,'Dln 16'!#REF!,0),1),0) -> 0 | U21: =SUMIF('Dln 16'!#REF!,$U$4,'Dln 16'!$O:$O) -> #REF! | V21: =IFERROR(INDEX('Dln 16'!$M:$M,MATCH($U$4,'Dln 16'!#REF!,0),1),0) -> 0 | W21: =SUMIF('Dln 16'!#REF!,$W$4,'Dln 16'!$O:$O) -> #REF! | X21: =IFERROR(INDEX('Dln 16'!$M:$M,MATCH($W$4,'Dln 16'!#REF!,0),1),0) -> 0 | Y21: =SUMIF('Dln 16'!#REF!,$Y$4,'Dln 16'!$O:$O) -> #REF! | Z21: =IFERROR(INDEX('Dln 16'!$M:$M,MATCH($Y$4,'Dln 16'!#REF!,0),1),0) -> 0 | AA21: =SUMIF('Dln 16'!#REF!,$AA$4,'Dln 16'!$O:$O) -> #REF! | AB21: =IFERROR(INDEX('Dln 16'!$M:$M,MATCH($AA$4,'Dln 16'!#REF!,0),1),0) -> 0 | AC21: =SUMIF('Dln 16'!#REF!,$AC$4,'Dln 16'!$O:$O) -> #REF! | AD21: =IFERROR(INDEX('Dln 16'!$M:$M,MATCH($AC$4,'Dln 16'!#REF!,0),1),0) -> 0 | AF21: =SUM(C21,E21,G21,I21,K21,M21,O21,Q21,S21,U21,W21,Y21,AA21,AC21) -> #REF! | AG21: =AF6='Dln 16'!K230 -> TRUE
B22: Dln 17 | C22: =SUMIF('Dln 2'!$C$9,$C$4,'Dln 2'!$K$230) -> 0 | D22: =IFERROR(INDEX('Dln 17'!$M:$M,MATCH($C$4,'Dln 17'!#REF!,0),1),0) -> 0 | E22: =SUMIF('Dln 17'!#REF!,$E$4,'Dln 17'!$O:$O) -> #REF! | F22: =IFERROR(INDEX('Dln 17'!$M:$M,MATCH($E$4,'Dln 17'!#REF!,0),1),0) -> 0 | G22: =SUMIF('Dln 17'!#REF!,$G$4,'Dln 17'!$O:$O) -> #REF! | H22: =IFERROR(INDEX('Dln 17'!$M:$M,MATCH($G$4,'Dln 17'!#REF!,0),1),0) -> 0 | I22: =SUMIF('Dln 17'!#REF!,$I$4,'Dln 17'!$O:$O) -> #REF! | J22: =IFERROR(INDEX('Dln 17'!$M:$M,MATCH($I$4,'Dln 17'!#REF!,0),1),0) -> 0 | K22: =SUMIF('Dln 17'!#REF!,$K$4,'Dln 17'!$O:$O) -> #REF! | L22: =IFERROR(INDEX('Dln 17'!$M:$M,MATCH($K$4,'Dln 17'!#REF!,0),1),0) -> 0 | M22: =SUMIF('Dln 17'!#REF!,$M$4,'Dln 17'!$O:$O) -> #REF! | N22: =IFERROR(INDEX('Dln 17'!$M:$M,MATCH($M$4,'Dln 17'!#REF!,0),1),0) -> 0 | O22: =SUMIF('Dln 17'!#REF!,$O$4,'Dln 17'!$O:$O) -> #REF! | P22: =IFERROR(INDEX('Dln 17'!$M:$M,MATCH($O$4,'Dln 17'!#REF!,0),1),0) -> 0 | Q22: =SUMIF('Dln 17'!#REF!,$Q$4,'Dln 17'!$O:$O) -> #REF! | R22: =IFERROR(INDEX('Dln 17'!$M:$M,MATCH($Q$4,'Dln 17'!#REF!,0),1),0) -> 0 | S22: =SUMIF('Dln 17'!#REF!,$S$4,'Dln 17'!$O:$O) -> #REF! | T22: =IFERROR(INDEX('Dln 17'!$M:$M,MATCH($S$4,'Dln 17'!#REF!,0),1),0) -> 0 | U22: =SUMIF('Dln 17'!#REF!,$U$4,'Dln 17'!$O:$O) -> #REF! | V22: =IFERROR(INDEX('Dln 17'!$M:$M,MATCH($U$4,'Dln 17'!#REF!,0),1),0) -> 0 | W22: =SUMIF('Dln 17'!#REF!,$W$4,'Dln 17'!$O:$O) -> #REF! | X22: =IFERROR(INDEX('Dln 17'!$M:$M,MATCH($W$4,'Dln 17'!#REF!,0),1),0) -> 0 | Y22: =SUMIF('Dln 17'!#REF!,$Y$4,'Dln 17'!$O:$O) -> #REF! | Z22: =IFERROR(INDEX('Dln 17'!$M:$M,MATCH($Y$4,'Dln 17'!#REF!,0),1),0) -> 0 | AA22: =SUMIF('Dln 17'!#REF!,$AA$4,'Dln 17'!$O:$O) -> #REF! | AB22: =IFERROR(INDEX('Dln 17'!$M:$M,MATCH($AA$4,'Dln 17'!#REF!,0),1),0) -> 0 | AC22: =SUMIF('Dln 17'!#REF!,$AC$4,'Dln 17'!$O:$O) -> #REF! | AD22: =IFERROR(INDEX('Dln 17'!$M:$M,MATCH($AC$4,'Dln 17'!#REF!,0),1),0) -> 0 | AF22: =SUM(C22,E22,G22,I22,K22,M22,O22,Q22,S22,U22,W22,Y22,AA22,AC22) -> #REF! | AG22: =AF6='Dln 17'!K230 -> TRUE
B23: Dln 18 | C23: =SUMIF('Dln 2'!$C$9,$C$4,'Dln 2'!$K$230) -> 0 | D23: =IFERROR(INDEX('Dln 18'!$M:$M,MATCH($C$4,'Dln 18'!#REF!,0),1),0) -> 0 | E23: =SUMIF('Dln 18'!#REF!,$E$4,'Dln 18'!$O:$O) -> #REF! | F23: =IFERROR(INDEX('Dln 18'!$M:$M,MATCH($E$4,'Dln 18'!#REF!,0),1),0) -> 0 | G23: =SUMIF('Dln 18'!#REF!,$G$4,'Dln 18'!$O:$O) -> #REF! | H23: =IFERROR(INDEX('Dln 18'!$M:$M,MATCH($G$4,'Dln 18'!#REF!,0),1),0) -> 0 | I23: =SUMIF('Dln 18'!#REF!,$I$4,'Dln 18'!$O:$O) -> #REF! | J23: =IFERROR(INDEX('Dln 18'!$M:$M,MATCH($I$4,'Dln 18'!#REF!,0),1),0) -> 0 | K23: =SUMIF('Dln 18'!#REF!,$K$4,'Dln 18'!$O:$O) -> #REF! | L23: =IFERROR(INDEX('Dln 18'!$M:$M,MATCH($K$4,'Dln 18'!#REF!,0),1),0) -> 0 | M23: =SUMIF('Dln 18'!#REF!,$M$4,'Dln 18'!$O:$O) -> #REF! | N23: =IFERROR(INDEX('Dln 18'!$M:$M,MATCH($M$4,'Dln 18'!#REF!,0),1),0) -> 0 | O23: =SUMIF('Dln 18'!#REF!,$O$4,'Dln 18'!$O:$O) -> #REF! | P23: =IFERROR(INDEX('Dln 18'!$M:$M,MATCH($O$4,'Dln 18'!#REF!,0),1),0) -> 0 | Q23: =SUMIF('Dln 18'!#REF!,$Q$4,'Dln 18'!$O:$O) -> #REF! | R23: =IFERROR(INDEX('Dln 18'!$M:$M,MATCH($Q$4,'Dln 18'!#REF!,0),1),0) -> 0 | S23: =SUMIF('Dln 18'!#REF!,$S$4,'Dln 18'!$O:$O) -> #REF! | T23: =IFERROR(INDEX('Dln 18'!$M:$M,MATCH($S$4,'Dln 18'!#REF!,0),1),0) -> 0 | U23: =SUMIF('Dln 18'!#REF!,$U$4,'Dln 18'!$O:$O) -> #REF! | V23: =IFERROR(INDEX('Dln 18'!$M:$M,MATCH($U$4,'Dln 18'!#REF!,0),1),0) -> 0 | W23: =SUMIF('Dln 18'!#REF!,$W$4,'Dln 18'!$O:$O) -> #REF! | X23: =IFERROR(INDEX('Dln 18'!$M:$M,MATCH($W$4,'Dln 18'!#REF!,0),1),0) -> 0 | Y23: =SUMIF('Dln 18'!#REF!,$Y$4,'Dln 18'!$O:$O) -> #REF! | Z23: =IFERROR(INDEX('Dln 18'!$M:$M,MATCH($Y$4,'Dln 18'!#REF!,0),1),0) -> 0 | AA23: =SUMIF('Dln 18'!#REF!,$AA$4,'Dln 18'!$O:$O) -> #REF! | AB23: =IFERROR(INDEX('Dln 18'!$M:$M,MATCH($AA$4,'Dln 18'!#REF!,0),1),0) -> 0 | AC23: =SUMIF('Dln 18'!#REF!,$AC$4,'Dln 18'!$O:$O) -> #REF! | AD23: =IFERROR(INDEX('Dln 18'!$M:$M,MATCH($AC$4,'Dln 18'!#REF!,0),1),0) -> 0 | AF23: =SUM(C23,E23,G23,I23,K23,M23,O23,Q23,S23,U23,W23,Y23,AA23,AC23) -> #REF! | AG23: =AF6='Dln 18'!K230 -> TRUE
B24: Dln 19 | C24: =SUMIF('Dln 2'!$C$9,$C$4,'Dln 2'!$K$230) -> 0 | D24: =IFERROR(INDEX('Dln 19'!$M:$M,MATCH($C$4,'Dln 19'!#REF!,0),1),0) -> 0 | E24: =SUMIF('Dln 19'!#REF!,$E$4,'Dln 19'!$O:$O) -> #REF! | F24: =IFERROR(INDEX('Dln 19'!$M:$M,MATCH($E$4,'Dln 19'!#REF!,0),1),0) -> 0 | G24: =SUMIF('Dln 19'!#REF!,$G$4,'Dln 19'!$O:$O) -> #REF! | H24: =IFERROR(INDEX('Dln 19'!$M:$M,MATCH($G$4,'Dln 19'!#REF!,0),1),0) -> 0 | I24: =SUMIF('Dln 19'!#REF!,$I$4,'Dln 19'!$O:$O) -> #REF! | J24: =IFERROR(INDEX('Dln 19'!$M:$M,MATCH($I$4,'Dln 19'!#REF!,0),1),0) -> 0 | K24: =SUMIF('Dln 19'!#REF!,$K$4,'Dln 19'!$O:$O) -> #REF! | L24: =IFERROR(INDEX('Dln 19'!$M:$M,MATCH($K$4,'Dln 19'!#REF!,0),1),0) -> 0 | M24: =SUMIF('Dln 19'!#REF!,$M$4,'Dln 19'!$O:$O) -> #REF! | N24: =IFERROR(INDEX('Dln 19'!$M:$M,MATCH($M$4,'Dln 19'!#REF!,0),1),0) -> 0 | O24: =SUMIF('Dln 19'!#REF!,$O$4,'Dln 19'!$O:$O) -> #REF! | P24: =IFERROR(INDEX('Dln 19'!$M:$M,MATCH($O$4,'Dln 19'!#REF!,0),1),0) -> 0 | Q24: =SUMIF('Dln 19'!#REF!,$Q$4,'Dln 19'!$O:$O) -> #REF! | R24: =IFERROR(INDEX('Dln 19'!$M:$M,MATCH($Q$4,'Dln 19'!#REF!,0),1),0) -> 0 | S24: =SUMIF('Dln 19'!#REF!,$S$4,'Dln 19'!$O:$O) -> #REF! | T24: =IFERROR(INDEX('Dln 19'!$M:$M,MATCH($S$4,'Dln 19'!#REF!,0),1),0) -> 0 | U24: =SUMIF('Dln 19'!#REF!,$U$4,'Dln 19'!$O:$O) -> #REF! | V24: =IFERROR(INDEX('Dln 19'!$M:$M,MATCH($U$4,'Dln 19'!#REF!,0),1),0) -> 0 | W24: =SUMIF('Dln 19'!#REF!,$W$4,'Dln 19'!$O:$O) -> #REF! | X24: =IFERROR(INDEX('Dln 19'!$M:$M,MATCH($W$4,'Dln 19'!#REF!,0),1),0) -> 0 | Y24: =SUMIF('Dln 19'!#REF!,$Y$4,'Dln 19'!$O:$O) -> #REF! | Z24: =IFERROR(INDEX('Dln 19'!$M:$M,MATCH($Y$4,'Dln 19'!#REF!,0),1),0) -> 0 | AA24: =SUMIF('Dln 19'!#REF!,$AA$4,'Dln 19'!$O:$O) -> #REF! | AB24: =IFERROR(INDEX('Dln 19'!$M:$M,MATCH($AA$4,'Dln 19'!#REF!,0),1),0) -> 0 | AC24: =SUMIF('Dln 19'!#REF!,$AC$4,'Dln 19'!$O:$O) -> #REF! | AD24: =IFERROR(INDEX('Dln 19'!$M:$M,MATCH($AC$4,'Dln 19'!#REF!,0),1),0) -> 0 | AF24: =SUM(C24,E24,G24,I24,K24,M24,O24,Q24,S24,U24,W24,Y24,AA24,AC24) -> #REF! | AG24: =AF6='Dln 19'!K230 -> TRUE
B25: Dln 20 | C25: =SUMIF('Dln 2'!$C$9,$C$4,'Dln 2'!$K$230) -> 0 | D25: =IFERROR(INDEX('Dln 20'!$M:$M,MATCH($C$4,'Dln 20'!#REF!,0),1),0) -> 0 | E25: =SUMIF('Dln 20'!#REF!,$E$4,'Dln 20'!$O:$O) -> #REF! | F25: =IFERROR(INDEX('Dln 20'!$M:$M,MATCH($E$4,'Dln 20'!#REF!,0),1),0) -> 0 | G25: =SUMIF('Dln 20'!#REF!,$G$4,'Dln 20'!$O:$O) -> #REF! | H25: =IFERROR(INDEX('Dln 20'!$M:$M,MATCH($G$4,'Dln 20'!#REF!,0),1),0) -> 0 | I25: =SUMIF('Dln 20'!#REF!,$I$4,'Dln 20'!$O:$O) -> #REF! | J25: =IFERROR(INDEX('Dln 20'!$M:$M,MATCH($I$4,'Dln 20'!#REF!,0),1),0) -> 0 | K25: =SUMIF('Dln 20'!#REF!,$K$4,'Dln 20'!$O:$O) -> #REF! | L25: =IFERROR(INDEX('Dln 20'!$M:$M,MATCH($K$4,'Dln 20'!#REF!,0),1),0) -> 0 | M25: =SUMIF('Dln 20'!#REF!,$M$4,'Dln 20'!$O:$O) -> #REF! | N25: =IFERROR(INDEX('Dln 20'!$M:$M,MATCH($M$4,'Dln 20'!#REF!,0),1),0) -> 0 | O25: =SUMIF('Dln 20'!#REF!,$O$4,'Dln 20'!$O:$O) -> #REF! | P25: =IFERROR(INDEX('Dln 20'!$M:$M,MATCH($O$4,'Dln 20'!#REF!,0),1),0) -> 0 | Q25: =SUMIF('Dln 20'!#REF!,$Q$4,'Dln 20'!$O:$O) -> #REF! | R25: =IFERROR(INDEX('Dln 20'!$M:$M,MATCH($Q$4,'Dln 20'!#REF!,0),1),0) -> 0 | S25: =SUMIF('Dln 20'!#REF!,$S$4,'Dln 20'!$O:$O) -> #REF! | T25: =IFERROR(INDEX('Dln 20'!$M:$M,MATCH($S$4,'Dln 20'!#REF!,0),1),0) -> 0 | U25: =SUMIF('Dln 20'!#REF!,$U$4,'Dln 20'!$O:$O) -> #REF! | V25: =IFERROR(INDEX('Dln 20'!$M:$M,MATCH($U$4,'Dln 20'!#REF!,0),1),0) -> 0 | W25: =SUMIF('Dln 20'!#REF!,$W$4,'Dln 20'!$O:$O) -> #REF! | X25: =IFERROR(INDEX('Dln 20'!$M:$M,MATCH($W$4,'Dln 20'!#REF!,0),1),0) -> 0 | Y25: =SUMIF('Dln 20'!#REF!,$Y$4,'Dln 20'!$O:$O) -> #REF! | Z25: =IFERROR(INDEX('Dln 20'!$M:$M,MATCH($Y$4,'Dln 20'!#REF!,0),1),0) -> 0 | AA25: =SUMIF('Dln 20'!#REF!,$AA$4,'Dln 20'!$O:$O) -> #REF! | AB25: =IFERROR(INDEX('Dln 20'!$M:$M,MATCH($AA$4,'Dln 20'!#REF!,0),1),0) -> 0 | AC25: =SUMIF('Dln 20'!#REF!,$AC$4,'Dln 20'!$O:$O) -> #REF! | AD25: =IFERROR(INDEX('Dln 20'!$M:$M,MATCH($AC$4,'Dln 20'!#REF!,0),1),0) -> 0 | AF25: =SUM(C25,E25,G25,I25,K25,M25,O25,Q25,S25,U25,W25,Y25,AA25) -> #REF! | AG25: =AF6='Dln 20'!K230 -> TRUE
AD27: Totaal | AF27: =SUM(AF6:AF25) -> #REF!

Sheet Overzicht staatssteun
B2: Begroting - Overzicht staatssteun per begunstigde
B5: Nr. | C5: Naam organisatie | D5: steuninstrument | E5: Steunbedrag | F5: %
B6: Hoofdaanvrager - Dln 1 | C6: =IF(Basisgegevens!C12=0, "", Basisgegevens!C12) | D6: =IF('Dln 1'!$C$9=0,"",'Dln 1'!$C$9) | E6: =MAX(0,IF(D6="Geen staatssteun", 0, IF(Basisgegevens!D12="Overige (zorg-)instellingen", SUMIF('Dln 1'!$C$9,D6,'Dln 1'!$K$230), (SUMIF('Dln 1'!$L$13:$L$187,"Economische activiteit",'Dln 1'!$N$13:$N$187)-'Dln 1'!$N$218) ) )) -> 0 | F6: {=IF(D6="Geen staatssteun"," ",IF(Basisgegevens!$C$5="Ja", IFERROR( INDEX(Hulpsheets!$AO$3:$AR$18, MATCH('Dln 1'!$C$9:$D$9,Hulpsheets!$AN$3:$AN$18,0), MATCH('Dln 1'!$C$6:$D$6,Hulpsheets!$AO$3:$AR$3,0) ), "" ), IFERROR( INDEX(Hulpsheets!$AH$3:$AK$18, MATCH('Dln 1'!$C$9:$D$9,Hulpsheets!$AG$3:$AG$18,0), MATCH('Dln 1'!$C$6:$D$6,Hulpsheets!$AH$3:$AK$3,0) ), "" ) ))}
B7: Dln 2 | C7: =IF(Basisgegevens!C13=0, "", Basisgegevens!C13) | D7: =IF('Dln 2'!$C$9=0,"",'Dln 2'!$C$9) | E7: =MAX(0,IF(D7="Geen staatssteun", 0, IF(Basisgegevens!D13="Overige (zorg-)instellingen", SUMIF('Dln 2'!$C$9,D7,'Dln 2'!$K$230), (SUMIF('Dln 2'!$L$13:$L$187,"Economische activiteit",'Dln 2'!$N$13:$N$187)-'Dln 2'!$N$218) ) )) -> 0 | F7: {=IF(D7="Geen staatssteun"," ",IF(Basisgegevens!$C$5="Ja", IFERROR( INDEX(Hulpsheets!$AO$3:$AR$18, MATCH('Dln 2'!$C$9:$D$9,Hulpsheets!$AN$3:$AN$18,0), MATCH('Dln 2'!$C$6:$D$6,Hulpsheets!$AO$3:$AR$3,0) ), "" ), IFERROR( INDEX(Hulpsheets!$AH$3:$AK$18, MATCH('Dln 2'!$C$9:$D$9,Hulpsheets!$AG$3:$AG$18,0), MATCH('Dln 2'!$C$6:$D$6,Hulpsheets!$AH$3:$AK$3,0) ), "" ) ))}
B8: Dln 3 | C8: =IF(Basisgegevens!C14=0, "", Basisgegevens!C14) | D8: =IF('Dln 3'!$C$9=0,"",'Dln 3'!$C$9) | E8: =MAX(0,IF(D8="Geen staatssteun", 0, IF(Basisgegevens!D14="Overige (zorg-)instellingen", SUMIF('Dln 3'!$C$9,D8,'Dln 3'!$K$230), (SUMIF('Dln 3'!$L$13:$L$187,"Economische activiteit",'Dln 3'!$N$13:$N$187)-'Dln 3'!$N$218) ) )) -> 0 | F8: {=IF(D8="Geen staatssteun"," ",IF(Basisgegevens!$C$5="Ja", IFERROR( INDEX(Hulpsheets!$AO$3:$AR$18, MATCH('Dln 3'!$C$9:$D$9,Hulpsheets!$AN$3:$AN$18,0), MATCH('Dln 3'!$C$6:$D$6,Hulpsheets!$AO$3:$AR$3,0) ), "" ), IFERROR( INDEX(Hulpsheets!$AH$3:$AK$18, MATCH('Dln 3'!$C$9:$D$9,Hulpsheets!$AG$3:$AG$18,0), MATCH('Dln 3'!$C$6:$D$6,Hulpsheets!$AH$3:$AK$3,0) ), "" ) ))}
B9: Dln 4 | C9: =IF(Basisgegevens!C15=0, "", Basisgegevens!C15) | D9: =IF('Dln 4'!$C$9=0,"",'Dln 4'!$C$9) | E9: =MAX(0,IF(D9="Geen staatssteun", 0, IF(Basisgegevens!D15="Overige (zorg-)instellingen", SUMIF('Dln 4'!$C$9,D9,'Dln 4'!$K$230), (SUMIF('Dln 4'!$L$13:$L$187,"Economische activiteit",'Dln 4'!$N$13:$N$187)-'Dln 4'!$N$218) ) )) -> 0 | F9: {=IF(D9="Geen staatssteun"," ",IF(Basisgegevens!$C$5="Ja", IFERROR( INDEX(Hulpsheets!$AO$3:$AR$18, MATCH('Dln 4'!$C$9:$D$9,Hulpsheets!$AN$3:$AN$18,0), MATCH('Dln 4'!$C$6:$D$6,Hulpsheets!$AO$3:$AR$3,0) ), "" ), IFERROR( INDEX(Hulpsheets!$AH$3:$AK$18, MATCH('Dln 4'!$C$9:$D$9,Hulpsheets!$AG$3:$AG$18,0), MATCH('Dln 4'!$C$6:$D$6,Hulpsheets!$AH$3:$AK$3,0) ), "" ) ))}
B10: Dln 5 | C10: =IF(Basisgegevens!C16=0, "", Basisgegevens!C16) | D10: =IF('Dln 5'!$C$9=0,"",'Dln 5'!$C$9) | E10: =MAX(0,IF(D10="Geen staatssteun", 0, IF(Basisgegevens!D16="Overige (zorg-)instellingen", SUMIF('Dln 5'!$C$9,D10,'Dln 5'!$K$230), (SUMIF('Dln 5'!$L$13:$L$187,"Economische activiteit",'Dln 5'!$N$13:$N$187)-'Dln 5'!$N$218) ) )) -> 0 | F10: {=IF(D10="Geen staatssteun"," ",IF(Basisgegevens!$C$5="Ja", IFERROR( INDEX(Hulpsheets!$AO$3:$AR$18, MATCH('Dln 5'!$C$9:$D$9,Hulpsheets!$AN$3:$AN$18,0), MATCH('Dln 5'!$C$6:$D$6,Hulpsheets!$AO$3:$AR$3,0) ), "" ), IFERROR( INDEX(Hulpsheets!$AH$3:$AK$18, MATCH('Dln 5'!$C$9:$D$9,Hulpsheets!$AG$3:$AG$18,0), MATCH('Dln 5'!$C$6:$D$6,Hulpsheets!$AH$3:$AK$3,0) ), "" ) ))}
B11: Dln 6 | C11: =IF(Basisgegevens!C17=0, "", Basisgegevens!C17) | D11: =IF('Dln 6'!$C$9=0,"",'Dln 6'!$C$9) | E11: =MAX(0,IF(D11="Geen staatssteun", 0, IF(Basisgegevens!D17="Overige (zorg-)instellingen", SUMIF('Dln 6'!$C$9,D11,'Dln 6'!$K$230), (SUMIF('Dln 6'!$L$13:$L$187,"Economische activiteit",'Dln 6'!$N$13:$N$187)-'Dln 6'!$N$218) ) )) -> 0 | F11: {=IF(D11="Geen staatssteun"," ",IF(Basisgegevens!$C$5="Ja", IFERROR( INDEX(Hulpsheets!$AO$3:$AR$18, MATCH('Dln 6'!$C$9:$D$9,Hulpsheets!$AN$3:$AN$18,0), MATCH('Dln 6'!$C$6:$D$6,Hulpsheets!$AO$3:$AR$3,0) ), "" ), IFERROR( INDEX(Hulpsheets!$AH$3:$AK$18, MATCH('Dln 6'!$C$9:$D$9,Hulpsheets!$AG$3:$AG$18,0), MATCH('Dln 6'!$C$6:$D$6,Hulpsheets!$AH$3:$AK$3,0) ), "" ) ))}
B12: Dln 7 | C12: =IF(Basisgegevens!C18=0, "", Basisgegevens!C18) | D12: =IF('Dln 7'!$C$9=0,"",'Dln 7'!$C$9) | E12: =MAX(0,IF(D12="Geen staatssteun", 0, IF(Basisgegevens!D18="Overige (zorg-)instellingen", SUMIF('Dln 7'!$C$9,D12,'Dln 7'!$K$230), (SUMIF('Dln 7'!$L$13:$L$187,"Economische activiteit",'Dln 7'!$N$13:$N$187)-'Dln 7'!$N$218) ) )) -> 0 | F12: {=IF(D12="Geen staatssteun"," ",IF(Basisgegevens!$C$5="Ja", IFERROR( INDEX(Hulpsheets!$AO$3:$AR$18, MATCH('Dln 7'!$C$9:$D$9,Hulpsheets!$AN$3:$AN$18,0), MATCH('Dln 7'!$C$6:$D$6,Hulpsheets!$AO$3:$AR$3,0) ), "" ), IFERROR( INDEX(Hulpsheets!$AH$3:$AK$18, MATCH('Dln 7'!$C$9:$D$9,Hulpsheets!$AG$3:$AG$18,0), MATCH('Dln 7'!$C$6:$D$6,Hulpsheets!$AH$3:$AK$3,0) ), "" ) ))}
B13: Dln 8 | C13: =IF(Basisgegevens!C19=0, "", Basisgegevens!C19) | D13: =IF('Dln 8'!$C$9=0,"",'Dln 8'!$C$9) | E13: =MAX(0,IF(D13="Geen staatssteun", 0, IF(Basisgegevens!D19="Overige (zorg-)instellingen", SUMIF('Dln 8'!$C$9,D13,'Dln 8'!$K$230), (SUMIF('Dln 8'!$L$13:$L$187,"Economische activiteit",'Dln 8'!$N$13:$N$187)-'Dln 8'!$N$218) ) )) -> 0 | F13: {=IF(D13="Geen staatssteun"," ",IF(Basisgegevens!$C$5="Ja", IFERROR( INDEX(Hulpsheets!$AO$3:$AR$18, MATCH('Dln 8'!$C$9:$D$9,Hulpsheets!$AN$3:$AN$18,0), MATCH('Dln 8'!$C$6:$D$6,Hulpsheets!$AO$3:$AR$3,0) ), "" ), IFERROR( INDEX(Hulpsheets!$AH$3:$AK$18, MATCH('Dln 8'!$C$9:$D$9,Hulpsheets!$AG$3:$AG$18,0), MATCH('Dln 8'!$C$6:$D$6,Hulpsheets!$AH$3:$AK$3,0) ), "" ) ))}
B14: Dln 9 | C14: =IF(Basisgegevens!C20=0, "", Basisgegevens!C20) | D14: =IF('Dln 9'!$C$9=0,"",'Dln 9'!$C$9) | E14: =MAX(0,IF(D14="Geen staatssteun", 0, IF(Basisgegevens!D20="Overige (zorg-)instellingen", SUMIF('Dln 9'!$C$9,D14,'Dln 9'!$K$230), (SUMIF('Dln 9'!$L$13:$L$187,"Economische activiteit",'Dln 9'!$N$13:$N$187)-'Dln 9'!$N$218) ) )) -> 0 | F14: {=IF(D14="Geen staatssteun"," ",IF(Basisgegevens!$C$5="Ja", IFERROR( INDEX(Hulpsheets!$AO$3:$AR$18, MATCH('Dln 9'!$C$9:$D$9,Hulpsheets!$AN$3:$AN$18,0), MATCH('Dln 9'!$C$6:$D$6,Hulpsheets!$AO$3:$AR$3,0) ), "" ), IFERROR( INDEX(Hulpsheets!$AH$3:$AK$18, MATCH('Dln 9'!$C$9:$D$9,Hulpsheets!$AG$3:$AG$18,0), MATCH('Dln 9'!$C$6:$D$6,Hulpsheets!$AH$3:$AK$3,0) ), "" ) ))}
B15: Dln 10 | C15: =IF(Basisgegevens!C21=0, "", Basisgegevens!C21) | D15: =IF('Dln 10'!$C$9=0,"",'Dln 10'!$C$9) | E15: =MAX(0,IF(D15="Geen staatssteun", 0, IF(Basisgegevens!D21="Overige (zorg-)instellingen", SUMIF('Dln 10'!$C$9,D15,'Dln 10'!$K$230), (SUMIF('Dln 10'!$L$13:$L$187,"Economische activiteit",'Dln 10'!$N$13:$N$187)-'Dln 10'!$N$218) ) )) -> 0 | F15: {=IF(D15="Geen staatssteun"," ",IF(Basisgegevens!$C$5="Ja", IFERROR( INDEX(Hulpsheets!$AO$3:$AR$18, MATCH('Dln 10'!$C$9:$D$9,Hulpsheets!$AN$3:$AN$18,0), MATCH('Dln 10'!$C$6:$D$6,Hulpsheets!$AO$3:$AR$3,0) ), "" ), IFERROR( INDEX(Hulpsheets!$AH$3:$AK$18, MATCH('Dln 10'!$C$9:$D$9,Hulpsheets!$AG$3:$AG$18,0), MATCH('Dln 10'!$C$6:$D$6,Hulpsheets!$AH$3:$AK$3,0) ), "" ) ))}
B16: Dln 11 | C16: =IF(Basisgegevens!C22=0, "", Basisgegevens!C22) | D16: =IF('Dln 11'!$C$9=0,"",'Dln 11'!$C$9) | E16: =MAX(0,IF(D16="Geen staatssteun", 0, IF(Basisgegevens!D22="Overige (zorg-)instellingen", SUMIF('Dln 11'!$C$9,D16,'Dln 11'!$K$230), (SUMIF('Dln 11'!$L$13:$L$187,"Economische activiteit",'Dln 11'!$N$13:$N$187)-'Dln 11'!$N$218) ) )) -> 0 | F16: {=IF(D16="Geen staatssteun"," ",IF(Basisgegevens!$C$5="Ja", IFERROR( INDEX(Hulpsheets!$AO$3:$AR$18, MATCH('Dln 11'!$C$9:$D$9,Hulpsheets!$AN$3:$AN$18,0), MATCH('Dln 11'!$C$6:$D$6,Hulpsheets!$AO$3:$AR$3,0) ), "" ), IFERROR( INDEX(Hulpsheets!$AH$3:$AK$18, MATCH('Dln 11'!$C$9:$D$9,Hulpsheets!$AG$3:$AG$18,0), MATCH('Dln 11'!$C$6:$D$6,Hulpsheets!$AH$3:$AK$3,0) ), "" ) ))}
B17: Dln 12 | C17: =IF(Basisgegevens!C23=0, "", Basisgegevens!C23) | D17: =IF('Dln 12'!$C$9=0,"",'Dln 12'!$C$9) | E17: =MAX(0,IF(D17="Geen staatssteun", 0, IF(Basisgegevens!D23="Overige (zorg-)instellingen", SUMIF('Dln 12'!$C$9,D17,'Dln 12'!$K$230), (SUMIF('Dln 12'!$L$13:$L$187,"Economische activiteit",'Dln 12'!$N$13:$N$187)-'Dln 12'!$N$218) ) )) -> 0 | F17: {=IF(D17="Geen staatssteun"," ",IF(Basisgegevens!$C$5="Ja", IFERROR( INDEX(Hulpsheets!$AO$3:$AR$18, MATCH('Dln 12'!$C$9:$D$9,Hulpsheets!$AN$3:$AN$18,0), MATCH('Dln 12'!$C$6:$D$6,Hulpsheets!$AO$3:$AR$3,0) ), "" ), IFERROR( INDEX(Hulpsheets!$AH$3:$AK$18, MATCH('Dln 12'!$C$9:$D$9,Hulpsheets!$AG$3:$AG$18,0), MATCH('Dln 12'!$C$6:$D$6,Hulpsheets!$AH$3:$AK$3,0) ), "" ) ))}
B18: Dln 13 | C18: =IF(Basisgegevens!C24=0, "", Basisgegevens!C24) | D18: =IF('Dln 13'!$C$9=0,"",'Dln 13'!$C$9) | E18: =MAX(0,IF(D18="Geen staatssteun", 0, IF(Basisgegevens!D24="Overige (zorg-)instellingen", SUMIF('Dln 13'!$C$9,D18,'Dln 13'!$K$230), (SUMIF('Dln 13'!$L$13:$L$187,"Economische activiteit",'Dln 13'!$N$13:$N$187)-'Dln 13'!$N$218) ) )) -> 0 | F18: {=IF(D18="Geen staatssteun"," ",IF(Basisgegevens!$C$5="Ja", IFERROR( INDEX(Hulpsheets!$AO$3:$AR$18, MATCH('Dln 13'!$C$9:$D$9,Hulpsheets!$AN$3:$AN$18,0), MATCH('Dln 13'!$C$6:$D$6,Hulpsheets!$AO$3:$AR$3,0) ), "" ), IFERROR( INDEX(Hulpsheets!$AH$3:$AK$18, MATCH('Dln 13'!$C$9:$D$9,Hulpsheets!$AG$3:$AG$18,0), MATCH('Dln 13'!$C$6:$D$6,Hulpsheets!$AH$3:$AK$3,0) ), "" ) ))}
B19: Dln 14 | C19: =IF(Basisgegevens!C25=0, "", Basisgegevens!C25) | D19: =IF('Dln 14'!$C$9=0,"",'Dln 14'!$C$9) | E19: =MAX(0,IF(D19="Geen staatssteun", 0, IF(Basisgegevens!D25="Overige (zorg-)instellingen", SUMIF('Dln 14'!$C$9,D19,'Dln 14'!$K$230), (SUMIF('Dln 14'!$L$13:$L$187,"Economische activiteit",'Dln 14'!$N$13:$N$187)-'Dln 14'!$N$218) ) )) -> 0 | F19: {=IF(D19="Geen staatssteun"," ",IF(Basisgegevens!$C$5="Ja", IFERROR( INDEX(Hulpsheets!$AO$3:$AR$18, MATCH('Dln 14'!$C$9:$D$9,Hulpsheets!$AN$3:$AN$18,0), MATCH('Dln 14'!$C$6:$D$6,Hulpsheets!$AO$3:$AR$3,0) ), "" ), IFERROR( INDEX(Hulpsheets!$AH$3:$AK$18, MATCH('Dln 14'!$C$9:$D$9,Hulpsheets!$AG$3:$AG$18,0), MATCH('Dln 14'!$C$6:$D$6,Hulpsheets!$AH$3:$AK$3,0) ), "" ) ))}
B20: Dln 15 | C20: =IF(Basisgegevens!C26=0, "", Basisgegevens!C26) | D20: =IF('Dln 15'!$C$9=0,"",'Dln 15'!$C$9) | E20: =MAX(0,IF(D20="Geen staatssteun", 0, IF(Basisgegevens!D26="Overige (zorg-)instellingen", SUMIF('Dln 15'!$C$9,D20,'Dln 15'!$K$230), (SUMIF('Dln 15'!$L$13:$L$187,"Economische activiteit",'Dln 15'!$N$13:$N$187)-'Dln 15'!$N$218) ) )) -> 0 | F20: {=IF(D20="Geen staatssteun"," ",IF(Basisgegevens!$C$5="Ja", IFERROR( INDEX(Hulpsheets!$AO$3:$AR$18, MATCH('Dln 15'!$C$9:$D$9,Hulpsheets!$AN$3:$AN$18,0), MATCH('Dln 15'!$C$6:$D$6,Hulpsheets!$AO$3:$AR$3,0) ), "" ), IFERROR( INDEX(Hulpsheets!$AH$3:$AK$18, MATCH('Dln 15'!$C$9:$D$9,Hulpsheets!$AG$3:$AG$18,0), MATCH('Dln 15'!$C$6:$D$6,Hulpsheets!$AH$3:$AK$3,0) ), "" ) ))}
B21: Dln 16 | C21: =IF(Basisgegevens!C27=0, "", Basisgegevens!C27) | D21: =IF('Dln 16'!$C$9=0,"",'Dln 16'!$C$9) | E21: =MAX(0,IF(D21="Geen staatssteun", 0, IF(Basisgegevens!D27="Overige (zorg-)instellingen", SUMIF('Dln 16'!$C$9,D21,'Dln 16'!$K$230), (SUMIF('Dln 16'!$L$13:$L$187,"Economische activiteit",'Dln 16'!$N$13:$N$187)-'Dln 16'!$N$218) ) )) -> 0 | F21: {=IF(D21="Geen staatssteun"," ",IF(Basisgegevens!$C$5="Ja", IFERROR( INDEX(Hulpsheets!$AO$3:$AR$18, MATCH('Dln 16'!$C$9:$D$9,Hulpsheets!$AN$3:$AN$18,0), MATCH('Dln 16'!$C$6:$D$6,Hulpsheets!$AO$3:$AR$3,0) ), "" ), IFERROR( INDEX(Hulpsheets!$AH$3:$AK$18, MATCH('Dln 16'!$C$9:$D$9,Hulpsheets!$AG$3:$AG$18,0), MATCH('Dln 16'!$C$6:$D$6,Hulpsheets!$AH$3:$AK$3,0) ), "" ) ))}
B22: Dln 17 | C22: =IF(Basisgegevens!C28=0, "", Basisgegevens!C28) | D22: =IF('Dln 17'!$C$9=0,"",'Dln 17'!$C$9) | E22: =MAX(0,IF(D22="Geen staatssteun", 0, IF(Basisgegevens!D28="Overige (zorg-)instellingen", SUMIF('Dln 17'!$C$9,D22,'Dln 17'!$K$230), (SUMIF('Dln 17'!$L$13:$L$187,"Economische activiteit",'Dln 17'!$N$13:$N$187)-'Dln 17'!$N$218) ) )) -> 0 | F22: {=IF(D22="Geen staatssteun"," ",IF(Basisgegevens!$C$5="Ja", IFERROR( INDEX(Hulpsheets!$AO$3:$AR$18, MATCH('Dln 17'!$C$9:$D$9,Hulpsheets!$AN$3:$AN$18,0), MATCH('Dln 17'!$C$6:$D$6,Hulpsheets!$AO$3:$AR$3,0) ), "" ), IFERROR( INDEX(Hulpsheets!$AH$3:$AK$18, MATCH('Dln 17'!$C$9:$D$9,Hulpsheets!$AG$3:$AG$18,0), MATCH('Dln 17'!$C$6:$D$6,Hulpsheets!$AH$3:$AK$3,0) ), "" ) ))}
B23: Dln 18 | C23: =IF(Basisgegevens!C29=0, "", Basisgegevens!C29) | D23: =IF('Dln 18'!$C$9=0,"",'Dln 18'!$C$9) | E23: =MAX(0,IF(D23="Geen staatssteun", 0, IF(Basisgegevens!D29="Overige (zorg-)instellingen", SUMIF('Dln 18'!$C$9,D23,'Dln 18'!$K$230), (SUMIF('Dln 18'!$L$13:$L$187,"Economische activiteit",'Dln 18'!$N$13:$N$187)-'Dln 18'!$N$218) ) )) -> 0 | F23: {=IF(D23="Geen staatssteun"," ",IF(Basisgegevens!$C$5="Ja", IFERROR( INDEX(Hulpsheets!$AO$3:$AR$18, MATCH('Dln 18'!$C$9:$D$9,Hulpsheets!$AN$3:$AN$18,0), MATCH('Dln 18'!$C$6:$D$6,Hulpsheets!$AO$3:$AR$3,0) ), "" ), IFERROR( INDEX(Hulpsheets!$AH$3:$AK$18, MATCH('Dln 18'!$C$9:$D$9,Hulpsheets!$AG$3:$AG$18,0), MATCH('Dln 18'!$C$6:$D$6,Hulpsheets!$AH$3:$AK$3,0) ), "" ) ))}
B24: Dln 19 | C24: =IF(Basisgegevens!C30=0, "", Basisgegevens!C30) | D24: =IF('Dln 19'!$C$9=0,"",'Dln 19'!$C$9) | E24: =MAX(0,IF(D24="Geen staatssteun", 0, IF(Basisgegevens!D30="Overige (zorg-)instellingen", SUMIF('Dln 19'!$C$9,D24,'Dln 19'!$K$230), (SUMIF('Dln 19'!$L$13:$L$187,"Economische activiteit",'Dln 19'!$N$13:$N$187)-'Dln 19'!$N$218) ) )) -> 0 | F24: {=IF(D24="Geen staatssteun"," ",IF(Basisgegevens!$C$5="Ja", IFERROR( INDEX(Hulpsheets!$AO$3:$AR$18, MATCH('Dln 19'!$C$9:$D$9,Hulpsheets!$AN$3:$AN$18,0), MATCH('Dln 19'!$C$6:$D$6,Hulpsheets!$AO$3:$AR$3,0) ), "" ), IFERROR( INDEX(Hulpsheets!$AH$3:$AK$18, MATCH('Dln 19'!$C$9:$D$9,Hulpsheets!$AG$3:$AG$18,0), MATCH('Dln 19'!$C$6:$D$6,Hulpsheets!$AH$3:$AK$3,0) ), "" ) ))}
B25: Dln 20 | C25: =IF(Basisgegevens!C31=0, "", Basisgegevens!C31) | D25: =IF('Dln 20'!$C$9=0,"",'Dln 20'!$C$9) | E25: =MAX(0,IF(D25="Geen staatssteun", 0, IF(Basisgegevens!D31="Overige (zorg-)instellingen", SUMIF('Dln 20'!$C$9,D25,'Dln 20'!$K$230), (SUMIF('Dln 20'!$L$13:$L$187,"Economische activiteit",'Dln 20'!$N$13:$N$187)-'Dln 20'!$N$218) ) )) -> 0 | F25: {=IF(D25="Geen staatssteun"," ",IF(Basisgegevens!$C$5="Ja", IFERROR( INDEX(Hulpsheets!$AO$3:$AR$18, MATCH('Dln 20'!$C$9:$D$9,Hulpsheets!$AN$3:$AN$18,0), MATCH('Dln 20'!$C$6:$D$6,Hulpsheets!$AO$3:$AR$3,0) ), "" ), IFERROR( INDEX(Hulpsheets!$AH$3:$AK$18, MATCH('Dln 20'!$C$9:$D$9,Hulpsheets!$AG$3:$AG$18,0), MATCH('Dln 20'!$C$6:$D$6,Hulpsheets!$AH$3:$AK$3,0) ), "" ) ))}

Sheet Dln 1
B2: Begroting per deelnemer
B4: Deelnemer | C4: =Basisgegevens!C12 -> 0
B5: Type organisatie | C5: =Basisgegevens!D12 -> 0
B6: Omvang van organisatie | C6: =Basisgegevens!E12 -> 0
B7: Looptijd (maanden) | C7: =IF(Basisgegevens!C6="","",Basisgegevens!C6)
B8: Type steun | C8: =Basisgegevens!F12 -> 0
B9: Steuninstrument | C9: =IF($C$8="AGVV",Basisgegevens!G12,$C$8) -> 0
B10: 1.a Personeelskosten (gebaseerd op salarisschalen) | R10: Realisatie | V10: Indien DAEB: realisatie jaar 4 t/m 6 | X10: Indien DAEB: realisatie jaar 7 t/m 9
E11: * Let op: aantal maanden overschrijdt de looptijd van het project
B12: Functie | C12: NFU / UNL deelnemer / overig personeel | D12: Functie/Schaal | E12: Maanden | F12: Bruto salaris - gebaseerd op tabel / 1 FTE | G12: Bruto maandelijks salaris (enkel voor overig personeel of medische specialist) | H12: % fte (voor het project) | I12: Salariskosten | J12: Bruto salaris, 40% opslag (enkel voor overig personeel of medische specialist) | K12: Overhead % (enkel voor overig personeel of medische specialist) | L12: Activiteit | M12: Subsidie-percentage | N12: Totale kosten | O12: Maximale subsidie | P12: Benodigde eigen bijdrage / Cofinanciering | R12: Gerealiseerde kosten | S12: Benodigde eigen bijdrage / cofinanciering | T12: Totaal gerealiseerd (totale kosten minus totale eigen bijdrage/cofin.) | V12: Gerealiseerde kosten | X12: Gerealiseerde kosten | Z12: Benodigde eigen bijdrage / cofinanciering | AA12: Totaal gerealiseerd (totale kosten minus totale eigen bijdrage/cofin.) | AB12: Benodigde eigen bijdrage / cofinanciering | AC12: Totaal gerealiseerd (totale kosten minus totale eigen bijdrage/cofin.)
C13: =IF(B13="","",IF($C$5="Universiteit","UNL",IF($C$5="Universitair Medisch Centrum","NFU","Overig"))) | F13: =IFERROR(IF(C13="UNL",INDEX(Tabel_UNL,MATCH($E13,Hulpsheets!$P$3:$P$123,0),MATCH($D13,Hulpsheets!$P$3:$U$3,0)),IF(C13="NFU",INDEX(Tabel_NFU,MATCH($E13,Hulpsheets!$W$3:$W$99,0),MATCH($D13,Hulpsheets!$W$3:$AC$3,0)),IF(C13="Overig",0,0))),0) -> 0 | I13: =IF(F13>0,F13*H13,G13*E13*H13) -> 0 | J13: =IF(OR(C13="Overig",D13="Medische Specialist"),I13*0.4,0) -> 0 | L13: Niet-economische activiteit | M13: =IF(LEN($C$5)<=1, "", IF( OR($C$5="Overige (zorg-)instellingen",$C$5="Onderneming"), IF(Basisgegevens!$C$5="Ja", IFERROR( INDEX(Hulpsheets!$AO$3:$AR$18, MATCH($C$9,Hulpsheets!$AN$3:$AN$18,0), MATCH($C$6,Hulpsheets!$AO$3:$AR$3,0) ), "" ), IFERROR( INDEX(Hulpsheets!$AH$3:$AK$18, MATCH($C$9,Hulpsheets!$AG$3:$AG$18,0), MATCH($C$6,Hulpsheets!$AH$3:$AK$3,0) ), "" ) ), IF($L13="Niet-economische activiteit", 100%, IF(Basisgegevens!$C$5="Ja", IFERROR( INDEX(Hulpsheets!$AO$3:$AR$18, MATCH($C$9,Hulpsheets!$AN$3:$AN$18,0), MATCH($C$6,Hulpsheets!$AO$3:$AR$3,0) ), "" ), IFERROR( INDEX(Hulpsheets!$AH$3:$AK$18, MATCH($C$9,Hulpsheets!$AG$3:$AG$18,0), MATCH($C$6,Hulpsheets!$AH$3:$AK$3,0) ), "" ) ) ) ) ) | N13: =IF(OR(C13="Overig",$D13="Medische Specialist"),((I13+J13)*(1+K13)),I13) -> 0 | O13: =IFERROR(N13*M13,"") | P13: =IFERROR(N13-O13,"") | S13: =IFERROR($R13*(1-$M13),"") | T13: =IFERROR(R13-S13,"") | Z13: =IFERROR($V13*(1-$M13),"") | AA13: =IFERROR(V13-Z13,"") | AB13: =IFERROR($X13*(1-$M13),"") | AC13: =IFERROR(X13-AB13,"")
C14: =IF(B14="","",IF($C$5="Universiteit","UNL",IF($C$5="Universitair Medisch Centrum","NFU","Overig"))) | F14: =IFERROR(IF(C14="UNL",INDEX(Tabel_UNL,MATCH($E14,Hulpsheets!$P$3:$P$123,0),MATCH($D14,Hulpsheets!$P$3:$U$3,0)),IF(C14="NFU",INDEX(Tabel_NFU,MATCH($E14,Hulpsheets!$W$3:$W$99,0),MATCH($D14,Hulpsheets!$W$3:$AC$3,0)),IF(C14="Overig",0,0))),0) -> 0 | I14: =IF(F14>0,F14*H14,G14*E14*H14) -> 0 | J14: =IF(OR(C14="Overig",D14="Medische Specialist"),I14*0.4,0) -> 0 | L14: Niet-economische activiteit | M14: =IF(LEN($C$5)<=1, "", IF( OR($C$5="Overige (zorg-)instellingen",$C$5="Onderneming"), IF(Basisgegevens!$C$5="Ja", IFERROR( INDEX(Hulpsheets!$AO$3:$AR$18, MATCH($C$9,Hulpsheets!$AN$3:$AN$18,0), MATCH($C$6,Hulpsheets!$AO$3:$AR$3,0) ), "" ), IFERROR( INDEX(Hulpsheets!$AH$3:$AK$18, MATCH($C$9,Hulpsheets!$AG$3:$AG$18,0), MATCH($C$6,Hulpsheets!$AH$3:$AK$3,0) ), "" ) ), IF($L14="Niet-economische activiteit", 100%, IF(Basisgegevens!$C$5="Ja", IFERROR( INDEX(Hulpsheets!$AO$3:$AR$18, MATCH($C$9,Hulpsheets!$AN$3:$AN$18,0), MATCH($C$6,Hulpsheets!$AO$3:$AR$3,0) ), "" ), IFERROR( INDEX(Hulpsheets!$AH$3:$AK$18, MATCH($C$9,Hulpsheets!$AG$3:$AG$18,0), MATCH($C$6,Hulpsheets!$AH$3:$AK$3,0) ), "" ) ) ) ) ) | N14: =IF(OR(C14="Overig",$D14="Medische Specialist"),((I14+J14)*(1+K14)),I14) -> 0 | O14: =IFERROR(N14*M14,"") | P14: =IFERROR(N14-O14,"") | S14: =IFERROR($R14*(1-$M14),"") | T14: =IFERROR(R14-S14,"") | Z14: =IFERROR($V14*(1-$M14),"") | AA14: =IFERROR(V14-Z14,"") | AB14: =IFERROR($X14*(1-$M14),"") | AC14: =IFERROR(X14-AB14,"")
C15: =IF(B15="","",IF($C$5="Universiteit","UNL",IF($C$5="Universitair Medisch Centrum","NFU","Overig"))) | F15: =IFERROR(IF(C15="UNL",INDEX(Tabel_UNL,MATCH($E15,Hulpsheets!$P$3:$P$123,0),MATCH($D15,Hulpsheets!$P$3:$U$3,0)),IF(C15="NFU",INDEX(Tabel_NFU,MATCH($E15,Hulpsheets!$W$3:$W$99,0),MATCH($D15,Hulpsheets!$W$3:$AC$3,0)),IF(C15="Overig",0,0))),0) -> 0 | I15: =IF(F15>0,F15*H15,G15*E15*H15) -> 0 | J15: =IF(OR(C15="Overig",D15="Medische Specialist"),I15*0.4,0) -> 0 | L15: Niet-economische activiteit | M15: =IF(LEN($C$5)<=1, "", IF( OR($C$5="Overige (zorg-)instellingen",$C$5="Onderneming"), IF(Basisgegevens!$C$5="Ja", IFERROR( INDEX(Hulpsheets!$AO$3:$AR$18, MATCH($C$9,Hulpsheets!$AN$3:$AN$18,0), MATCH($C$6,Hulpsheets!$AO$3:$AR$3,0) ), "" ), IFERROR( INDEX(Hulpsheets!$AH$3:$AK$18, MATCH($C$9,Hulpsheets!$AG$3:$AG$18,0), MATCH($C$6,Hulpsheets!$AH$3:$AK$3,0) ), "" ) ), IF($L15="Niet-economische activiteit", 100%, IF(Basisgegevens!$C$5="Ja", IFERROR( INDEX(Hulpsheets!$AO$3:$AR$18, MATCH($C$9,Hulpsheets!$AN$3:$AN$18,0), MATCH($C$6,Hulpsheets!$AO$3:$AR$3,0) ), "" ), IFERROR( INDEX(Hulpsheets!$AH$3:$AK$18, MATCH($C$9,Hulpsheets!$AG$3:$AG$18,0), MATCH($C$6,Hulpsheets!$AH$3:$AK$3,0) ), "" ) ) ) ) ) | N15: =IF(OR(C15="Overig",$D15="Medische Specialist"),((I15+J15)*(1+K15)),I15) -> 0 | O15: =IFERROR(N15*M15,"") | P15: =IFERROR(N15-O15,"") | S15: =IFERROR($R15*(1-$M15),"") | T15: =IFERROR(R15-S15,"") | Z15: =IFERROR($V15*(1-$M15),"") | AA15: =IFERROR(V15-Z15,"") | AB15: =IFERROR($X15*(1-$M15),"") | AC15: =IFERROR(X15-AB15,"")
C16: =IF(B16="","",IF($C$5="Universiteit","UNL",IF($C$5="Universitair Medisch Centrum","NFU","Overig"))) | F16: =IFERROR(IF(C16="UNL",INDEX(Tabel_UNL,MATCH($E16,Hulpsheets!$P$3:$P$123,0),MATCH($D16,Hulpsheets!$P$3:$U$3,0)),IF(C16="NFU",INDEX(Tabel_NFU,MATCH($E16,Hulpsheets!$W$3:$W$99,0),MATCH($D16,Hulpsheets!$W$3:$AC$3,0)),IF(C16="Overig",0,0))),0) -> 0 | I16: =IF(F16>0,F16*H16,G16*E16*H16) -> 0 | J16: =IF(OR(C16="Overig",D16="Medische Specialist"),I16*0.4,0) -> 0 | L16: Niet-economische activiteit | M16: =IF(LEN($C$5)<=1, "", IF( OR($C$5="Overige (zorg-)instellingen",$C$5="Onderneming"), IF(Basisgegevens!$C$5="Ja", IFERROR( INDEX(Hulpsheets!$AO$3:$AR$18, MATCH($C$9,Hulpsheets!$AN$3:$AN$18,0), MATCH($C$6,Hulpsheets!$AO$3:$AR$3,0) ), "" ), IFERROR( INDEX(Hulpsheets!$AH$3:$AK$18, MATCH($C$9,Hulpsheets!$AG$3:$AG$18,0), MATCH($C$6,Hulpsheets!$AH$3:$AK$3,0) ), "" ) ), IF($L16="Niet-economische activiteit", 100%, IF(Basisgegevens!$C$5="Ja", IFERROR( INDEX(Hulpsheets!$AO$3:$AR$18, MATCH($C$9,Hulpsheets!$AN$3:$AN$18,0), MATCH($C$6,Hulpsheets!$AO$3:$AR$3,0) ), "" ), IFERROR( INDEX(Hulpsheets!$AH$3:$AK$18, MATCH($C$9,Hulpsheets!$AG$3:$AG$18,0), MATCH($C$6,Hulpsheets!$AH$3:$AK$3,0) ), "" ) ) ) ) ) | N16: =IF(OR(C16="Overig",$D16="Medische Specialist"),((I16+J16)*(1+K16)),I16) -> 0 | O16: =IFERROR(N16*M16,"") | P16: =IFERROR(N16-O16,"") | S16: =IFERROR($R16*(1-$M16),"") | T16: =IFERROR(R16-S16,"") | Z16: =IFERROR($V16*(1-$M16),"") | AA16: =IFERROR(V16-Z16,"") | AB16: =IFERROR($X16*(1-$M16),"") | AC16: =IFERROR(X16-AB16,"")
C17: =IF(B17="","",IF($C$5="Universiteit","UNL",IF($C$5="Universitair Medisch Centrum","NFU","Overig"))) | F17: =IFERROR(IF(C17="UNL",INDEX(Tabel_UNL,MATCH($E17,Hulpsheets!$P$3:$P$123,0),MATCH($D17,Hulpsheets!$P$3:$U$3,0)),IF(C17="NFU",INDEX(Tabel_NFU,MATCH($E17,Hulpsheets!$W$3:$W$99,0),MATCH($D17,Hulpsheets!$W$3:$AC$3,0)),IF(C17="Overig",0,0))),0) -> 0 | I17: =IF(F17>0,F17*H17,G17*E17*H17) -> 0 | J17: =IF(OR(C17="Overig",D17="Medische Specialist"),I17*0.4,0) -> 0 | L17: Niet-economische activiteit | M17: =IF(LEN($C$5)<=1, "", IF( OR($C$5="Overige (zorg-)instellingen",$C$5="Onderneming"), IF(Basisgegevens!$C$5="Ja", IFERROR( INDEX(Hulpsheets!$AO$3:$AR$18, MATCH($C$9,Hulpsheets!$AN$3:$AN$18,0), MATCH($C$6,Hulpsheets!$AO$3:$AR$3,0) ), "" ), IFERROR( INDEX(Hulpsheets!$AH$3:$AK$18, MATCH($C$9,Hulpsheets!$AG$3:$AG$18,0), MATCH($C$6,Hulpsheets!$AH$3:$AK$3,0) ), "" ) ), IF($L17="Niet-economische activiteit", 100%, IF(Basisgegevens!$C$5="Ja", IFERROR( INDEX(Hulpsheets!$AO$3:$AR$18, MATCH($C$9,Hulpsheets!$AN$3:$AN$18,0), MATCH($C$6,Hulpsheets!$AO$3:$AR$3,0) ), "" ), IFERROR( INDEX(Hulpsheets!$AH$3:$AK$18, MATCH($C$9,Hulpsheets!$AG$3:$AG$18,0), MATCH($C$6,Hulpsheets!$AH$3:$AK$3,0) ), "" ) ) ) ) ) | N17: =IF(OR(C17="Overig",$D17="Medische Specialist"),((I17+J17)*(1+K17)),I17) -> 0 | O17: =IFERROR(N17*M17,"") | P17: =IFERROR(N17-O17,"") | S17: =IFERROR($R17*(1-$M17),"") | T17: =IFERROR(R17-S17,"") | Z17: =IFERROR($V17*(1-$M17),"") | AA17: =IFERROR(V17-Z17,"") | AB17: =IFERROR($X17*(1-$M17),"") | AC17: =IFERROR(X17-AB17,"")
C18: =IF(B18="","",IF($C$5="Universiteit","UNL",IF($C$5="Universitair Medisch Centrum","NFU","Overig"))) | F18: =IFERROR(IF(C18="UNL",INDEX(Tabel_UNL,MATCH($E18,Hulpsheets!$P$3:$P$123,0),MATCH($D18,Hulpsheets!$P$3:$U$3,0)),IF(C18="NFU",INDEX(Tabel_NFU,MATCH($E18,Hulpsheets!$W$3:$W$99,0),MATCH($D18,Hulpsheets!$W$3:$AC$3,0)),IF(C18="Overig",0,0))),0) -> 0 | I18: =IF(F18>0,F18*H18,G18*E18*H18) -> 0 | J18: =IF(OR(C18="Overig",D18="Medische Specialist"),I18*0.4,0) -> 0 | L18: Niet-economische activiteit | M18: =IF(LEN($C$5)<=1, "", IF( OR($C$5="Overige (zorg-)instellingen",$C$5="Onderneming"), IF(Basisgegevens!$C$5="Ja", IFERROR( INDEX(Hulpsheets!$AO$3:$AR$18, MATCH($C$9,Hulpsheets!$AN$3:$AN$18,0), MATCH($C$6,Hulpsheets!$AO$3:$AR$3,0) ), "" ), IFERROR( INDEX(Hulpsheets!$AH$3:$AK$18, MATCH($C$9,Hulpsheets!$AG$3:$AG$18,0), MATCH($C$6,Hulpsheets!$AH$3:$AK$3,0) ), "" ) ), IF($L18="Niet-economische activiteit", 100%, IF(Basisgegevens!$C$5="Ja", IFERROR( INDEX(Hulpsheets!$AO$3:$AR$18, MATCH($C$9,Hulpsheets!$AN$3:$AN$18,0), MATCH($C$6,Hulpsheets!$AO$3:$AR$3,0) ), "" ), IFERROR( INDEX(Hulpsheets!$AH$3:$AK$18, MATCH($C$9,Hulpsheets!$AG$3:$AG$18,0), MATCH($C$6,Hulpsheets!$AH$3:$AK$3,0) ), "" ) ) ) ) ) | N18: =IF(OR(C18="Overig",$D18="Medische Specialist"),((I18+J18)*(1+K18)),I18) -> 0 | O18: =IFERROR(N18*M18,"") | P18: =IFERROR(N18-O18,"") | S18: =IFERROR($R18*(1-$M18),"") | T18: =IFERROR(R18-S18,"") | Z18: =IFERROR($V18*(1-$M18),"") | AA18: =IFERROR(V18-Z18,"") | AB18: =IFERROR($X18*(1-$M18),"") | AC18: =IFERROR(X18-AB18,"")
C19: =IF(B19="","",IF($C$5="Universiteit","UNL",IF($C$5="Universitair Medisch Centrum","NFU","Overig"))) | F19: =IFERROR(IF(C19="UNL",INDEX(Tabel_UNL,MATCH($E19,Hulpsheets!$P$3:$P$123,0),MATCH($D19,Hulpsheets!$P$3:$U$3,0)),IF(C19="NFU",INDEX(Tabel_NFU,MATCH($E19,Hulpsheets!$W$3:$W$99,0),MATCH($D19,Hulpsheets!$W$3:$AC$3,0)),IF(C19="Overig",0,0))),0) -> 0 | I19: =IF(F19>0,F19*H19,G19*E19*H19) -> 0 | J19: =IF(OR(C19="Overig",D19="Medische Specialist"),I19*0.4,0) -> 0 | L19: Niet-economische activiteit | M19: =IF(LEN($C$5)<=1, "", IF( OR($C$5="Overige (zorg-)instellingen",$C$5="Onderneming"), IF(Basisgegevens!$C$5="Ja", IFERROR( INDEX(Hulpsheets!$AO$3:$AR$18, MATCH($C$9,Hulpsheets!$AN$3:$AN$18,0), MATCH($C$6,Hulpsheets!$AO$3:$AR$3,0) ), "" ), IFERROR( INDEX(Hulpsheets!$AH$3:$AK$18, MATCH($C$9,Hulpsheets!$AG$3:$AG$18,0), MATCH($C$6,Hulpsheets!$AH$3:$AK$3,0) ), "" ) ), IF($L19="Niet-economische activiteit", 100%, IF(Basisgegevens!$C$5="Ja", IFERROR( INDEX(Hulpsheets!$AO$3:$AR$18, MATCH($C$9,Hulpsheets!$AN$3:$AN$18,0), MATCH($C$6,Hulpsheets!$AO$3:$AR$3,0) ), "" ), IFERROR( INDEX(Hulpsheets!$AH$3:$AK$18, MATCH($C$9,Hulpsheets!$AG$3:$AG$18,0), MATCH($C$6,Hulpsheets!$AH$3:$AK$3,0) ), "" ) ) ) ) ) | N19: =IF(OR(C19="Overig",$D19="Medische Specialist"),((I19+J19)*(1+K19)),I19) -> 0 | O19: =IFERROR(N19*M19,"") | P19: =IFERROR(N19-O19,"") | S19: =IFERROR($R19*(1-$M19),"") | T19: =IFERROR(R19-S19,"") | Z19: =IFERROR($V19*(1-$M19),"") | AA19: =IFERROR(V19-Z19,"") | AB19: =IFERROR($X19*(1-$M19),"") | AC19: =IFERROR(X19-AB19,"")
C20: =IF(B20="","",IF($C$5="Universiteit","UNL",IF($C$5="Universitair Medisch Centrum","NFU","Overig"))) | F20: =IFERROR(IF(C20="UNL",INDEX(Tabel_UNL,MATCH($E20,Hulpsheets!$P$3:$P$123,0),MATCH($D20,Hulpsheets!$P$3:$U$3,0)),IF(C20="NFU",INDEX(Tabel_NFU,MATCH($E20,Hulpsheets!$W$3:$W$99,0),MATCH($D20,Hulpsheets!$W$3:$AC$3,0)),IF(C20="Overig",0,0))),0) -> 0 | I20: =IF(F20>0,F20*H20,G20*E20*H20) -> 0 | J20: =IF(OR(C20="Overig",D20="Medische Specialist"),I20*0.4,0) -> 0 | L20: Niet-economische activiteit | M20: =IF(LEN($C$5)<=1, "", IF( OR($C$5="Overige (zorg-)instellingen",$C$5="Onderneming"), IF(Basisgegevens!$C$5="Ja", IFERROR( INDEX(Hulpsheets!$AO$3:$AR$18, MATCH($C$9,Hulpsheets!$AN$3:$AN$18,0), MATCH($C$6,Hulpsheets!$AO$3:$AR$3,0) ), "" ), IFERROR( INDEX(Hulpsheets!$AH$3:$AK$18, MATCH($C$9,Hulpsheets!$AG$3:$AG$18,0), MATCH($C$6,Hulpsheets!$AH$3:$AK$3,0) ), "" ) ), IF($L20="Niet-economische activiteit", 100%, IF(Basisgegevens!$C$5="Ja", IFERROR( INDEX(Hulpsheets!$AO$3:$AR$18, MATCH($C$9,Hulpsheets!$AN$3:$AN$18,0), MATCH($C$6,Hulpsheets!$AO$3:$AR$3,0) ), "" ), IFERROR( INDEX(Hulpsheets!$AH$3:$AK$18, MATCH($C$9,Hulpsheets!$AG$3:$AG$18,0), MATCH($C$6,Hulpsheets!$AH$3:$AK$3,0) ), "" ) ) ) ) ) | N20: =IF(OR(C20="Overig",$D20="Medische Specialist"),((I20+J20)*(1+K20)),I20) -> 0 | O20: =IFERROR(N20*M20,"") | P20: =IFERROR(N20-O20,"") | S20: =IFERROR($R20*(1-$M20),"") | T20: =IFERROR(R20-S20,"") | Z20: =IFERROR($V20*(1-$M20),"") | AA20: =IFERROR(V20-Z20,"") | AB20: =IFERROR($X20*(1-$M20),"") | AC20: =IFERROR(X20-AB20,"")
C21: =IF(B21="","",IF($C$5="Universiteit","UNL",IF($C$5="Universitair Medisch Centrum","NFU","Overig"))) | F21: =IFERROR(IF(C21="UNL",INDEX(Tabel_UNL,MATCH($E21,Hulpsheets!$P$3:$P$123,0),MATCH($D21,Hulpsheets!$P$3:$U$3,0)),IF(C21="NFU",INDEX(Tabel_NFU,MATCH($E21,Hulpsheets!$W$3:$W$99,0),MATCH($D21,Hulpsheets!$W$3:$AC$3,0)),IF(C21="Overig",0,0))),0) -> 0 | I21: =IF(F21>0,F21*H21,G21*E21*H21) -> 0 | J21: =IF(OR(C21="Overig",D21="Medische Specialist"),I21*0.4,0) -> 0 | L21: Niet-economische activiteit | M21: =IF(LEN($C$5)<=1, "", IF( OR($C$5="Overige (zorg-)instellingen",$C$5="Onderneming"), IF(Basisgegevens!$C$5="Ja", IFERROR( INDEX(Hulpsheets!$AO$3:$AR$18, MATCH($C$9,Hulpsheets!$AN$3:$AN$18,0), MATCH($C$6,Hulpsheets!$AO$3:$AR$3,0) ), "" ), IFERROR( INDEX(Hulpsheets!$AH$3:$AK$18, MATCH($C$9,Hulpsheets!$AG$3:$AG$18,0), MATCH($C$6,Hulpsheets!$AH$3:$AK$3,0) ), "" ) ), IF($L21="Niet-economische activiteit", 100%, IF(Basisgegevens!$C$5="Ja", IFERROR( INDEX(Hulpsheets!$AO$3:$AR$18, MATCH($C$9,Hulpsheets!$AN$3:$AN$18,0), MATCH($C$6,Hulpsheets!$AO$3:$AR$3,0) ), "" ), IFERROR( INDEX(Hulpsheets!$AH$3:$AK$18, MATCH($C$9,Hulpsheets!$AG$3:$AG$18,0), MATCH($C$6,Hulpsheets!$AH$3:$AK$3,0) ), "" ) ) ) ) ) | N21: =IF(OR(C21="Overig",$D21="Medische Specialist"),((I21+J21)*(1+K21)),I21) -> 0 | O21: =IFERROR(N21*M21,"") | P21: =IFERROR(N21-O21,"") | S21: =IFERROR($R21*(1-$M21),"") | T21: =IFERROR(R21-S21,"") | Z21: =IFERROR($V21*(1-$M21),"") | AA21: =IFERROR(V21-Z21,"") | AB21: =IFERROR($X21*(1-$M21),"") | AC21: =IFERROR(X21-AB21,"")
C22: =IF(B22="","",IF($C$5="Universiteit","UNL",IF($C$5="Universitair Medisch Centrum","NFU","Overig"))) | F22: =IFERROR(IF(C22="UNL",INDEX(Tabel_UNL,MATCH($E22,Hulpsheets!$P$3:$P$123,0),MATCH($D22,Hulpsheets!$P$3:$U$3,0)),IF(C22="NFU",INDEX(Tabel_NFU,MATCH($E22,Hulpsheets!$W$3:$W$99,0),MATCH($D22,Hulpsheets!$W$3:$AC$3,0)),IF(C22="Overig",0,0))),0) -> 0 | I22: =IF(F22>0,F22*H22,G22*E22*H22) -> 0 | J22: =IF(OR(C22="Overig",D22="Medische Specialist"),I22*0.4,0) -> 0 | L22: Niet-economische activiteit | M22: =IF(LEN($C$5)<=1, "", IF( OR($C$5="Overige (zorg-)instellingen",$C$5="Onderneming"), IF(Basisgegevens!$C$5="Ja", IFERROR( INDEX(Hulpsheets!$AO$3:$AR$18, MATCH($C$9,Hulpsheets!$AN$3:$AN$18,0), MATCH($C$6,Hulpsheets!$AO$3:$AR$3,0) ), "" ), IFERROR( INDEX(Hulpsheets!$AH$3:$AK$18, MATCH($C$9,Hulpsheets!$AG$3:$AG$18,0), MATCH($C$6,Hulpsheets!$AH$3:$AK$3,0) ), "" ) ), IF($L22="Niet-economische activiteit", 100%, IF(Basisgegevens!$C$5="Ja", IFERROR( INDEX(Hulpsheets!$AO$3:$AR$18, MATCH($C$9,Hulpsheets!$AN$3:$AN$18,0), MATCH($C$6,Hulpsheets!$AO$3:$AR$3,0) ), "" ), IFERROR( INDEX(Hulpsheets!$AH$3:$AK$18, MATCH($C$9,Hulpsheets!$AG$3:$AG$18,0), MATCH($C$6,Hulpsheets!$AH$3:$AK$3,0) ), "" ) ) ) ) ) | N22: =IF(OR(C22="Overig",$D22="Medische Specialist"),((I22+J22)*(1+K22)),I22) -> 0 | O22: =IFERROR(N22*M22,"") | P22: =IFERROR(N22-O22,"") | S22: =IFERROR($R22*(1-$M22),"") | T22: =IFERROR(R22-S22,"") | Z22: =IFERROR($V22*(1-$M22),"") | AA22: =IFERROR(V22-Z22,"") | AB22: =IFERROR($X22*(1-$M22),"") | AC22: =IFERROR(X22-AB22,"")
C23: =IF(B23="","",IF($C$5="Universiteit","UNL",IF($C$5="Universitair Medisch Centrum","NFU","Overig"))) | F23: =IFERROR(IF(C23="UNL",INDEX(Tabel_UNL,MATCH($E23,Hulpsheets!$P$3:$P$123,0),MATCH($D23,Hulpsheets!$P$3:$U$3,0)),IF(C23="NFU",INDEX(Tabel_NFU,MATCH($E23,Hulpsheets!$W$3:$W$99,0),MATCH($D23,Hulpsheets!$W$3:$AC$3,0)),IF(C23="Overig",0,0))),0) -> 0 | I23: =IF(F23>0,F23*H23,G23*E23*H23) -> 0 | J23: =IF(OR(C23="Overig",D23="Medische Specialist"),I23*0.4,0) -> 0 | L23: Niet-economische activiteit | M23: =IF(LEN($C$5)<=1, "", IF( OR($C$5="Overige (zorg-)instellingen",$C$5="Onderneming"), IF(Basisgegevens!$C$5="Ja", IFERROR( INDEX(Hulpsheets!$AO$3:$AR$18, MATCH($C$9,Hulpsheets!$AN$3:$AN$18,0), MATCH($C$6,Hulpsheets!$AO$3:$AR$3,0) ), "" ), IFERROR( INDEX(Hulpsheets!$AH$3:$AK$18, MATCH($C$9,Hulpsheets!$AG$3:$AG$18,0), MATCH($C$6,Hulpsheets!$AH$3:$AK$3,0) ), "" ) ), IF($L23="Niet-economische activiteit", 100%, IF(Basisgegevens!$C$5="Ja", IFERROR( INDEX(Hulpsheets!$AO$3:$AR$18, MATCH($C$9,Hulpsheets!$AN$3:$AN$18,0), MATCH($C$6,Hulpsheets!$AO$3:$AR$3,0) ), "" ), IFERROR( INDEX(Hulpsheets!$AH$3:$AK$18, MATCH($C$9,Hulpsheets!$AG$3:$AG$18,0), MATCH($C$6,Hulpsheets!$AH$3:$AK$3,0) ), "" ) ) ) ) ) | N23: =IF(OR(C23="Overig",$D23="Medische Specialist"),((I23+J23)*(1+K23)),I23) -> 0 | O23: =IFERROR(N23*M23,"") | P23: =IFERROR(N23-O23,"") | S23: =IFERROR($R23*(1-$M23),"") | T23: =IFERROR(R23-S23,"") | Z23: =IFERROR($V23*(1-$M23),"") | AA23: =IFERROR(V23-Z23,"") | AB23: =IFERROR($X23*(1-$M23),"") | AC23: =IFERROR(X23-AB23,"")
C24: =IF(B24="","",IF($C$5="Universiteit","UNL",IF($C$5="Universitair Medisch Centrum","NFU","Overig"))) | F24: =IFERROR(IF(C24="UNL",INDEX(Tabel_UNL,MATCH($E24,Hulpsheets!$P$3:$P$123,0),MATCH($D24,Hulpsheets!$P$3:$U$3,0)),IF(C24="NFU",INDEX(Tabel_NFU,MATCH($E24,Hulpsheets!$W$3:$W$99,0),MATCH($D24,Hulpsheets!$W$3:$AC$3,0)),IF(C24="Overig",0,0))),0) -> 0 | I24: =IF(F24>0,F24*H24,G24*E24*H24) -> 0 | J24: =IF(OR(C24="Overig",D24="Medische Specialist"),I24*0.4,0) -> 0 | L24: Niet-economische activiteit | M24: =IF(LEN($C$5)<=1, "", IF( OR($C$5="Overige (zorg-)instellingen",$C$5="Onderneming"), IF(Basisgegevens!$C$5="Ja", IFERROR( INDEX(Hulpsheets!$AO$3:$AR$18, MATCH($C$9,Hulpsheets!$AN$3:$AN$18,0), MATCH($C$6,Hulpsheets!$AO$3:$AR$3,0) ), "" ), IFERROR( INDEX(Hulpsheets!$AH$3:$AK$18, MATCH($C$9,Hulpsheets!$AG$3:$AG$18,0), MATCH($C$6,Hulpsheets!$AH$3:$AK$3,0) ), "" ) ), IF($L24="Niet-economische activiteit", 100%, IF(Basisgegevens!$C$5="Ja", IFERROR( INDEX(Hulpsheets!$AO$3:$AR$18, MATCH($C$9,Hulpsheets!$AN$3:$AN$18,0), MATCH($C$6,Hulpsheets!$AO$3:$AR$3,0) ), "" ), IFERROR( INDEX(Hulpsheets!$AH$3:$AK$18, MATCH($C$9,Hulpsheets!$AG$3:$AG$18,0), MATCH($C$6,Hulpsheets!$AH$3:$AK$3,0) ), "" ) ) ) ) ) | N24: =IF(OR(C24="Overig",$D24="Medische Specialist"),((I24+J24)*(1+K24)),I24) -> 0 | O24: =IFERROR(N24*M24,"") | P24: =IFERROR(N24-O24,"") | S24: =IFERROR($R24*(1-$M24),"") | T24: =IFERROR(R24-S24,"") | Z24: =IFERROR($V24*(1-$M24),"") | AA24: =IFERROR(V24-Z24,"") | AB24: =IFERROR($X24*(1-$M24),"") | AC24: =IFERROR(X24-AB24,"")
... C37: =IF(B37="","",IF($C$5="Universiteit","UNL",IF($C$5="Universitair Medisch Centrum","NFU","Overig"))) | F37: =IFERROR(IF(C37="UNL",INDEX(Tabel_UNL,MATCH($E37,Hulpsheets!$P$3:$P$123,0),MATCH($D37,Hulpsheets!$P$3:$U$3,0)),IF(C37="NFU",INDEX(Tabel_NFU,MATCH($E37,Hulpsheets!$W$3:$W$99,0),MATCH($D37,Hulpsheets!$W$3:$AC$3,0)),IF(C37="Overig",0,0))),0) -> 0 | I37: =IF(F37>0,F37*H37,G37*E37*H37) -> 0 | J37: =IF(OR(C37="Overig",D37="Medische Specialist"),I37*0.4,0) -> 0 | L37: Niet-economische activiteit | M37: =IF(LEN($C$5)<=1, "", IF( OR($C$5="Overige (zorg-)instellingen",$C$5="Onderneming"), IF(Basisgegevens!$C$5="Ja", IFERROR( INDEX(Hulpsheets!$AO$3:$AR$18, MATCH($C$9,Hulpsheets!$AN$3:$AN$18,0), MATCH($C$6,Hulpsheets!$AO$3:$AR$3,0) ), "" ), IFERROR( INDEX(Hulpsheets!$AH$3:$AK$18, MATCH($C$9,Hulpsheets!$AG$3:$AG$18,0), MATCH($C$6,Hulpsheets!$AH$3:$AK$3,0) ), "" ) ), IF($L37="Niet-economische activiteit", 100%, IF(Basisgegevens!$C$5="Ja", IFERROR( INDEX(Hulpsheets!$AO$3:$AR$18, MATCH($C$9,Hulpsheets!$AN$3:$AN$18,0), MATCH($C$6,Hulpsheets!$AO$3:$AR$3,0) ), "" ), IFERROR( INDEX(Hulpsheets!$AH$3:$AK$18, MATCH($C$9,Hulpsheets!$AG$3:$AG$18,0), MATCH($C$6,Hulpsheets!$AH$3:$AK$3,0) ), "" ) ) ) ) ) | N37: =IF(OR(C37="Overig",$D37="Medische Specialist"),((I37+J37)*(1+K37)),I37) -> 0 | O37: =IFERROR(N37*M37,"") | P37: =IFERROR(N37-O37,"") | S37: =IFERROR($R37*(1-$M37),"") | T37: =IFERROR(R37-S37,"") | Z37: =IFERROR($V37*(1-$M37),"") | AA37: =IFERROR(V37-Z37,"") | AB37: =IFERROR($X37*(1-$M37),"") | AC37: =IFERROR(X37-AB37,"")
E38: ="* Let op: aantal maanden is maximaal "&C7 -> * Let op: aantal maanden is maximaal | L38: Subtotaal | N38: =SUM(N13:N37) -> 0 | O38: =SUM(O13:O37) -> 0 | P38: =SUM(P13:P37) -> 0 | R38: =SUM(R13:R37) -> 0 | S38: =SUM(S13:S37) -> 0 | T38: =SUM(T13:T37) -> 0 | V38: =SUM(V13:V37) -> 0 | X38: =SUM(X13:X37) -> 0 | Z38: =SUM(Z13:Z37) -> 0 | AA38: =SUM(AA13:AA37) -> 0 | AB38: =SUM(AB13:AB37) -> 0 | AC38: =SUM(AC13:AC37) -> 0
B39: 1.b Personeelskosten (gebaseerd op uurtarief)
B40: Het uurtarief moet acceptabel, redelijk en billijk zijn. | R40: Realisatie | V40: Indien DAEB: realisatie jaar 4 t/m 6 | X40: Indien DAEB: realisatie jaar 7 t/m 9
B42: Functie | J42: Uurtarief | K42: Aantal uren | L42: Activiteit | M42: Subsidie-percentage | N42: Totale kosten | O42: Maximale subsidie | P42: Benodigde eigen bijdrage / Cofinanciering | R42: Gerealiseerde kosten | S42: Benodigde eigen bijdrage / cofinanciering | T42: Totaal gerealiseerd (totale kosten minus totale eigen bijdrage/cofin.) | V42: Gerealiseerde kosten | X42: Gerealiseerde kosten | Z42: Benodigde eigen bijdrage / cofinanciering | AA42: Totaal gerealiseerd (totale kosten minus totale eigen bijdrage/cofin.) | AB42: Benodigde eigen bijdrage / cofinanciering | AC42: Totaal gerealiseerd (totale kosten minus totale eigen bijdrage/cofin.)
L43: Niet-economische activiteit | M43: =IF(LEN($C$5)<=1, "", IF( OR($C$5="Overige (zorg-)instellingen",$C$5="Onderneming"), IF(Basisgegevens!$C$5="Ja", IFERROR( INDEX(Hulpsheets!$AO$3:$AR$18, MATCH($C$9,Hulpsheets!$AN$3:$AN$18,0), MATCH($C$6,Hulpsheets!$AO$3:$AR$3,0) ), "" ), IFERROR( INDEX(Hulpsheets!$AH$3:$AK$18, MATCH($C$9,Hulpsheets!$AG$3:$AG$18,0), MATCH($C$6,Hulpsheets!$AH$3:$AK$3,0) ), "" ) ), IF($L43="Niet-economische activiteit", 100%, IF(Basisgegevens!$C$5="Ja", IFERROR( INDEX(Hulpsheets!$AO$3:$AR$18, MATCH($C$9,Hulpsheets!$AN$3:$AN$18,0), MATCH($C$6,Hulpsheets!$AO$3:$AR$3,0) ), "" ), IFERROR( INDEX(Hulpsheets!$AH$3:$AK$18, MATCH($C$9,Hulpsheets!$AG$3:$AG$18,0), MATCH($C$6,Hulpsheets!$AH$3:$AK$3,0) ), "" ) ) ) ) ) | N43: =IFERROR(J43*K43,"") -> 0 | O43: =IFERROR(N43*M43,"") | P43: =IFERROR(N43-O43,"") | S43: =IFERROR($R43*(1-$M43),"") | T43: =IFERROR(R43-S43,"") | Z43: =IFERROR($V43*(1-$M43),"") | AA43: =IFERROR(V43-Z43,"") | AB43: =IFERROR($X43*(1-$M43),"") | AC43: =IFERROR(X43-AB43,"")
L44: Niet-economische activiteit | M44: =IF(LEN($C$5)<=1, "", IF( OR($C$5="Overige (zorg-)instellingen",$C$5="Onderneming"), IF(Basisgegevens!$C$5="Ja", IFERROR( INDEX(Hulpsheets!$AO$3:$AR$18, MATCH($C$9,Hulpsheets!$AN$3:$AN$18,0), MATCH($C$6,Hulpsheets!$AO$3:$AR$3,0) ), "" ), IFERROR( INDEX(Hulpsheets!$AH$3:$AK$18, MATCH($C$9,Hulpsheets!$AG$3:$AG$18,0), MATCH($C$6,Hulpsheets!$AH$3:$AK$3,0) ), "" ) ), IF($L44="Niet-economische activiteit", 100%, IF(Basisgegevens!$C$5="Ja", IFERROR( INDEX(Hulpsheets!$AO$3:$AR$18, MATCH($C$9,Hulpsheets!$AN$3:$AN$18,0), MATCH($C$6,Hulpsheets!$AO$3:$AR$3,0) ), "" ), IFERROR( INDEX(Hulpsheets!$AH$3:$AK$18, MATCH($C$9,Hulpsheets!$AG$3:$AG$18,0), MATCH($C$6,Hulpsheets!$AH$3:$AK$3,0) ), "" ) ) ) ) ) | N44: =IFERROR(J44*K44,"") -> 0 | O44: =IFERROR(N44*M44,"") | P44: =IFERROR(N44-O44,"") | S44: =IFERROR($R44*(1-$M44),"") | T44: =IFERROR(R44-S44,"") | Z44: =IFERROR($V44*(1-$M44),"") | AA44: =IFERROR(V44-Z44,"") | AB44: =IFERROR($X44*(1-$M44),"") | AC44: =IFERROR(X44-AB44,"")
L45: Niet-economische activiteit | M45: =IF(LEN($C$5)<=1, "", IF( OR($C$5="Overige (zorg-)instellingen",$C$5="Onderneming"), IF(Basisgegevens!$C$5="Ja", IFERROR( INDEX(Hulpsheets!$AO$3:$AR$18, MATCH($C$9,Hulpsheets!$AN$3:$AN$18,0), MATCH($C$6,Hulpsheets!$AO$3:$AR$3,0) ), "" ), IFERROR( INDEX(Hulpsheets!$AH$3:$AK$18, MATCH($C$9,Hulpsheets!$AG$3:$AG$18,0), MATCH($C$6,Hulpsheets!$AH$3:$AK$3,0) ), "" ) ), IF($L45="Niet-economische activiteit", 100%, IF(Basisgegevens!$C$5="Ja", IFERROR( INDEX(Hulpsheets!$AO$3:$AR$18, MATCH($C$9,Hulpsheets!$AN$3:$AN$18,0), MATCH($C$6,Hulpsheets!$AO$3:$AR$3,0) ), "" ), IFERROR( INDEX(Hulpsheets!$AH$3:$AK$18, MATCH($C$9,Hulpsheets!$AG$3:$AG$18,0), MATCH($C$6,Hulpsheets!$AH$3:$AK$3,0) ), "" ) ) ) ) ) | N45: =IFERROR(J45*K45,"") -> 0 | O45: =IFERROR(N45*M45,"") | P45: =IFERROR(N45-O45,"") | S45: =IFERROR($R45*(1-$M45),"") | T45: =IFERROR(R45-S45,"") | Z45: =IFERROR($V45*(1-$M45),"") | AA45: =IFERROR(V45-Z45,"") | AB45: =IFERROR($X45*(1-$M45),"") | AC45: =IFERROR(X45-AB45,"")
L46: Niet-economische activiteit | M46: =IF(LEN($C$5)<=1, "", IF( OR($C$5="Overige (zorg-)instellingen",$C$5="Onderneming"), IF(Basisgegevens!$C$5="Ja", IFERROR( INDEX(Hulpsheets!$AO$3:$AR$18, MATCH($C$9,Hulpsheets!$AN$3:$AN$18,0), MATCH($C$6,Hulpsheets!$AO$3:$AR$3,0) ), "" ), IFERROR( INDEX(Hulpsheets!$AH$3:$AK$18, MATCH($C$9,Hulpsheets!$AG$3:$AG$18,0), MATCH($C$6,Hulpsheets!$AH$3:$AK$3,0) ), "" ) ), IF($L46="Niet-economische activiteit", 100%, IF(Basisgegevens!$C$5="Ja", IFERROR( INDEX(Hulpsheets!$AO$3:$AR$18, MATCH($C$9,Hulpsheets!$AN$3:$AN$18,0), MATCH($C$6,Hulpsheets!$AO$3:$AR$3,0) ), "" ), IFERROR( INDEX(Hulpsheets!$AH$3:$AK$18, MATCH($C$9,Hulpsheets!$AG$3:$AG$18,0), MATCH($C$6,Hulpsheets!$AH$3:$AK$3,0) ), "" ) ) ) ) ) | N46: =IFERROR(J46*K46,"") -> 0 | O46: =IFERROR(N46*M46,"") | P46: =IFERROR(N46-O46,"") | S46: =IFERROR($R46*(1-$M46),"") | T46: =IFERROR(R46-S46,"") | Z46: =IFERROR($V46*(1-$M46),"") | AA46: =IFERROR(V46-Z46,"") | AB46: =IFERROR($X46*(1-$M46),"") | AC46: =IFERROR(X46-AB46,"")
L47: Niet-economische activiteit | M47: =IF(LEN($C$5)<=1, "", IF( OR($C$5="Overige (zorg-)instellingen",$C$5="Onderneming"), IF(Basisgegevens!$C$5="Ja", IFERROR( INDEX(Hulpsheets!$AO$3:$AR$18, MATCH($C$9,Hulpsheets!$AN$3:$AN$18,0), MATCH($C$6,Hulpsheets!$AO$3:$AR$3,0) ), "" ), IFERROR( INDEX(Hulpsheets!$AH$3:$AK$18, MATCH($C$9,Hulpsheets!$AG$3:$AG$18,0), MATCH($C$6,Hulpsheets!$AH$3:$AK$3,0) ), "" ) ), IF($L47="Niet-economische activiteit", 100%, IF(Basisgegevens!$C$5="Ja", IFERROR( INDEX(Hulpsheets!$AO$3:$AR$18, MATCH($C$9,Hulpsheets!$AN$3:$AN$18,0), MATCH($C$6,Hulpsheets!$AO$3:$AR$3,0) ), "" ), IFERROR( INDEX(Hulpsheets!$AH$3:$AK$18, MATCH($C$9,Hulpsheets!$AG$3:$AG$18,0), MATCH($C$6,Hulpsheets!$AH$3:$AK$3,0) ), "" ) ) ) ) ) | N47: =IFERROR(J47*K47,"") -> 0 | O47: =IFERROR(N47*M47,"") | P47: =IFERROR(N47-O47,"") | S47: =IFERROR($R47*(1-$M47),"") | T47: =IFERROR(R47-S47,"") | Z47: =IFERROR($V47*(1-$M47),"") | AA47: =IFERROR(V47-Z47,"") | AB47: =IFERROR($X47*(1-$M47),"") | AC47: =IFERROR(X47-AB47,"")
L48: Niet-economische activiteit | M48: =IF(LEN($C$5)<=1, "", IF( OR($C$5="Overige (zorg-)instellingen",$C$5="Onderneming"), IF(Basisgegevens!$C$5="Ja", IFERROR( INDEX(Hulpsheets!$AO$3:$AR$18, MATCH($C$9,Hulpsheets!$AN$3:$AN$18,0), MATCH($C$6,Hulpsheets!$AO$3:$AR$3,0) ), "" ), IFERROR( INDEX(Hulpsheets!$AH$3:$AK$18, MATCH($C$9,Hulpsheets!$AG$3:$AG$18,0), MATCH($C$6,Hulpsheets!$AH$3:$AK$3,0) ), "" ) ), IF($L48="Niet-economische activiteit", 100%, IF(Basisgegevens!$C$5="Ja", IFERROR( INDEX(Hulpsheets!$AO$3:$AR$18, MATCH($C$9,Hulpsheets!$AN$3:$AN$18,0), MATCH($C$6,Hulpsheets!$AO$3:$AR$3,0) ), "" ), IFERROR( INDEX(Hulpsheets!$AH$3:$AK$18, MATCH($C$9,Hulpsheets!$AG$3:$AG$18,0), MATCH($C$6,Hulpsheets!$AH$3:$AK$3,0) ), "" ) ) ) ) ) | N48: =IFERROR(J48*K48,"") -> 0 | O48: =IFERROR(N48*M48,"") | P48: =IFERROR(N48-O48,"") | S48: =IFERROR($R48*(1-$M48),"") | T48: =IFERROR(R48-S48,"") | Z48: =IFERROR($V48*(1-$M48),"") | AA48: =IFERROR(V48-Z48,"") | AB48: =IFERROR($X48*(1-$M48),"") | AC48: =IFERROR(X48-AB48,"")
L49: Niet-economische activiteit | M49: =IF(LEN($C$5)<=1, "", IF( OR($C$5="Overige (zorg-)instellingen",$C$5="Onderneming"), IF(Basisgegevens!$C$5="Ja", IFERROR( INDEX(Hulpsheets!$AO$3:$AR$18, MATCH($C$9,Hulpsheets!$AN$3:$AN$18,0), MATCH($C$6,Hulpsheets!$AO$3:$AR$3,0) ), "" ), IFERROR( INDEX(Hulpsheets!$AH$3:$AK$18, MATCH($C$9,Hulpsheets!$AG$3:$AG$18,0), MATCH($C$6,Hulpsheets!$AH$3:$AK$3,0) ), "" ) ), IF($L49="Niet-economische activiteit", 100%, IF(Basisgegevens!$C$5="Ja", IFERROR( INDEX(Hulpsheets!$AO$3:$AR$18, MATCH($C$9,Hulpsheets!$AN$3:$AN$18,0), MATCH($C$6,Hulpsheets!$AO$3:$AR$3,0) ), "" ), IFERROR( INDEX(Hulpsheets!$AH$3:$AK$18, MATCH($C$9,Hulpsheets!$AG$3:$AG$18,0), MATCH($C$6,Hulpsheets!$AH$3:$AK$3,0) ), "" ) ) ) ) ) | N49: =IFERROR(J49*K49,"") -> 0 | O49: =IFERROR(N49*M49,"") | P49: =IFERROR(N49-O49,"") | S49: =IFERROR($R49*(1-$M49),"") | T49: =IFERROR(R49-S49,"") | Z49: =IFERROR($V49*(1-$M49),"") | AA49: =IFERROR(V49-Z49,"") | AB49: =IFERROR($X49*(1-$M49),"") | AC49: =IFERROR(X49-AB49,"")
L50: Niet-economische activiteit | M50: =IF(LEN($C$5)<=1, "", IF( OR($C$5="Overige (zorg-)instellingen",$C$5="Onderneming"), IF(Basisgegevens!$C$5="Ja", IFERROR( INDEX(Hulpsheets!$AO$3:$AR$18, MATCH($C$9,Hulpsheets!$AN$3:$AN$18,0), MATCH($C$6,Hulpsheets!$AO$3:$AR$3,0) ), "" ), IFERROR( INDEX(Hulpsheets!$AH$3:$AK$18, MATCH($C$9,Hulpsheets!$AG$3:$AG$18,0), MATCH($C$6,Hulpsheets!$AH$3:$AK$3,0) ), "" ) ), IF($L50="Niet-economische activiteit", 100%, IF(Basisgegevens!$C$5="Ja", IFERROR( INDEX(Hulpsheets!$AO$3:$AR$18, MATCH($C$9,Hulpsheets!$AN$3:$AN$18,0), MATCH($C$6,Hulpsheets!$AO$3:$AR$3,0) ), "" ), IFERROR( INDEX(Hulpsheets!$AH$3:$AK$18, MATCH($C$9,Hulpsheets!$AG$3:$AG$18,0), MATCH($C$6,Hulpsheets!$AH$3:$AK$3,0) ), "" ) ) ) ) ) | N50: =IFERROR(J50*K50,"") -> 0 | O50: =IFERROR(N50*M50,"") | P50: =IFERROR(N50-O50,"") | S50: =IFERROR($R50*(1-$M50),"") | T50: =IFERROR(R50-S50,"") | Z50: =IFERROR($V50*(1-$M50),"") | AA50: =IFERROR(V50-Z50,"") | AB50: =IFERROR($X50*(1-$M50),"") | AC50: =IFERROR(X50-AB50,"")
L51: Niet-economische activiteit | M51: =IF(LEN($C$5)<=1, "", IF( OR($C$5="Overige (zorg-)instellingen",$C$5="Onderneming"), IF(Basisgegevens!$C$5="Ja", IFERROR( INDEX(Hulpsheets!$AO$3:$AR$18, MATCH($C$9,Hulpsheets!$AN$3:$AN$18,0), MATCH($C$6,Hulpsheets!$AO$3:$AR$3,0) ), "" ), IFERROR( INDEX(Hulpsheets!$AH$3:$AK$18, MATCH($C$9,Hulpsheets!$AG$3:$AG$18,0), MATCH($C$6,Hulpsheets!$AH$3:$AK$3,0) ), "" ) ), IF($L51="Niet-economische activiteit", 100%, IF(Basisgegevens!$C$5="Ja", IFERROR( INDEX(Hulpsheets!$AO$3:$AR$18, MATCH($C$9,Hulpsheets!$AN$3:$AN$18,0), MATCH($C$6,Hulpsheets!$AO$3:$AR$3,0) ), "" ), IFERROR( INDEX(Hulpsheets!$AH$3:$AK$18, MATCH($C$9,Hulpsheets!$AG$3:$AG$18,0), MATCH($C$6,Hulpsheets!$AH$3:$AK$3,0) ), "" ) ) ) ) ) | N51: =IFERROR(J51*K51,"") -> 0 | O51: =IFERROR(N51*M51,"") | P51: =IFERROR(N51-O51,"") | S51: =IFERROR($R51*(1-$M51),"") | T51: =IFERROR(R51-S51,"") | Z51: =IFERROR($V51*(1-$M51),"") | AA51: =IFERROR(V51-Z51,"") | AB51: =IFERROR($X51*(1-$M51),"") | AC51: =IFERROR(X51-AB51,"")
L52: Niet-economische activiteit | M52: =IF(LEN($C$5)<=1, "", IF( OR($C$5="Overige (zorg-)instellingen",$C$5="Onderneming"), IF(Basisgegevens!$C$5="Ja", IFERROR( INDEX(Hulpsheets!$AO$3:$AR$18, MATCH($C$9,Hulpsheets!$AN$3:$AN$18,0), MATCH($C$6,Hulpsheets!$AO$3:$AR$3,0) ), "" ), IFERROR( INDEX(Hulpsheets!$AH$3:$AK$18, MATCH($C$9,Hulpsheets!$AG$3:$AG$18,0), MATCH($C$6,Hulpsheets!$AH$3:$AK$3,0) ), "" ) ), IF($L52="Niet-economische activiteit", 100%, IF(Basisgegevens!$C$5="Ja", IFERROR( INDEX(Hulpsheets!$AO$3:$AR$18, MATCH($C$9,Hulpsheets!$AN$3:$AN$18,0), MATCH($C$6,Hulpsheets!$AO$3:$AR$3,0) ), "" ), IFERROR( INDEX(Hulpsheets!$AH$3:$AK$18, MATCH($C$9,Hulpsheets!$AG$3:$AG$18,0), MATCH($C$6,Hulpsheets!$AH$3:$AK$3,0) ), "" ) ) ) ) ) | N52: =IFERROR(J52*K52,"") -> 0 | O52: =IFERROR(N52*M52,"") | P52: =IFERROR(N52-O52,"") | S52: =IFERROR($R52*(1-$M52),"") | T52: =IFERROR(R52-S52,"") | Z52: =IFERROR($V52*(1-$M52),"") | AA52: =IFERROR(V52-Z52,"") | AB52: =IFERROR($X52*(1-$M52),"") | AC52: =IFERROR(X52-AB52,"")
L53: Niet-economische activiteit | M53: =IF(LEN($C$5)<=1, "", IF( OR($C$5="Overige (zorg-)instellingen",$C$5="Onderneming"), IF(Basisgegevens!$C$5="Ja", IFERROR( INDEX(Hulpsheets!$AO$3:$AR$18, MATCH($C$9,Hulpsheets!$AN$3:$AN$18,0), MATCH($C$6,Hulpsheets!$AO$3:$AR$3,0) ), "" ), IFERROR( INDEX(Hulpsheets!$AH$3:$AK$18, MATCH($C$9,Hulpsheets!$AG$3:$AG$18,0), MATCH($C$6,Hulpsheets!$AH$3:$AK$3,0) ), "" ) ), IF($L53="Niet-economische activiteit", 100%, IF(Basisgegevens!$C$5="Ja", IFERROR( INDEX(Hulpsheets!$AO$3:$AR$18, MATCH($C$9,Hulpsheets!$AN$3:$AN$18,0), MATCH($C$6,Hulpsheets!$AO$3:$AR$3,0) ), "" ), IFERROR( INDEX(Hulpsheets!$AH$3:$AK$18, MATCH($C$9,Hulpsheets!$AG$3:$AG$18,0), MATCH($C$6,Hulpsheets!$AH$3:$AK$3,0) ), "" ) ) ) ) ) | N53: =IFERROR(J53*K53,"") -> 0 | O53: =IFERROR(N53*M53,"") | P53: =IFERROR(N53-O53,"") | S53: =IFERROR($R53*(1-$M53),"") | T53: =IFERROR(R53-S53,"") | Z53: =IFERROR($V53*(1-$M53),"") | AA53: =IFERROR(V53-Z53,"") | AB53: =IFERROR($X53*(1-$M53),"") | AC53: =IFERROR(X53-AB53,"")
L54: Niet-economische activiteit | M54: =IF(LEN($C$5)<=1, "", IF( OR($C$5="Overige (zorg-)instellingen",$C$5="Onderneming"), IF(Basisgegevens!$C$5="Ja", IFERROR( INDEX(Hulpsheets!$AO$3:$AR$18, MATCH($C$9,Hulpsheets!$AN$3:$AN$18,0), MATCH($C$6,Hulpsheets!$AO$3:$AR$3,0) ), "" ), IFERROR( INDEX(Hulpsheets!$AH$3:$AK$18, MATCH($C$9,Hulpsheets!$AG$3:$AG$18,0), MATCH($C$6,Hulpsheets!$AH$3:$AK$3,0) ), "" ) ), IF($L54="Niet-economische activiteit", 100%, IF(Basisgegevens!$C$5="Ja", IFERROR( INDEX(Hulpsheets!$AO$3:$AR$18, MATCH($C$9,Hulpsheets!$AN$3:$AN$18,0), MATCH($C$6,Hulpsheets!$AO$3:$AR$3,0) ), "" ), IFERROR( INDEX(Hulpsheets!$AH$3:$AK$18, MATCH($C$9,Hulpsheets!$AG$3:$AG$18,0), MATCH($C$6,Hulpsheets!$AH$3:$AK$3,0) ), "" ) ) ) ) ) | N54: =IFERROR(J54*K54,"") -> 0 | O54: =IFERROR(N54*M54,"") | P54: =IFERROR(N54-O54,"") | S54: =IFERROR($R54*(1-$M54),"") | T54: =IFERROR(R54-S54,"") | Z54: =IFERROR($V54*(1-$M54),"") | AA54: =IFERROR(V54-Z54,"") | AB54: =IFERROR($X54*(1-$M54),"") | AC54: =IFERROR(X54-AB54,"")
... L67: Niet-economische activiteit | M67: =IF(LEN($C$5)<=1, "", IF( OR($C$5="Overige (zorg-)instellingen",$C$5="Onderneming"), IF(Basisgegevens!$C$5="Ja", IFERROR( INDEX(Hulpsheets!$AO$3:$AR$18, MATCH($C$9,Hulpsheets!$AN$3:$AN$18,0), MATCH($C$6,Hulpsheets!$AO$3:$AR$3,0) ), "" ), IFERROR( INDEX(Hulpsheets!$AH$3:$AK$18, MATCH($C$9,Hulpsheets!$AG$3:$AG$18,0), MATCH($C$6,Hulpsheets!$AH$3:$AK$3,0) ), "" ) ), IF($L67="Niet-economische activiteit", 100%, IF(Basisgegevens!$C$5="Ja", IFERROR( INDEX(Hulpsheets!$AO$3:$AR$18, MATCH($C$9,Hulpsheets!$AN$3:$AN$18,0), MATCH($C$6,Hulpsheets!$AO$3:$AR$3,0) ), "" ), IFERROR( INDEX(Hulpsheets!$AH$3:$AK$18, MATCH($C$9,Hulpsheets!$AG$3:$AG$18,0), MATCH($C$6,Hulpsheets!$AH$3:$AK$3,0) ), "" ) ) ) ) ) | N67: =IFERROR(J67*K67,"") -> 0 | O67: =IFERROR(N67*M67,"") | P67: =IFERROR(N67-O67,"") | S67: =IFERROR($R67*(1-$M67),"") | T67: =IFERROR(R67-S67,"") | Z67: =IFERROR($V67*(1-$M67),"") | AA67: =IFERROR(V67-Z67,"") | AB67: =IFERROR($X67*(1-$M67),"") | AC67: =IFERROR(X67-AB67,"")
L68: Subtotaal | N68: =SUM(N43:N67) -> 0 | O68: =SUM(O43:O67) -> 0 | P68: =SUM(P43:P67) -> 0 | R68: =SUM(R43:R67) -> 0 | S68: =SUM(S43:S67) -> 0 | T68: =SUM(T43:T67) -> 0 | V68: =SUM(V43:V67) -> 0 | X68: =SUM(X43:X67) -> 0 | Z68: =SUM(Z43:Z67) -> 0 | AA68: =SUM(AA43:AA67) -> 0 | AB68: =SUM(AB43:AB67) -> 0 | AC68: =SUM(AC43:AC67) -> 0
B70: 2. Materiële kosten (gespecificeerd) | R70: Realisatie | V70: Indien DAEB: realisatie jaar 4 t/m 6 | X70: Indien DAEB: realisatie jaar 7 t/m 9
B72: Omschrijving | J72: Prijs per stuk | K72: Aantal | L72: Activiteit | M72: Subsidie-percentage | N72: Totale kosten | O72: Maximale subsidie | P72: Benodigde eigen bijdrage / Cofinanciering | R72: Gerealiseerde kosten | S72: Benodigde eigen bijdrage / cofinanciering | T72: Totaal gerealiseerd (totale kosten minus totale eigen bijdrage/cofin.) | V72: Gerealiseerde kosten | X72: Gerealiseerde kosten | Z72: Benodigde eigen bijdrage / cofinanciering | AA72: Totaal gerealiseerd (totale kosten minus totale eigen bijdrage/cofin.) | AB72: Benodigde eigen bijdrage / cofinanciering | AC72: Totaal gerealiseerd (totale kosten minus totale eigen bijdrage/cofin.)
L73: Niet-economische activiteit | M73: =IF(LEN($C$5)<=1, "", IF( OR($C$5="Overige (zorg-)instellingen",$C$5="Onderneming"), IF(Basisgegevens!$C$5="Ja", IFERROR( INDEX(Hulpsheets!$AO$3:$AR$18, MATCH($C$9,Hulpsheets!$AN$3:$AN$18,0), MATCH($C$6,Hulpsheets!$AO$3:$AR$3,0) ), "" ), IFERROR( INDEX(Hulpsheets!$AH$3:$AK$18, MATCH($C$9,Hulpsheets!$AG$3:$AG$18,0), MATCH($C$6,Hulpsheets!$AH$3:$AK$3,0) ), "" ) ), IF($L73="Niet-economische activiteit", 100%, IF(Basisgegevens!$C$5="Ja", IFERROR( INDEX(Hulpsheets!$AO$3:$AR$18, MATCH($C$9,Hulpsheets!$AN$3:$AN$18,0), MATCH($C$6,Hulpsheets!$AO$3:$AR$3,0) ), "" ), IFERROR( INDEX(Hulpsheets!$AH$3:$AK$18, MATCH($C$9,Hulpsheets!$AG$3:$AG$18,0), MATCH($C$6,Hulpsheets!$AH$3:$AK$3,0) ), "" ) ) ) ) ) | N73: =IFERROR(J73*K73,"") -> 0 | O73: =IFERROR(N73*M73,"") | P73: =IFERROR(N73-O73,"") | S73: =IFERROR($R73*(1-$M73),"") | T73: =IFERROR(R73-S73,"") | Z73: =IFERROR($V73*(1-$M73),"") | AA73: =IFERROR(V73-Z73,"") | AB73: =IFERROR($X73*(1-$M73),"") | AC73: =IFERROR(X73-AB73,"")
L74: Niet-economische activiteit | M74: =IF(LEN($C$5)<=1, "", IF( OR($C$5="Overige (zorg-)instellingen",$C$5="Onderneming"), IF(Basisgegevens!$C$5="Ja", IFERROR( INDEX(Hulpsheets!$AO$3:$AR$18, MATCH($C$9,Hulpsheets!$AN$3:$AN$18,0), MATCH($C$6,Hulpsheets!$AO$3:$AR$3,0) ), "" ), IFERROR( INDEX(Hulpsheets!$AH$3:$AK$18, MATCH($C$9,Hulpsheets!$AG$3:$AG$18,0), MATCH($C$6,Hulpsheets!$AH$3:$AK$3,0) ), "" ) ), IF($L74="Niet-economische activiteit", 100%, IF(Basisgegevens!$C$5="Ja", IFERROR( INDEX(Hulpsheets!$AO$3:$AR$18, MATCH($C$9,Hulpsheets!$AN$3:$AN$18,0), MATCH($C$6,Hulpsheets!$AO$3:$AR$3,0) ), "" ), IFERROR( INDEX(Hulpsheets!$AH$3:$AK$18, MATCH($C$9,Hulpsheets!$AG$3:$AG$18,0), MATCH($C$6,Hulpsheets!$AH$3:$AK$3,0) ), "" ) ) ) ) ) | N74: =IFERROR(J74*K74,"") -> 0 | O74: =IFERROR(N74*M74,"") | P74: =IFERROR(N74-O74,"") | S74: =IFERROR($R74*(1-$M74),"") | T74: =IFERROR(R74-S74,"") | Z74: =IFERROR($V74*(1-$M74),"") | AA74: =IFERROR(V74-Z74,"") | AB74: =IFERROR($X74*(1-$M74),"") | AC74: =IFERROR(X74-AB74,"")
L75: Niet-economische activiteit | M75: =IF(LEN($C$5)<=1, "", IF( OR($C$5="Overige (zorg-)instellingen",$C$5="Onderneming"), IF(Basisgegevens!$C$5="Ja", IFERROR( INDEX(Hulpsheets!$AO$3:$AR$18, MATCH($C$9,Hulpsheets!$AN$3:$AN$18,0), MATCH($C$6,Hulpsheets!$AO$3:$AR$3,0) ), "" ), IFERROR( INDEX(Hulpsheets!$AH$3:$AK$18, MATCH($C$9,Hulpsheets!$AG$3:$AG$18,0), MATCH($C$6,Hulpsheets!$AH$3:$AK$3,0) ), "" ) ), IF($L75="Niet-economische activiteit", 100%, IF(Basisgegevens!$C$5="Ja", IFERROR( INDEX(Hulpsheets!$AO$3:$AR$18, MATCH($C$9,Hulpsheets!$AN$3:$AN$18,0), MATCH($C$6,Hulpsheets!$AO$3:$AR$3,0) ), "" ), IFERROR( INDEX(Hulpsheets!$AH$3:$AK$18, MATCH($C$9,Hulpsheets!$AG$3:$AG$18,0), MATCH($C$6,Hulpsheets!$AH$3:$AK$3,0) ), "" ) ) ) ) ) | N75: =IFERROR(J75*K75,"") -> 0 | O75: =IFERROR(N75*M75,"") | P75: =IFERROR(N75-O75,"") | S75: =IFERROR($R75*(1-$M75),"") | T75: =IFERROR(R75-S75,"") | Z75: =IFERROR($V75*(1-$M75),"") | AA75: =IFERROR(V75-Z75,"") | AB75: =IFERROR($X75*(1-$M75),"") | AC75: =IFERROR(X75-AB75,"")
L76: Niet-economische activiteit | M76: =IF(LEN($C$5)<=1, "", IF( OR($C$5="Overige (zorg-)instellingen",$C$5="Onderneming"), IF(Basisgegevens!$C$5="Ja", IFERROR( INDEX(Hulpsheets!$AO$3:$AR$18, MATCH($C$9,Hulpsheets!$AN$3:$AN$18,0), MATCH($C$6,Hulpsheets!$AO$3:$AR$3,0) ), "" ), IFERROR( INDEX(Hulpsheets!$AH$3:$AK$18, MATCH($C$9,Hulpsheets!$AG$3:$AG$18,0), MATCH($C$6,Hulpsheets!$AH$3:$AK$3,0) ), "" ) ), IF($L76="Niet-economische activiteit", 100%, IF(Basisgegevens!$C$5="Ja", IFERROR( INDEX(Hulpsheets!$AO$3:$AR$18, MATCH($C$9,Hulpsheets!$AN$3:$AN$18,0), MATCH($C$6,Hulpsheets!$AO$3:$AR$3,0) ), "" ), IFERROR( INDEX(Hulpsheets!$AH$3:$AK$18, MATCH($C$9,Hulpsheets!$AG$3:$AG$18,0), MATCH($C$6,Hulpsheets!$AH$3:$AK$3,0) ), "" ) ) ) ) ) | N76: =IFERROR(J76*K76,"") -> 0 | O76: =IFERROR(N76*M76,"") | P76: =IFERROR(N76-O76,"") | S76: =IFERROR($R76*(1-$M76),"") | T76: =IFERROR(R76-S76,"") | Z76: =IFERROR($V76*(1-$M76),"") | AA76: =IFERROR(V76-Z76,"") | AB76: =IFERROR($X76*(1-$M76),"") | AC76: =IFERROR(X76-AB76,"")
L77: Niet-economische activiteit | M77: =IF(LEN($C$5)<=1, "", IF( OR($C$5="Overige (zorg-)instellingen",$C$5="Onderneming"), IF(Basisgegevens!$C$5="Ja", IFERROR( INDEX(Hulpsheets!$AO$3:$AR$18, MATCH($C$9,Hulpsheets!$AN$3:$AN$18,0), MATCH($C$6,Hulpsheets!$AO$3:$AR$3,0) ), "" ), IFERROR( INDEX(Hulpsheets!$AH$3:$AK$18, MATCH($C$9,Hulpsheets!$AG$3:$AG$18,0), MATCH($C$6,Hulpsheets!$AH$3:$AK$3,0) ), "" ) ), IF($L77="Niet-economische activiteit", 100%, IF(Basisgegevens!$C$5="Ja", IFERROR( INDEX(Hulpsheets!$AO$3:$AR$18, MATCH($C$9,Hulpsheets!$AN$3:$AN$18,0), MATCH($C$6,Hulpsheets!$AO$3:$AR$3,0) ), "" ), IFERROR( INDEX(Hulpsheets!$AH$3:$AK$18, MATCH($C$9,Hulpsheets!$AG$3:$AG$18,0), MATCH($C$6,Hulpsheets!$AH$3:$AK$3,0) ), "" ) ) ) ) ) | N77: =IFERROR(J77*K77,"") -> 0 | O77: =IFERROR(N77*M77,"") | P77: =IFERROR(N77-O77,"") | S77: =IFERROR($R77*(1-$M77),"") | T77: =IFERROR(R77-S77,"") | Z77: =IFERROR($V77*(1-$M77),"") | AA77: =IFERROR(V77-Z77,"") | AB77: =IFERROR($X77*(1-$M77),"") | AC77: =IFERROR(X77-AB77,"")
L78: Niet-economische activiteit | M78: =IF(LEN($C$5)<=1, "", IF( OR($C$5="Overige (zorg-)instellingen",$C$5="Onderneming"), IF(Basisgegevens!$C$5="Ja", IFERROR( INDEX(Hulpsheets!$AO$3:$AR$18, MATCH($C$9,Hulpsheets!$AN$3:$AN$18,0), MATCH($C$6,Hulpsheets!$AO$3:$AR$3,0) ), "" ), IFERROR( INDEX(Hulpsheets!$AH$3:$AK$18, MATCH($C$9,Hulpsheets!$AG$3:$AG$18,0), MATCH($C$6,Hulpsheets!$AH$3:$AK$3,0) ), "" ) ), IF($L78="Niet-economische activiteit", 100%, IF(Basisgegevens!$C$5="Ja", IFERROR( INDEX(Hulpsheets!$AO$3:$AR$18, MATCH($C$9,Hulpsheets!$AN$3:$AN$18,0), MATCH($C$6,Hulpsheets!$AO$3:$AR$3,0) ), "" ), IFERROR( INDEX(Hulpsheets!$AH$3:$AK$18, MATCH($C$9,Hulpsheets!$AG$3:$AG$18,0), MATCH($C$6,Hulpsheets!$AH$3:$AK$3,0) ), "" ) ) ) ) ) | N78: =IFERROR(J78*K78,"") -> 0 | O78: =IFERROR(N78*M78,"") | P78: =IFERROR(N78-O78,"") | S78: =IFERROR($R78*(1-$M78),"") | T78: =IFERROR(R78-S78,"") | Z78: =IFERROR($V78*(1-$M78),"") | AA78: =IFERROR(V78-Z78,"") | AB78: =IFERROR($X78*(1-$M78),"") | AC78: =IFERROR(X78-AB78,"")
L79: Niet-economische activiteit | M79: =IF(LEN($C$5)<=1, "", IF( OR($C$5="Overige (zorg-)instellingen",$C$5="Onderneming"), IF(Basisgegevens!$C$5="Ja", IFERROR( INDEX(Hulpsheets!$AO$3:$AR$18, MATCH($C$9,Hulpsheets!$AN$3:$AN$18,0), MATCH($C$6,Hulpsheets!$AO$3:$AR$3,0) ), "" ), IFERROR( INDEX(Hulpsheets!$AH$3:$AK$18, MATCH($C$9,Hulpsheets!$AG$3:$AG$18,0), MATCH($C$6,Hulpsheets!$AH$3:$AK$3,0) ), "" ) ), IF($L79="Niet-economische activiteit", 100%, IF(Basisgegevens!$C$5="Ja", IFERROR( INDEX(Hulpsheets!$AO$3:$AR$18, MATCH($C$9,Hulpsheets!$AN$3:$AN$18,0), MATCH($C$6,Hulpsheets!$AO$3:$AR$3,0) ), "" ), IFERROR( INDEX(Hulpsheets!$AH$3:$AK$18, MATCH($C$9,Hulpsheets!$AG$3:$AG$18,0), MATCH($C$6,Hulpsheets!$AH$3:$AK$3,0) ), "" ) ) ) ) ) | N79: =IFERROR(J79*K79,"") -> 0 | O79: =IFERROR(N79*M79,"") | P79: =IFERROR(N79-O79,"") | S79: =IFERROR($R79*(1-$M79),"") | T79: =IFERROR(R79-S79,"") | Z79: =IFERROR($V79*(1-$M79),"") | AA79: =IFERROR(V79-Z79,"") | AB79: =IFERROR($X79*(1-$M79),"") | AC79: =IFERROR(X79-AB79,"")
L80: Niet-economische activiteit | M80: =IF(LEN($C$5)<=1, "", IF( OR($C$5="Overige (zorg-)instellingen",$C$5="Onderneming"), IF(Basisgegevens!$C$5="Ja", IFERROR( INDEX(Hulpsheets!$AO$3:$AR$18, MATCH($C$9,Hulpsheets!$AN$3:$AN$18,0), MATCH($C$6,Hulpsheets!$AO$3:$AR$3,0) ), "" ), IFERROR( INDEX(Hulpsheets!$AH$3:$AK$18, MATCH($C$9,Hulpsheets!$AG$3:$AG$18,0), MATCH($C$6,Hulpsheets!$AH$3:$AK$3,0) ), "" ) ), IF($L80="Niet-economische activiteit", 100%, IF(Basisgegevens!$C$5="Ja", IFERROR( INDEX(Hulpsheets!$AO$3:$AR$18, MATCH($C$9,Hulpsheets!$AN$3:$AN$18,0), MATCH($C$6,Hulpsheets!$AO$3:$AR$3,0) ), "" ), IFERROR( INDEX(Hulpsheets!$AH$3:$AK$18, MATCH($C$9,Hulpsheets!$AG$3:$AG$18,0), MATCH($C$6,Hulpsheets!$AH$3:$AK$3,0) ), "" ) ) ) ) ) | N80: =IFERROR(J80*K80,"") -> 0 | O80: =IFERROR(N80*M80,"") | P80: =IFERROR(N80-O80,"") | S80: =IFERROR($R80*(1-$M80),"") | T80: =IFERROR(R80-S80,"") | Z80: =IFERROR($V80*(1-$M80),"") | AA80: =IFERROR(V80-Z80,"") | AB80: =IFERROR($X80*(1-$M80),"") | AC80: =IFERROR(X80-AB80,"")
L81: Niet-economische activiteit | M81: =IF(LEN($C$5)<=1, "", IF( OR($C$5="Overige (zorg-)instellingen",$C$5="Onderneming"), IF(Basisgegevens!$C$5="Ja", IFERROR( INDEX(Hulpsheets!$AO$3:$AR$18, MATCH($C$9,Hulpsheets!$AN$3:$AN$18,0), MATCH($C$6,Hulpsheets!$AO$3:$AR$3,0) ), "" ), IFERROR( INDEX(Hulpsheets!$AH$3:$AK$18, MATCH($C$9,Hulpsheets!$AG$3:$AG$18,0), MATCH($C$6,Hulpsheets!$AH$3:$AK$3,0) ), "" ) ), IF($L81="Niet-economische activiteit", 100%, IF(Basisgegevens!$C$5="Ja", IFERROR( INDEX(Hulpsheets!$AO$3:$AR$18, MATCH($C$9,Hulpsheets!$AN$3:$AN$18,0), MATCH($C$6,Hulpsheets!$AO$3:$AR$3,0) ), "" ), IFERROR( INDEX(Hulpsheets!$AH$3:$AK$18, MATCH($C$9,Hulpsheets!$AG$3:$AG$18,0), MATCH($C$6,Hulpsheets!$AH$3:$AK$3,0) ), "" ) ) ) ) ) | N81: =IFERROR(J81*K81,"") -> 0 | O81: =IFERROR(N81*M81,"") | P81: =IFERROR(N81-O81,"") | S81: =IFERROR($R81*(1-$M81),"") | T81: =IFERROR(R81-S81,"") | Z81: =IFERROR($V81*(1-$M81),"") | AA81: =IFERROR(V81-Z81,"") | AB81: =IFERROR($X81*(1-$M81),"") | AC81: =IFERROR(X81-AB81,"")
L82: Niet-economische activiteit | M82: =IF(LEN($C$5)<=1, "", IF( OR($C$5="Overige (zorg-)instellingen",$C$5="Onderneming"), IF(Basisgegevens!$C$5="Ja", IFERROR( INDEX(Hulpsheets!$AO$3:$AR$18, MATCH($C$9,Hulpsheets!$AN$3:$AN$18,0), MATCH($C$6,Hulpsheets!$AO$3:$AR$3,0) ), "" ), IFERROR( INDEX(Hulpsheets!$AH$3:$AK$18, MATCH($C$9,Hulpsheets!$AG$3:$AG$18,0), MATCH($C$6,Hulpsheets!$AH$3:$AK$3,0) ), "" ) ), IF($L82="Niet-economische activiteit", 100%, IF(Basisgegevens!$C$5="Ja", IFERROR( INDEX(Hulpsheets!$AO$3:$AR$18, MATCH($C$9,Hulpsheets!$AN$3:$AN$18,0), MATCH($C$6,Hulpsheets!$AO$3:$AR$3,0) ), "" ), IFERROR( INDEX(Hulpsheets!$AH$3:$AK$18, MATCH($C$9,Hulpsheets!$AG$3:$AG$18,0), MATCH($C$6,Hulpsheets!$AH$3:$AK$3,0) ), "" ) ) ) ) ) | N82: =IFERROR(J82*K82,"") -> 0 | O82: =IFERROR(N82*M82,"") | P82: =IFERROR(N82-O82,"") | S82: =IFERROR($R82*(1-$M82),"") | T82: =IFERROR(R82-S82,"") | Z82: =IFERROR($V82*(1-$M82),"") | AA82: =IFERROR(V82-Z82,"") | AB82: =IFERROR($X82*(1-$M82),"") | AC82: =IFERROR(X82-AB82,"")
L83: Niet-economische activiteit | M83: =IF(LEN($C$5)<=1, "", IF( OR($C$5="Overige (zorg-)instellingen",$C$5="Onderneming"), IF(Basisgegevens!$C$5="Ja", IFERROR( INDEX(Hulpsheets!$AO$3:$AR$18, MATCH($C$9,Hulpsheets!$AN$3:$AN$18,0), MATCH($C$6,Hulpsheets!$AO$3:$AR$3,0) ), "" ), IFERROR( INDEX(Hulpsheets!$AH$3:$AK$18, MATCH($C$9,Hulpsheets!$AG$3:$AG$18,0), MATCH($C$6,Hulpsheets!$AH$3:$AK$3,0) ), "" ) ), IF($L83="Niet-economische activiteit", 100%, IF(Basisgegevens!$C$5="Ja", IFERROR( INDEX(Hulpsheets!$AO$3:$AR$18, MATCH($C$9,Hulpsheets!$AN$3:$AN$18,0), MATCH($C$6,Hulpsheets!$AO$3:$AR$3,0) ), "" ), IFERROR( INDEX(Hulpsheets!$AH$3:$AK$18, MATCH($C$9,Hulpsheets!$AG$3:$AG$18,0), MATCH($C$6,Hulpsheets!$AH$3:$AK$3,0) ), "" ) ) ) ) ) | N83: =IFERROR(J83*K83,"") -> 0 | O83: =IFERROR(N83*M83,"") | P83: =IFERROR(N83-O83,"") | S83: =IFERROR($R83*(1-$M83),"") | T83: =IFERROR(R83-S83,"") | Z83: =IFERROR($V83*(1-$M83),"") | AA83: =IFERROR(V83-Z83,"") | AB83: =IFERROR($X83*(1-$M83),"") | AC83: =IFERROR(X83-AB83,"")
L84: Niet-economische activiteit | M84: =IF(LEN($C$5)<=1, "", IF( OR($C$5="Overige (zorg-)instellingen",$C$5="Onderneming"), IF(Basisgegevens!$C$5="Ja", IFERROR( INDEX(Hulpsheets!$AO$3:$AR$18, MATCH($C$9,Hulpsheets!$AN$3:$AN$18,0), MATCH($C$6,Hulpsheets!$AO$3:$AR$3,0) ), "" ), IFERROR( INDEX(Hulpsheets!$AH$3:$AK$18, MATCH($C$9,Hulpsheets!$AG$3:$AG$18,0), MATCH($C$6,Hulpsheets!$AH$3:$AK$3,0) ), "" ) ), IF($L84="Niet-economische activiteit", 100%, IF(Basisgegevens!$C$5="Ja", IFERROR( INDEX(Hulpsheets!$AO$3:$AR$18, MATCH($C$9,Hulpsheets!$AN$3:$AN$18,0), MATCH($C$6,Hulpsheets!$AO$3:$AR$3,0) ), "" ), IFERROR( INDEX(Hulpsheets!$AH$3:$AK$18, MATCH($C$9,Hulpsheets!$AG$3:$AG$18,0), MATCH($C$6,Hulpsheets!$AH$3:$AK$3,0) ), "" ) ) ) ) ) | N84: =IFERROR(J84*K84,"") -> 0 | O84: =IFERROR(N84*M84,"") | P84: =IFERROR(N84-O84,"") | S84: =IFERROR($R84*(1-$M84),"") | T84: =IFERROR(R84-S84,"") | Z84: =IFERROR($V84*(1-$M84),"") | AA84: =IFERROR(V84-Z84,"") | AB84: =IFERROR($X84*(1-$M84),"") | AC84: =IFERROR(X84-AB84,"")
... L97: Niet-economische activiteit | M97: =IF(LEN($C$5)<=1, "", IF( OR($C$5="Overige (zorg-)instellingen",$C$5="Onderneming"), IF(Basisgegevens!$C$5="Ja", IFERROR( INDEX(Hulpsheets!$AO$3:$AR$18, MATCH($C$9,Hulpsheets!$AN$3:$AN$18,0), MATCH($C$6,Hulpsheets!$AO$3:$AR$3,0) ), "" ), IFERROR( INDEX(Hulpsheets!$AH$3:$AK$18, MATCH($C$9,Hulpsheets!$AG$3:$AG$18,0), MATCH($C$6,Hulpsheets!$AH$3:$AK$3,0) ), "" ) ), IF($L97="Niet-economische activiteit", 100%, IF(Basisgegevens!$C$5="Ja", IFERROR( INDEX(Hulpsheets!$AO$3:$AR$18, MATCH($C$9,Hulpsheets!$AN$3:$AN$18,0), MATCH($C$6,Hulpsheets!$AO$3:$AR$3,0) ), "" ), IFERROR( INDEX(Hulpsheets!$AH$3:$AK$18, MATCH($C$9,Hulpsheets!$AG$3:$AG$18,0), MATCH($C$6,Hulpsheets!$AH$3:$AK$3,0) ), "" ) ) ) ) ) | N97: =IFERROR(J97*K97,"") -> 0 | O97: =IFERROR(N97*M97,"") | P97: =IFERROR(N97-O97,"") | S97: =IFERROR($R97*(1-$M97),"") | T97: =IFERROR(R97-S97,"") | Z97: =IFERROR($V97*(1-$M97),"") | AA97: =IFERROR(V97-Z97,"") | AB97: =IFERROR($X97*(1-$M97),"") | AC97: =IFERROR(X97-AB97,"")
L98: Subtotaal | N98: =SUM(N73:N97) -> 0 | O98: =SUM(O73:O97) -> 0 | P98: =SUM(P73:P97) -> 0 | R98: =SUM(R73:R97) -> 0 | S98: =SUM(S73:S97) -> 0 | T98: =SUM(T73:T97) -> 0 | V98: =SUM(V73:V97) -> 0 | X98: =SUM(X73:X97) -> 0 | Z98: =SUM(Z73:Z97) -> 0 | AA98: =SUM(AA73:AA97) -> 0 | AB98: =SUM(AB73:AB97) -> 0 | AC98: =SUM(AC73:AC97) -> 0
B100: 3. Apparatuurkosten (gespecificeerd) | R100: Realisatie | V100: Indien DAEB: realisatie jaar 4 t/m 6 | X100: Indien DAEB: realisatie jaar 7 t/m 9
B102: Omschrijving | E102: Soort apparatuur: computer of overige | F102: Investerings-bedrag (€) | G102: Afschrijving jaar 1 (€) | H102: Afschrijving jaar 2 (€) | I102: Afschrijving jaar 3 (€) | J102: Afschrijving jaar 4 (€) | K102: Afschrijving jaar 5 (€) | L102: Activiteit | M102: Subsidie-percentage | N102: Totaal kosten | O102: Maximale subsidie | P102: Benodigde eigen bijdrage / Cofinanciering | R102: Gerealiseerde kosten | S102: Benodigde eigen bijdrage / cofinanciering | T102: Totaal gerealiseerd (totale kosten minus totale eigen bijdrage/cofin.) | V102: Gerealiseerde kosten | X102: Gerealiseerde kosten | Z102: Benodigde eigen bijdrage / cofinanciering | AA102: Totaal gerealiseerd (totale kosten minus totale eigen bijdrage/cofin.) | AB102: Benodigde eigen bijdrage / cofinanciering | AC102: Totaal gerealiseerd (totale kosten minus totale eigen bijdrage/cofin.)
G103: =IF(E103="","",IF($C$7>12,IF(E103="computer",F103*Hulpsheets!$AX$4,F103*Hulpsheets!$AX$5),(IF(E103="computer",F103*Hulpsheets!$AX$4,F103*Hulpsheets!$AX$5)*$C$7/12))) | H103: =IF(E103="","",IF($C$7<13,0,IF($C$7>24,IF(E103="computer",F103*Hulpsheets!$AY$4,F103*Hulpsheets!$AY$5),IF(E103="computer",F103*Hulpsheets!$AY$4,F103*Hulpsheets!$AY$5)*($C$7-12)/12))) | I103: =IF(E103="","",IF($C$7<24,0,IF($C$7>36,IF(E103="computer",F103*Hulpsheets!$AZ$4,F103*Hulpsheets!$AZ$5),IF(E103="computer",F103*Hulpsheets!$AZ$4,F103*Hulpsheets!$AZ$5)*($C$7-24)/12))) | J103: =IF(E103="","",IF($C$7<36,0,IF($C$7>48,IF(E103="computer",F103*Hulpsheets!$BA$4,F103*Hulpsheets!$BA$5),IF(E103="computer",F103*Hulpsheets!$BA$4,F103*Hulpsheets!$BA$5)*($C$7-36)/12))) | K103: =IF(E103="","",IF($C$7<48,0,IF($C$7>48,IF(E103="computer",F103*Hulpsheets!$BB$4,F103*Hulpsheets!$BB$5),IF(E103="computer",F103*Hulpsheets!$BB$4,F103*Hulpsheets!$BB$5)*($C$7-48)/12))) | L103: Niet-economische activiteit | M103: =IF(LEN($C$5)<=1, "", IF( OR($C$5="Overige (zorg-)instellingen",$C$5="Onderneming"), IF(Basisgegevens!$C$5="Ja", IFERROR( INDEX(Hulpsheets!$AO$3:$AR$18, MATCH($C$9,Hulpsheets!$AN$3:$AN$18,0), MATCH($C$6,Hulpsheets!$AO$3:$AR$3,0) ), "" ), IFERROR( INDEX(Hulpsheets!$AH$3:$AK$18, MATCH($C$9,Hulpsheets!$AG$3:$AG$18,0), MATCH($C$6,Hulpsheets!$AH$3:$AK$3,0) ), "" ) ), IF($L103="Niet-economische activiteit", 100%, IF(Basisgegevens!$C$5="Ja", IFERROR( INDEX(Hulpsheets!$AO$3:$AR$18, MATCH($C$9,Hulpsheets!$AN$3:$AN$18,0), MATCH($C$6,Hulpsheets!$AO$3:$AR$3,0) ), "" ), IFERROR( INDEX(Hulpsheets!$AH$3:$AK$18, MATCH($C$9,Hulpsheets!$AG$3:$AG$18,0), MATCH($C$6,Hulpsheets!$AH$3:$AK$3,0) ), "" ) ) ) ) ) | N103: =SUM(G103:K103) -> 0 | O103: =IFERROR(N103*M103,"") | P103: =IFERROR(N103-O103,"") | S103: =IFERROR($R103*(1-$M103),"") | T103: =IFERROR(R103-S103,"") | Z103: =IFERROR($V103*(1-$M103),"") | AA103: =IFERROR(V103-Z103,"") | AB103: =IFERROR($X103*(1-$M103),"") | AC103: =IFERROR(X103-AB103,"")
G104: =IF(E104="","",IF($C$7>12,IF(E104="computer",F104*Hulpsheets!$AX$4,F104*Hulpsheets!$AX$5),(IF(E104="computer",F104*Hulpsheets!$AX$4,F104*Hulpsheets!$AX$5)*$C$7/12))) | H104: =IF(E104="","",IF($C$7<13,0,IF($C$7>24,IF(E104="computer",F104*Hulpsheets!$AY$4,F104*Hulpsheets!$AY$5),IF(E104="computer",F104*Hulpsheets!$AY$4,F104*Hulpsheets!$AY$5)*($C$7-12)/12))) | I104: =IF(E104="","",IF($C$7<24,0,IF($C$7>36,IF(E104="computer",F104*Hulpsheets!$AZ$4,F104*Hulpsheets!$AZ$5),IF(E104="computer",F104*Hulpsheets!$AZ$4,F104*Hulpsheets!$AZ$5)*($C$7-24)/12))) | J104: =IF(E104="","",IF($C$7<36,0,IF($C$7>48,IF(E104="computer",F104*Hulpsheets!$BA$4,F104*Hulpsheets!$BA$5),IF(E104="computer",F104*Hulpsheets!$BA$4,F104*Hulpsheets!$BA$5)*($C$7-36)/12))) | K104: =IF(E104="","",IF($C$7<48,0,IF($C$7>48,IF(E104="computer",F104*Hulpsheets!$BB$4,F104*Hulpsheets!$BB$5),IF(E104="computer",F104*Hulpsheets!$BB$4,F104*Hulpsheets!$BB$5)*($C$7-48)/12))) | L104: Niet-economische activiteit | M104: =IF(LEN($C$5)<=1, "", IF( OR($C$5="Overige (zorg-)instellingen",$C$5="Onderneming"), IF(Basisgegevens!$C$5="Ja", IFERROR( INDEX(Hulpsheets!$AO$3:$AR$18, MATCH($C$9,Hulpsheets!$AN$3:$AN$18,0), MATCH($C$6,Hulpsheets!$AO$3:$AR$3,0) ), "" ), IFERROR( INDEX(Hulpsheets!$AH$3:$AK$18, MATCH($C$9,Hulpsheets!$AG$3:$AG$18,0), MATCH($C$6,Hulpsheets!$AH$3:$AK$3,0) ), "" ) ), IF($L104="Niet-economische activiteit", 100%, IF(Basisgegevens!$C$5="Ja", IFERROR( INDEX(Hulpsheets!$AO$3:$AR$18, MATCH($C$9,Hulpsheets!$AN$3:$AN$18,0), MATCH($C$6,Hulpsheets!$AO$3:$AR$3,0) ), "" ), IFERROR( INDEX(Hulpsheets!$AH$3:$AK$18, MATCH($C$9,Hulpsheets!$AG$3:$AG$18,0), MATCH($C$6,Hulpsheets!$AH$3:$AK$3,0) ), "" ) ) ) ) ) | N104: =SUM(G104:K104) -> 0 | O104: =IFERROR(N104*M104,"") | P104: =IFERROR(N104-O104,"") | S104: =IFERROR($R104*(1-$M104),"") | T104: =IFERROR(R104-S104,"") | Z104: =IFERROR($V104*(1-$M104),"") | AA104: =IFERROR(V104-Z104,"") | AB104: =IFERROR($X104*(1-$M104),"") | AC104: =IFERROR(X104-AB104,"")
G105: =IF(E105="","",IF($C$7>12,IF(E105="computer",F105*Hulpsheets!$AX$4,F105*Hulpsheets!$AX$5),(IF(E105="computer",F105*Hulpsheets!$AX$4,F105*Hulpsheets!$AX$5)*$C$7/12))) | H105: =IF(E105="","",IF($C$7<13,0,IF($C$7>24,IF(E105="computer",F105*Hulpsheets!$AY$4,F105*Hulpsheets!$AY$5),IF(E105="computer",F105*Hulpsheets!$AY$4,F105*Hulpsheets!$AY$5)*($C$7-12)/12))) | I105: =IF(E105="","",IF($C$7<24,0,IF($C$7>36,IF(E105="computer",F105*Hulpsheets!$AZ$4,F105*Hulpsheets!$AZ$5),IF(E105="computer",F105*Hulpsheets!$AZ$4,F105*Hulpsheets!$AZ$5)*($C$7-24)/12))) | J105: =IF(E105="","",IF($C$7<36,0,IF($C$7>48,IF(E105="computer",F105*Hulpsheets!$BA$4,F105*Hulpsheets!$BA$5),IF(E105="computer",F105*Hulpsheets!$BA$4,F105*Hulpsheets!$BA$5)*($C$7-36)/12))) | K105: =IF(E105="","",IF($C$7<48,0,IF($C$7>48,IF(E105="computer",F105*Hulpsheets!$BB$4,F105*Hulpsheets!$BB$5),IF(E105="computer",F105*Hulpsheets!$BB$4,F105*Hulpsheets!$BB$5)*($C$7-48)/12))) | L105: Niet-economische activiteit | M105: =IF(LEN($C$5)<=1, "", IF( OR($C$5="Overige (zorg-)instellingen",$C$5="Onderneming"), IF(Basisgegevens!$C$5="Ja", IFERROR( INDEX(Hulpsheets!$AO$3:$AR$18, MATCH($C$9,Hulpsheets!$AN$3:$AN$18,0), MATCH($C$6,Hulpsheets!$AO$3:$AR$3,0) ), "" ), IFERROR( INDEX(Hulpsheets!$AH$3:$AK$18, MATCH($C$9,Hulpsheets!$AG$3:$AG$18,0), MATCH($C$6,Hulpsheets!$AH$3:$AK$3,0) ), "" ) ), IF($L105="Niet-economische activiteit", 100%, IF(Basisgegevens!$C$5="Ja", IFERROR( INDEX(Hulpsheets!$AO$3:$AR$18, MATCH($C$9,Hulpsheets!$AN$3:$AN$18,0), MATCH($C$6,Hulpsheets!$AO$3:$AR$3,0) ), "" ), IFERROR( INDEX(Hulpsheets!$AH$3:$AK$18, MATCH($C$9,Hulpsheets!$AG$3:$AG$18,0), MATCH($C$6,Hulpsheets!$AH$3:$AK$3,0) ), "" ) ) ) ) ) | N105: =SUM(G105:K105) -> 0 | O105: =IFERROR(N105*M105,"") | P105: =IFERROR(N105-O105,"") | S105: =IFERROR($R105*(1-$M105),"") | T105: =IFERROR(R105-S105,"") | Z105: =IFERROR($V105*(1-$M105),"") | AA105: =IFERROR(V105-Z105,"") | AB105: =IFERROR($X105*(1-$M105),"") | AC105: =IFERROR(X105-AB105,"")
G106: =IF(E106="","",IF($C$7>12,IF(E106="computer",F106*Hulpsheets!$AX$4,F106*Hulpsheets!$AX$5),(IF(E106="computer",F106*Hulpsheets!$AX$4,F106*Hulpsheets!$AX$5)*$C$7/12))) | H106: =IF(E106="","",IF($C$7<13,0,IF($C$7>24,IF(E106="computer",F106*Hulpsheets!$AY$4,F106*Hulpsheets!$AY$5),IF(E106="computer",F106*Hulpsheets!$AY$4,F106*Hulpsheets!$AY$5)*($C$7-12)/12))) | I106: =IF(E106="","",IF($C$7<24,0,IF($C$7>36,IF(E106="computer",F106*Hulpsheets!$AZ$4,F106*Hulpsheets!$AZ$5),IF(E106="computer",F106*Hulpsheets!$AZ$4,F106*Hulpsheets!$AZ$5)*($C$7-24)/12))) | J106: =IF(E106="","",IF($C$7<36,0,IF($C$7>48,IF(E106="computer",F106*Hulpsheets!$BA$4,F106*Hulpsheets!$BA$5),IF(E106="computer",F106*Hulpsheets!$BA$4,F106*Hulpsheets!$BA$5)*($C$7-36)/12))) | K106: =IF(E106="","",IF($C$7<48,0,IF($C$7>48,IF(E106="computer",F106*Hulpsheets!$BB$4,F106*Hulpsheets!$BB$5),IF(E106="computer",F106*Hulpsheets!$BB$4,F106*Hulpsheets!$BB$5)*($C$7-48)/12))) | L106: Niet-economische activiteit | M106: =IF(LEN($C$5)<=1, "", IF( OR($C$5="Overige (zorg-)instellingen",$C$5="Onderneming"), IF(Basisgegevens!$C$5="Ja", IFERROR( INDEX(Hulpsheets!$AO$3:$AR$18, MATCH($C$9,Hulpsheets!$AN$3:$AN$18,0), MATCH($C$6,Hulpsheets!$AO$3:$AR$3,0) ), "" ), IFERROR( INDEX(Hulpsheets!$AH$3:$AK$18, MATCH($C$9,Hulpsheets!$AG$3:$AG$18,0), MATCH($C$6,Hulpsheets!$AH$3:$AK$3,0) ), "" ) ), IF($L106="Niet-economische activiteit", 100%, IF(Basisgegevens!$C$5="Ja", IFERROR( INDEX(Hulpsheets!$AO$3:$AR$18, MATCH($C$9,Hulpsheets!$AN$3:$AN$18,0), MATCH($C$6,Hulpsheets!$AO$3:$AR$3,0) ), "" ), IFERROR( INDEX(Hulpsheets!$AH$3:$AK$18, MATCH($C$9,Hulpsheets!$AG$3:$AG$18,0), MATCH($C$6,Hulpsheets!$AH$3:$AK$3,0) ), "" ) ) ) ) ) | N106: =SUM(G106:K106) -> 0 | O106: =IFERROR(N106*M106,"") | P106: =IFERROR(N106-O106,"") | S106: =IFERROR($R106*(1-$M106),"") | T106: =IFERROR(R106-S106,"") | Z106: =IFERROR($V106*(1-$M106),"") | AA106: =IFERROR(V106-Z106,"") | AB106: =IFERROR($X106*(1-$M106),"") | AC106: =IFERROR(X106-AB106,"")
G107: =IF(E107="","",IF($C$7>12,IF(E107="computer",F107*Hulpsheets!$AX$4,F107*Hulpsheets!$AX$5),(IF(E107="computer",F107*Hulpsheets!$AX$4,F107*Hulpsheets!$AX$5)*$C$7/12))) | H107: =IF(E107="","",IF($C$7<13,0,IF($C$7>24,IF(E107="computer",F107*Hulpsheets!$AY$4,F107*Hulpsheets!$AY$5),IF(E107="computer",F107*Hulpsheets!$AY$4,F107*Hulpsheets!$AY$5)*($C$7-12)/12))) | I107: =IF(E107="","",IF($C$7<24,0,IF($C$7>36,IF(E107="computer",F107*Hulpsheets!$AZ$4,F107*Hulpsheets!$AZ$5),IF(E107="computer",F107*Hulpsheets!$AZ$4,F107*Hulpsheets!$AZ$5)*($C$7-24)/12))) | J107: =IF(E107="","",IF($C$7<36,0,IF($C$7>48,IF(E107="computer",F107*Hulpsheets!$BA$4,F107*Hulpsheets!$BA$5),IF(E107="computer",F107*Hulpsheets!$BA$4,F107*Hulpsheets!$BA$5)*($C$7-36)/12))) | K107: =IF(E107="","",IF($C$7<48,0,IF($C$7>48,IF(E107="computer",F107*Hulpsheets!$BB$4,F107*Hulpsheets!$BB$5),IF(E107="computer",F107*Hulpsheets!$BB$4,F107*Hulpsheets!$BB$5)*($C$7-48)/12))) | L107: Niet-economische activiteit | M107: =IF(LEN($C$5)<=1, "", IF( OR($C$5="Overige (zorg-)instellingen",$C$5="Onderneming"), IF(Basisgegevens!$C$5="Ja", IFERROR( INDEX(Hulpsheets!$AO$3:$AR$18, MATCH($C$9,Hulpsheets!$AN$3:$AN$18,0), MATCH($C$6,Hulpsheets!$AO$3:$AR$3,0) ), "" ), IFERROR( INDEX(Hulpsheets!$AH$3:$AK$18, MATCH($C$9,Hulpsheets!$AG$3:$AG$18,0), MATCH($C$6,Hulpsheets!$AH$3:$AK$3,0) ), "" ) ), IF($L107="Niet-economische activiteit", 100%, IF(Basisgegevens!$C$5="Ja", IFERROR( INDEX(Hulpsheets!$AO$3:$AR$18, MATCH($C$9,Hulpsheets!$AN$3:$AN$18,0), MATCH($C$6,Hulpsheets!$AO$3:$AR$3,0) ), "" ), IFERROR( INDEX(Hulpsheets!$AH$3:$AK$18, MATCH($C$9,Hulpsheets!$AG$3:$AG$18,0), MATCH($C$6,Hulpsheets!$AH$3:$AK$3,0) ), "" ) ) ) ) ) | N107: =SUM(G107:K107) -> 0 | O107: =IFERROR(N107*M107,"") | P107: =IFERROR(N107-O107,"") | S107: =IFERROR($R107*(1-$M107),"") | T107: =IFERROR(R107-S107,"") | Z107: =IFERROR($V107*(1-$M107),"") | AA107: =IFERROR(V107-Z107,"") | AB107: =IFERROR($X107*(1-$M107),"") | AC107: =IFERROR(X107-AB107,"")
G108: =IF(E108="","",IF($C$7>12,IF(E108="computer",F108*Hulpsheets!$AX$4,F108*Hulpsheets!$AX$5),(IF(E108="computer",F108*Hulpsheets!$AX$4,F108*Hulpsheets!$AX$5)*$C$7/12))) | H108: =IF(E108="","",IF($C$7<13,0,IF($C$7>24,IF(E108="computer",F108*Hulpsheets!$AY$4,F108*Hulpsheets!$AY$5),IF(E108="computer",F108*Hulpsheets!$AY$4,F108*Hulpsheets!$AY$5)*($C$7-12)/12))) | I108: =IF(E108="","",IF($C$7<24,0,IF($C$7>36,IF(E108="computer",F108*Hulpsheets!$AZ$4,F108*Hulpsheets!$AZ$5),IF(E108="computer",F108*Hulpsheets!$AZ$4,F108*Hulpsheets!$AZ$5)*($C$7-24)/12))) | J108: =IF(E108="","",IF($C$7<36,0,IF($C$7>48,IF(E108="computer",F108*Hulpsheets!$BA$4,F108*Hulpsheets!$BA$5),IF(E108="computer",F108*Hulpsheets!$BA$4,F108*Hulpsheets!$BA$5)*($C$7-36)/12))) | K108: =IF(E108="","",IF($C$7<48,0,IF($C$7>48,IF(E108="computer",F108*Hulpsheets!$BB$4,F108*Hulpsheets!$BB$5),IF(E108="computer",F108*Hulpsheets!$BB$4,F108*Hulpsheets!$BB$5)*($C$7-48)/12))) | L108: Niet-economische activiteit | M108: =IF(LEN($C$5)<=1, "", IF( OR($C$5="Overige (zorg-)instellingen",$C$5="Onderneming"), IF(Basisgegevens!$C$5="Ja", IFERROR( INDEX(Hulpsheets!$AO$3:$AR$18, MATCH($C$9,Hulpsheets!$AN$3:$AN$18,0), MATCH($C$6,Hulpsheets!$AO$3:$AR$3,0) ), "" ), IFERROR( INDEX(Hulpsheets!$AH$3:$AK$18, MATCH($C$9,Hulpsheets!$AG$3:$AG$18,0), MATCH($C$6,Hulpsheets!$AH$3:$AK$3,0) ), "" ) ), IF($L108="Niet-economische activiteit", 100%, IF(Basisgegevens!$C$5="Ja", IFERROR( INDEX(Hulpsheets!$AO$3:$AR$18, MATCH($C$9,Hulpsheets!$AN$3:$AN$18,0), MATCH($C$6,Hulpsheets!$AO$3:$AR$3,0) ), "" ), IFERROR( INDEX(Hulpsheets!$AH$3:$AK$18, MATCH($C$9,Hulpsheets!$AG$3:$AG$18,0), MATCH($C$6,Hulpsheets!$AH$3:$AK$3,0) ), "" ) ) ) ) ) | N108: =SUM(G108:K108) -> 0 | O108: =IFERROR(N108*M108,"") | P108: =IFERROR(N108-O108,"") | S108: =IFERROR($R108*(1-$M108),"") | T108: =IFERROR(R108-S108,"") | Z108: =IFERROR($V108*(1-$M108),"") | AA108: =IFERROR(V108-Z108,"") | AB108: =IFERROR($X108*(1-$M108),"") | AC108: =IFERROR(X108-AB108,"")
G109: =IF(E109="","",IF($C$7>12,IF(E109="computer",F109*Hulpsheets!$AX$4,F109*Hulpsheets!$AX$5),(IF(E109="computer",F109*Hulpsheets!$AX$4,F109*Hulpsheets!$AX$5)*$C$7/12))) | H109: =IF(E109="","",IF($C$7<13,0,IF($C$7>24,IF(E109="computer",F109*Hulpsheets!$AY$4,F109*Hulpsheets!$AY$5),IF(E109="computer",F109*Hulpsheets!$AY$4,F109*Hulpsheets!$AY$5)*($C$7-12)/12))) | I109: =IF(E109="","",IF($C$7<24,0,IF($C$7>36,IF(E109="computer",F109*Hulpsheets!$AZ$4,F109*Hulpsheets!$AZ$5),IF(E109="computer",F109*Hulpsheets!$AZ$4,F109*Hulpsheets!$AZ$5)*($C$7-24)/12))) | J109: =IF(E109="","",IF($C$7<36,0,IF($C$7>48,IF(E109="computer",F109*Hulpsheets!$BA$4,F109*Hulpsheets!$BA$5),IF(E109="computer",F109*Hulpsheets!$BA$4,F109*Hulpsheets!$BA$5)*($C$7-36)/12))) | K109: =IF(E109="","",IF($C$7<48,0,IF($C$7>48,IF(E109="computer",F109*Hulpsheets!$BB$4,F109*Hulpsheets!$BB$5),IF(E109="computer",F109*Hulpsheets!$BB$4,F109*Hulpsheets!$BB$5)*($C$7-48)/12))) | L109: Niet-economische activiteit | M109: =IF(LEN($C$5)<=1, "", IF( OR($C$5="Overige (zorg-)instellingen",$C$5="Onderneming"), IF(Basisgegevens!$C$5="Ja", IFERROR( INDEX(Hulpsheets!$AO$3:$AR$18, MATCH($C$9,Hulpsheets!$AN$3:$AN$18,0), MATCH($C$6,Hulpsheets!$AO$3:$AR$3,0) ), "" ), IFERROR( INDEX(Hulpsheets!$AH$3:$AK$18, MATCH($C$9,Hulpsheets!$AG$3:$AG$18,0), MATCH($C$6,Hulpsheets!$AH$3:$AK$3,0) ), "" ) ), IF($L109="Niet-economische activiteit", 100%, IF(Basisgegevens!$C$5="Ja", IFERROR( INDEX(Hulpsheets!$AO$3:$AR$18, MATCH($C$9,Hulpsheets!$AN$3:$AN$18,0), MATCH($C$6,Hulpsheets!$AO$3:$AR$3,0) ), "" ), IFERROR( INDEX(Hulpsheets!$AH$3:$AK$18, MATCH($C$9,Hulpsheets!$AG$3:$AG$18,0), MATCH($C$6,Hulpsheets!$AH$3:$AK$3,0) ), "" ) ) ) ) ) | N109: =SUM(G109:K109) -> 0 | O109: =IFERROR(N109*M109,"") | P109: =IFERROR(N109-O109,"") | S109: =IFERROR($R109*(1-$M109),"") | T109: =IFERROR(R109-S109,"") | Z109: =IFERROR($V109*(1-$M109),"") | AA109: =IFERROR(V109-Z109,"") | AB109: =IFERROR($X109*(1-$M109),"") | AC109: =IFERROR(X109-AB109,"")
G110: =IF(E110="","",IF($C$7>12,IF(E110="computer",F110*Hulpsheets!$AX$4,F110*Hulpsheets!$AX$5),(IF(E110="computer",F110*Hulpsheets!$AX$4,F110*Hulpsheets!$AX$5)*$C$7/12))) | H110: =IF(E110="","",IF($C$7<13,0,IF($C$7>24,IF(E110="computer",F110*Hulpsheets!$AY$4,F110*Hulpsheets!$AY$5),IF(E110="computer",F110*Hulpsheets!$AY$4,F110*Hulpsheets!$AY$5)*($C$7-12)/12))) | I110: =IF(E110="","",IF($C$7<24,0,IF($C$7>36,IF(E110="computer",F110*Hulpsheets!$AZ$4,F110*Hulpsheets!$AZ$5),IF(E110="computer",F110*Hulpsheets!$AZ$4,F110*Hulpsheets!$AZ$5)*($C$7-24)/12))) | J110: =IF(E110="","",IF($C$7<36,0,IF($C$7>48,IF(E110="computer",F110*Hulpsheets!$BA$4,F110*Hulpsheets!$BA$5),IF(E110="computer",F110*Hulpsheets!$BA$4,F110*Hulpsheets!$BA$5)*($C$7-36)/12))) | K110: =IF(E110="","",IF($C$7<48,0,IF($C$7>48,IF(E110="computer",F110*Hulpsheets!$BB$4,F110*Hulpsheets!$BB$5),IF(E110="computer",F110*Hulpsheets!$BB$4,F110*Hulpsheets!$BB$5)*($C$7-48)/12))) | L110: Niet-economische activiteit | M110: =IF(LEN($C$5)<=1, "", IF( OR($C$5="Overige (zorg-)instellingen",$C$5="Onderneming"), IF(Basisgegevens!$C$5="Ja", IFERROR( INDEX(Hulpsheets!$AO$3:$AR$18, MATCH($C$9,Hulpsheets!$AN$3:$AN$18,0), MATCH($C$6,Hulpsheets!$AO$3:$AR$3,0) ), "" ), IFERROR( INDEX(Hulpsheets!$AH$3:$AK$18, MATCH($C$9,Hulpsheets!$AG$3:$AG$18,0), MATCH($C$6,Hulpsheets!$AH$3:$AK$3,0) ), "" ) ), IF($L110="Niet-economische activiteit", 100%, IF(Basisgegevens!$C$5="Ja", IFERROR( INDEX(Hulpsheets!$AO$3:$AR$18, MATCH($C$9,Hulpsheets!$AN$3:$AN$18,0), MATCH($C$6,Hulpsheets!$AO$3:$AR$3,0) ), "" ), IFERROR( INDEX(Hulpsheets!$AH$3:$AK$18, MATCH($C$9,Hulpsheets!$AG$3:$AG$18,0), MATCH($C$6,Hulpsheets!$AH$3:$AK$3,0) ), "" ) ) ) ) ) | N110: =SUM(G110:K110) -> 0 | O110: =IFERROR(N110*M110,"") | P110: =IFERROR(N110-O110,"") | S110: =IFERROR($R110*(1-$M110),"") | T110: =IFERROR(R110-S110,"") | Z110: =IFERROR($V110*(1-$M110),"") | AA110: =IFERROR(V110-Z110,"") | AB110: =IFERROR($X110*(1-$M110),"") | AC110: =IFERROR(X110-AB110,"")
G111: =IF(E111="","",IF($C$7>12,IF(E111="computer",F111*Hulpsheets!$AX$4,F111*Hulpsheets!$AX$5),(IF(E111="computer",F111*Hulpsheets!$AX$4,F111*Hulpsheets!$AX$5)*$C$7/12))) | H111: =IF(E111="","",IF($C$7<13,0,IF($C$7>24,IF(E111="computer",F111*Hulpsheets!$AY$4,F111*Hulpsheets!$AY$5),IF(E111="computer",F111*Hulpsheets!$AY$4,F111*Hulpsheets!$AY$5)*($C$7-12)/12))) | I111: =IF(E111="","",IF($C$7<24,0,IF($C$7>36,IF(E111="computer",F111*Hulpsheets!$AZ$4,F111*Hulpsheets!$AZ$5),IF(E111="computer",F111*Hulpsheets!$AZ$4,F111*Hulpsheets!$AZ$5)*($C$7-24)/12))) | J111: =IF(E111="","",IF($C$7<36,0,IF($C$7>48,IF(E111="computer",F111*Hulpsheets!$BA$4,F111*Hulpsheets!$BA$5),IF(E111="computer",F111*Hulpsheets!$BA$4,F111*Hulpsheets!$BA$5)*($C$7-36)/12))) | K111: =IF(E111="","",IF($C$7<48,0,IF($C$7>48,IF(E111="computer",F111*Hulpsheets!$BB$4,F111*Hulpsheets!$BB$5),IF(E111="computer",F111*Hulpsheets!$BB$4,F111*Hulpsheets!$BB$5)*($C$7-48)/12))) | L111: Niet-economische activiteit | M111: =IF(LEN($C$5)<=1, "", IF( OR($C$5="Overige (zorg-)instellingen",$C$5="Onderneming"), IF(Basisgegevens!$C$5="Ja", IFERROR( INDEX(Hulpsheets!$AO$3:$AR$18, MATCH($C$9,Hulpsheets!$AN$3:$AN$18,0), MATCH($C$6,Hulpsheets!$AO$3:$AR$3,0) ), "" ), IFERROR( INDEX(Hulpsheets!$AH$3:$AK$18, MATCH($C$9,Hulpsheets!$AG$3:$AG$18,0), MATCH($C$6,Hulpsheets!$AH$3:$AK$3,0) ), "" ) ), IF($L111="Niet-economische activiteit", 100%, IF(Basisgegevens!$C$5="Ja", IFERROR( INDEX(Hulpsheets!$AO$3:$AR$18, MATCH($C$9,Hulpsheets!$AN$3:$AN$18,0), MATCH($C$6,Hulpsheets!$AO$3:$AR$3,0) ), "" ), IFERROR( INDEX(Hulpsheets!$AH$3:$AK$18, MATCH($C$9,Hulpsheets!$AG$3:$AG$18,0), MATCH($C$6,Hulpsheets!$AH$3:$AK$3,0) ), "" ) ) ) ) ) | N111: =SUM(G111:K111) -> 0 | O111: =IFERROR(N111*M111,"") | P111: =IFERROR(N111-O111,"") | S111: =IFERROR($R111*(1-$M111),"") | T111: =IFERROR(R111-S111,"") | Z111: =IFERROR($V111*(1-$M111),"") | AA111: =IFERROR(V111-Z111,"") | AB111: =IFERROR($X111*(1-$M111),"") | AC111: =IFERROR(X111-AB111,"")
G112: =IF(E112="","",IF($C$7>12,IF(E112="computer",F112*Hulpsheets!$AX$4,F112*Hulpsheets!$AX$5),(IF(E112="computer",F112*Hulpsheets!$AX$4,F112*Hulpsheets!$AX$5)*$C$7/12))) | H112: =IF(E112="","",IF($C$7<13,0,IF($C$7>24,IF(E112="computer",F112*Hulpsheets!$AY$4,F112*Hulpsheets!$AY$5),IF(E112="computer",F112*Hulpsheets!$AY$4,F112*Hulpsheets!$AY$5)*($C$7-12)/12))) | I112: =IF(E112="","",IF($C$7<24,0,IF($C$7>36,IF(E112="computer",F112*Hulpsheets!$AZ$4,F112*Hulpsheets!$AZ$5),IF(E112="computer",F112*Hulpsheets!$AZ$4,F112*Hulpsheets!$AZ$5)*($C$7-24)/12))) | J112: =IF(E112="","",IF($C$7<36,0,IF($C$7>48,IF(E112="computer",F112*Hulpsheets!$BA$4,F112*Hulpsheets!$BA$5),IF(E112="computer",F112*Hulpsheets!$BA$4,F112*Hulpsheets!$BA$5)*($C$7-36)/12))) | K112: =IF(E112="","",IF($C$7<48,0,IF($C$7>48,IF(E112="computer",F112*Hulpsheets!$BB$4,F112*Hulpsheets!$BB$5),IF(E112="computer",F112*Hulpsheets!$BB$4,F112*Hulpsheets!$BB$5)*($C$7-48)/12))) | L112: Niet-economische activiteit | M112: =IF(LEN($C$5)<=1, "", IF( OR($C$5="Overige (zorg-)instellingen",$C$5="Onderneming"), IF(Basisgegevens!$C$5="Ja", IFERROR( INDEX(Hulpsheets!$AO$3:$AR$18, MATCH($C$9,Hulpsheets!$AN$3:$AN$18,0), MATCH($C$6,Hulpsheets!$AO$3:$AR$3,0) ), "" ), IFERROR( INDEX(Hulpsheets!$AH$3:$AK$18, MATCH($C$9,Hulpsheets!$AG$3:$AG$18,0), MATCH($C$6,Hulpsheets!$AH$3:$AK$3,0) ), "" ) ), IF($L112="Niet-economische activiteit", 100%, IF(Basisgegevens!$C$5="Ja", IFERROR( INDEX(Hulpsheets!$AO$3:$AR$18, MATCH($C$9,Hulpsheets!$AN$3:$AN$18,0), MATCH($C$6,Hulpsheets!$AO$3:$AR$3,0) ), "" ), IFERROR( INDEX(Hulpsheets!$AH$3:$AK$18, MATCH($C$9,Hulpsheets!$AG$3:$AG$18,0), MATCH($C$6,Hulpsheets!$AH$3:$AK$3,0) ), "" ) ) ) ) ) | N112: =SUM(G112:K112) -> 0 | O112: =IFERROR(N112*M112,"") | P112: =IFERROR(N112-O112,"") | S112: =IFERROR($R112*(1-$M112),"") | T112: =IFERROR(R112-S112,"") | Z112: =IFERROR($V112*(1-$M112),"") | AA112: =IFERROR(V112-Z112,"") | AB112: =IFERROR($X112*(1-$M112),"") | AC112: =IFERROR(X112-AB112,"")
G113: =IF(E113="","",IF($C$7>12,IF(E113="computer",F113*Hulpsheets!$AX$4,F113*Hulpsheets!$AX$5),(IF(E113="computer",F113*Hulpsheets!$AX$4,F113*Hulpsheets!$AX$5)*$C$7/12))) | H113: =IF(E113="","",IF($C$7<13,0,IF($C$7>24,IF(E113="computer",F113*Hulpsheets!$AY$4,F113*Hulpsheets!$AY$5),IF(E113="computer",F113*Hulpsheets!$AY$4,F113*Hulpsheets!$AY$5)*($C$7-12)/12))) | I113: =IF(E113="","",IF($C$7<24,0,IF($C$7>36,IF(E113="computer",F113*Hulpsheets!$AZ$4,F113*Hulpsheets!$AZ$5),IF(E113="computer",F113*Hulpsheets!$AZ$4,F113*Hulpsheets!$AZ$5)*($C$7-24)/12))) | J113: =IF(E113="","",IF($C$7<36,0,IF($C$7>48,IF(E113="computer",F113*Hulpsheets!$BA$4,F113*Hulpsheets!$BA$5),IF(E113="computer",F113*Hulpsheets!$BA$4,F113*Hulpsheets!$BA$5)*($C$7-36)/12))) | K113: =IF(E113="","",IF($C$7<48,0,IF($C$7>48,IF(E113="computer",F113*Hulpsheets!$BB$4,F113*Hulpsheets!$BB$5),IF(E113="computer",F113*Hulpsheets!$BB$4,F113*Hulpsheets!$BB$5)*($C$7-48)/12))) | L113: Niet-economische activiteit | M113: =IF(LEN($C$5)<=1, "", IF( OR($C$5="Overige (zorg-)instellingen",$C$5="Onderneming"), IF(Basisgegevens!$C$5="Ja", IFERROR( INDEX(Hulpsheets!$AO$3:$AR$18, MATCH($C$9,Hulpsheets!$AN$3:$AN$18,0), MATCH($C$6,Hulpsheets!$AO$3:$AR$3,0) ), "" ), IFERROR( INDEX(Hulpsheets!$AH$3:$AK$18, MATCH($C$9,Hulpsheets!$AG$3:$AG$18,0), MATCH($C$6,Hulpsheets!$AH$3:$AK$3,0) ), "" ) ), IF($L113="Niet-economische activiteit", 100%, IF(Basisgegevens!$C$5="Ja", IFERROR( INDEX(Hulpsheets!$AO$3:$AR$18, MATCH($C$9,Hulpsheets!$AN$3:$AN$18,0), MATCH($C$6,Hulpsheets!$AO$3:$AR$3,0) ), "" ), IFERROR( INDEX(Hulpsheets!$AH$3:$AK$18, MATCH($C$9,Hulpsheets!$AG$3:$AG$18,0), MATCH($C$6,Hulpsheets!$AH$3:$AK$3,0) ), "" ) ) ) ) ) | N113: =SUM(G113:K113) -> 0 | O113: =IFERROR(N113*M113,"") | P113: =IFERROR(N113-O113,"") | S113: =IFERROR($R113*(1-$M113),"") | T113: =IFERROR(R113-S113,"") | Z113: =IFERROR($V113*(1-$M113),"") | AA113: =IFERROR(V113-Z113,"") | AB113: =IFERROR($X113*(1-$M113),"") | AC113: =IFERROR(X113-AB113,"")
G114: =IF(E114="","",IF($C$7>12,IF(E114="computer",F114*Hulpsheets!$AX$4,F114*Hulpsheets!$AX$5),(IF(E114="computer",F114*Hulpsheets!$AX$4,F114*Hulpsheets!$AX$5)*$C$7/12))) | H114: =IF(E114="","",IF($C$7<13,0,IF($C$7>24,IF(E114="computer",F114*Hulpsheets!$AY$4,F114*Hulpsheets!$AY$5),IF(E114="computer",F114*Hulpsheets!$AY$4,F114*Hulpsheets!$AY$5)*($C$7-12)/12))) | I114: =IF(E114="","",IF($C$7<24,0,IF($C$7>36,IF(E114="computer",F114*Hulpsheets!$AZ$4,F114*Hulpsheets!$AZ$5),IF(E114="computer",F114*Hulpsheets!$AZ$4,F114*Hulpsheets!$AZ$5)*($C$7-24)/12))) | J114: =IF(E114="","",IF($C$7<36,0,IF($C$7>48,IF(E114="computer",F114*Hulpsheets!$BA$4,F114*Hulpsheets!$BA$5),IF(E114="computer",F114*Hulpsheets!$BA$4,F114*Hulpsheets!$BA$5)*($C$7-36)/12))) | K114: =IF(E114="","",IF($C$7<48,0,IF($C$7>48,IF(E114="computer",F114*Hulpsheets!$BB$4,F114*Hulpsheets!$BB$5),IF(E114="computer",F114*Hulpsheets!$BB$4,F114*Hulpsheets!$BB$5)*($C$7-48)/12))) | L114: Niet-economische activiteit | M114: =IF(LEN($C$5)<=1, "", IF( OR($C$5="Overige (zorg-)instellingen",$C$5="Onderneming"), IF(Basisgegevens!$C$5="Ja", IFERROR( INDEX(Hulpsheets!$AO$3:$AR$18, MATCH($C$9,Hulpsheets!$AN$3:$AN$18,0), MATCH($C$6,Hulpsheets!$AO$3:$AR$3,0) ), "" ), IFERROR( INDEX(Hulpsheets!$AH$3:$AK$18, MATCH($C$9,Hulpsheets!$AG$3:$AG$18,0), MATCH($C$6,Hulpsheets!$AH$3:$AK$3,0) ), "" ) ), IF($L114="Niet-economische activiteit", 100%, IF(Basisgegevens!$C$5="Ja", IFERROR( INDEX(Hulpsheets!$AO$3:$AR$18, MATCH($C$9,Hulpsheets!$AN$3:$AN$18,0), MATCH($C$6,Hulpsheets!$AO$3:$AR$3,0) ), "" ), IFERROR( INDEX(Hulpsheets!$AH$3:$AK$18, MATCH($C$9,Hulpsheets!$AG$3:$AG$18,0), MATCH($C$6,Hulpsheets!$AH$3:$AK$3,0) ), "" ) ) ) ) ) | N114: =SUM(G114:K114) -> 0 | O114: =IFERROR(N114*M114,"") | P114: =IFERROR(N114-O114,"") | S114: =IFERROR($R114*(1-$M114),"") | T114: =IFERROR(R114-S114,"") | Z114: =IFERROR($V114*(1-$M114),"") | AA114: =IFERROR(V114-Z114,"") | AB114: =IFERROR($X114*(1-$M114),"") | AC114: =IFERROR(X114-AB114,"")
... G127: =IF(E127="","",IF($C$7>12,IF(E127="computer",F127*Hulpsheets!$AX$4,F127*Hulpsheets!$AX$5),(IF(E127="computer",F127*Hulpsheets!$AX$4,F127*Hulpsheets!$AX$5)*$C$7/12))) | H127: =IF(E127="","",IF($C$7<13,0,IF($C$7>24,IF(E127="computer",F127*Hulpsheets!$AY$4,F127*Hulpsheets!$AY$5),IF(E127="computer",F127*Hulpsheets!$AY$4,F127*Hulpsheets!$AY$5)*($C$7-12)/12))) | I127: =IF(E127="","",IF($C$7<24,0,IF($C$7>36,IF(E127="computer",F127*Hulpsheets!$AZ$4,F127*Hulpsheets!$AZ$5),IF(E127="computer",F127*Hulpsheets!$AZ$4,F127*Hulpsheets!$AZ$5)*($C$7-24)/12))) | J127: =IF(E127="","",IF($C$7<36,0,IF($C$7>48,IF(E127="computer",F127*Hulpsheets!$BA$4,F127*Hulpsheets!$BA$5),IF(E127="computer",F127*Hulpsheets!$BA$4,F127*Hulpsheets!$BA$5)*($C$7-36)/12))) | K127: =IF(E127="","",IF($C$7<48,0,IF($C$7>48,IF(E127="computer",F127*Hulpsheets!$BB$4,F127*Hulpsheets!$BB$5),IF(E127="computer",F127*Hulpsheets!$BB$4,F127*Hulpsheets!$BB$5)*($C$7-48)/12))) | L127: Niet-economische activiteit | M127: =IF(LEN($C$5)<=1, "", IF( OR($C$5="Overige (zorg-)instellingen",$C$5="Onderneming"), IF(Basisgegevens!$C$5="Ja", IFERROR( INDEX(Hulpsheets!$AO$3:$AR$18, MATCH($C$9,Hulpsheets!$AN$3:$AN$18,0), MATCH($C$6,Hulpsheets!$AO$3:$AR$3,0) ), "" ), IFERROR( INDEX(Hulpsheets!$AH$3:$AK$18, MATCH($C$9,Hulpsheets!$AG$3:$AG$18,0), MATCH($C$6,Hulpsheets!$AH$3:$AK$3,0) ), "" ) ), IF($L127="Niet-economische activiteit", 100%, IF(Basisgegevens!$C$5="Ja", IFERROR( INDEX(Hulpsheets!$AO$3:$AR$18, MATCH($C$9,Hulpsheets!$AN$3:$AN$18,0), MATCH($C$6,Hulpsheets!$AO$3:$AR$3,0) ), "" ), IFERROR( INDEX(Hulpsheets!$AH$3:$AK$18, MATCH($C$9,Hulpsheets!$AG$3:$AG$18,0), MATCH($C$6,Hulpsheets!$AH$3:$AK$3,0) ), "" ) ) ) ) ) | N127: =SUM(G127:K127) -> 0 | O127: =IFERROR(N127*M127,"") | P127: =IFERROR(N127-O127,"") | S127: =IFERROR($R127*(1-$M127),"") | T127: =IFERROR(R127-S127,"") | Z127: =IFERROR($V127*(1-$M127),"") | AA127: =IFERROR(V127-Z127,"") | AB127: =IFERROR($X127*(1-$M127),"") | AC127: =IFERROR(X127-AB127,"")
L128: Subtotaal | N128: =SUM(N103:N127) -> 0 | O128: =SUM(O103:O127) -> 0 | P128: =SUM(P103:P127) -> 0 | R128: =SUM(R103:R127) -> 0 | S128: =SUM(S103:S127) -> 0 | T128: =SUM(T103:T127) -> 0 | V128: =SUM(V103:V127) -> 0 | X128: =SUM(X103:X127) -> 0 | Z128: =SUM(Z103:Z127) -> 0 | AA128: =SUM(AA103:AA127) -> 0 | AB128: =SUM(AB103:AB127) -> 0 | AC128: =SUM(AC103:AC127) -> 0
B130: 4. Communicatie- en implementatiekosten (gespecificeerd) | R130: Realisatie | V130: Indien DAEB: realisatie jaar 4 t/m 6 | X130: Indien DAEB: realisatie jaar 7 t/m 9
B132: Omschrijving | L132: Activiteit | M132: Subsidie-percentage | N132: Totale kosten | O132: Maximale subsidie | P132: Benodigde eigen bijdrage / Cofinanciering | R132: Gerealiseerde kosten | S132: Benodigde eigen bijdrage / cofinanciering | T132: Totaal gerealiseerd (totale kosten minus totale eigen bijdrage/cofin.) | V132: Gerealiseerde kosten | X132: Gerealiseerde kosten | Z132: Benodigde eigen bijdrage / cofinanciering | AA132: Totaal gerealiseerd (totale kosten minus totale eigen bijdrage/cofin.) | AB132: Benodigde eigen bijdrage / cofinanciering | AC132: Totaal gerealiseerd (totale kosten minus totale eigen bijdrage/cofin.)
L133: Niet-economische activiteit | M133: =IF(LEN($C$5)<=1, "", IF( OR($C$5="Overige (zorg-)instellingen",$C$5="Onderneming"), IF(Basisgegevens!$C$5="Ja", IFERROR( INDEX(Hulpsheets!$AO$3:$AR$18, MATCH($C$9,Hulpsheets!$AN$3:$AN$18,0), MATCH($C$6,Hulpsheets!$AO$3:$AR$3,0) ), "" ), IFERROR( INDEX(Hulpsheets!$AH$3:$AK$18, MATCH($C$9,Hulpsheets!$AG$3:$AG$18,0), MATCH($C$6,Hulpsheets!$AH$3:$AK$3,0) ), "" ) ), IF($L133="Niet-economische activiteit", 100%, IF(Basisgegevens!$C$5="Ja", IFERROR( INDEX(Hulpsheets!$AO$3:$AR$18, MATCH($C$9,Hulpsheets!$AN$3:$AN$18,0), MATCH($C$6,Hulpsheets!$AO$3:$AR$3,0) ), "" ), IFERROR( INDEX(Hulpsheets!$AH$3:$AK$18, MATCH($C$9,Hulpsheets!$AG$3:$AG$18,0), MATCH($C$6,Hulpsheets!$AH$3:$AK$3,0) ), "" ) ) ) ) ) | O133: =IFERROR(N133*M133,"") | P133: =IFERROR(N133-O133,"") | S133: =IFERROR($R133*(1-$M133),"") | T133: =IFERROR(R133-S133,"") | Z133: =IFERROR($V133*(1-$M133),"") | AA133: =IFERROR(V133-Z133,"") | AB133: =IFERROR($X133*(1-$M133),"") | AC133: =IFERROR(X133-AB133,"")
L134: Niet-economische activiteit | M134: =IF(LEN($C$5)<=1, "", IF( OR($C$5="Overige (zorg-)instellingen",$C$5="Onderneming"), IF(Basisgegevens!$C$5="Ja", IFERROR( INDEX(Hulpsheets!$AO$3:$AR$18, MATCH($C$9,Hulpsheets!$AN$3:$AN$18,0), MATCH($C$6,Hulpsheets!$AO$3:$AR$3,0) ), "" ), IFERROR( INDEX(Hulpsheets!$AH$3:$AK$18, MATCH($C$9,Hulpsheets!$AG$3:$AG$18,0), MATCH($C$6,Hulpsheets!$AH$3:$AK$3,0) ), "" ) ), IF($L134="Niet-economische activiteit", 100%, IF(Basisgegevens!$C$5="Ja", IFERROR( INDEX(Hulpsheets!$AO$3:$AR$18, MATCH($C$9,Hulpsheets!$AN$3:$AN$18,0), MATCH($C$6,Hulpsheets!$AO$3:$AR$3,0) ), "" ), IFERROR( INDEX(Hulpsheets!$AH$3:$AK$18, MATCH($C$9,Hulpsheets!$AG$3:$AG$18,0), MATCH($C$6,Hulpsheets!$AH$3:$AK$3,0) ), "" ) ) ) ) ) | O134: =IFERROR(N134*M134,"") | P134: =IFERROR(N134-O134,"") | S134: =IFERROR($R134*(1-$M134),"") | T134: =IFERROR(R134-S134,"") | Z134: =IFERROR($V134*(1-$M134),"") | AA134: =IFERROR(V134-Z134,"") | AB134: =IFERROR($X134*(1-$M134),"") | AC134: =IFERROR(X134-AB134,"")
L135: Niet-economische activiteit | M135: =IF(LEN($C$5)<=1, "", IF( OR($C$5="Overige (zorg-)instellingen",$C$5="Onderneming"), IF(Basisgegevens!$C$5="Ja", IFERROR( INDEX(Hulpsheets!$AO$3:$AR$18, MATCH($C$9,Hulpsheets!$AN$3:$AN$18,0), MATCH($C$6,Hulpsheets!$AO$3:$AR$3,0) ), "" ), IFERROR( INDEX(Hulpsheets!$AH$3:$AK$18, MATCH($C$9,Hulpsheets!$AG$3:$AG$18,0), MATCH($C$6,Hulpsheets!$AH$3:$AK$3,0) ), "" ) ), IF($L135="Niet-economische activiteit", 100%, IF(Basisgegevens!$C$5="Ja", IFERROR( INDEX(Hulpsheets!$AO$3:$AR$18, MATCH($C$9,Hulpsheets!$AN$3:$AN$18,0), MATCH($C$6,Hulpsheets!$AO$3:$AR$3,0) ), "" ), IFERROR( INDEX(Hulpsheets!$AH$3:$AK$18, MATCH($C$9,Hulpsheets!$AG$3:$AG$18,0), MATCH($C$6,Hulpsheets!$AH$3:$AK$3,0) ), "" ) ) ) ) ) | O135: =IFERROR(N135*M135,"") | P135: =IFERROR(N135-O135,"") | S135: =IFERROR($R135*(1-$M135),"") | T135: =IFERROR(R135-S135,"") | Z135: =IFERROR($V135*(1-$M135),"") | AA135: =IFERROR(V135-Z135,"") | AB135: =IFERROR($X135*(1-$M135),"") | AC135: =IFERROR(X135-AB135,"")
L136: Niet-economische activiteit | M136: =IF(LEN($C$5)<=1, "", IF( OR($C$5="Overige (zorg-)instellingen",$C$5="Onderneming"), IF(Basisgegevens!$C$5="Ja", IFERROR( INDEX(Hulpsheets!$AO$3:$AR$18, MATCH($C$9,Hulpsheets!$AN$3:$AN$18,0), MATCH($C$6,Hulpsheets!$AO$3:$AR$3,0) ), "" ), IFERROR( INDEX(Hulpsheets!$AH$3:$AK$18, MATCH($C$9,Hulpsheets!$AG$3:$AG$18,0), MATCH($C$6,Hulpsheets!$AH$3:$AK$3,0) ), "" ) ), IF($L136="Niet-economische activiteit", 100%, IF(Basisgegevens!$C$5="Ja", IFERROR( INDEX(Hulpsheets!$AO$3:$AR$18, MATCH($C$9,Hulpsheets!$AN$3:$AN$18,0), MATCH($C$6,Hulpsheets!$AO$3:$AR$3,0) ), "" ), IFERROR( INDEX(Hulpsheets!$AH$3:$AK$18, MATCH($C$9,Hulpsheets!$AG$3:$AG$18,0), MATCH($C$6,Hulpsheets!$AH$3:$AK$3,0) ), "" ) ) ) ) ) | O136: =IFERROR(N136*M136,"") | P136: =IFERROR(N136-O136,"") | S136: =IFERROR($R136*(1-$M136),"") | T136: =IFERROR(R136-S136,"") | Z136: =IFERROR($V136*(1-$M136),"") | AA136: =IFERROR(V136-Z136,"") | AB136: =IFERROR($X136*(1-$M136),"") | AC136: =IFERROR(X136-AB136,"")
L137: Niet-economische activiteit | M137: =IF(LEN($C$5)<=1, "", IF( OR($C$5="Overige (zorg-)instellingen",$C$5="Onderneming"), IF(Basisgegevens!$C$5="Ja", IFERROR( INDEX(Hulpsheets!$AO$3:$AR$18, MATCH($C$9,Hulpsheets!$AN$3:$AN$18,0), MATCH($C$6,Hulpsheets!$AO$3:$AR$3,0) ), "" ), IFERROR( INDEX(Hulpsheets!$AH$3:$AK$18, MATCH($C$9,Hulpsheets!$AG$3:$AG$18,0), MATCH($C$6,Hulpsheets!$AH$3:$AK$3,0) ), "" ) ), IF($L137="Niet-economische activiteit", 100%, IF(Basisgegevens!$C$5="Ja", IFERROR( INDEX(Hulpsheets!$AO$3:$AR$18, MATCH($C$9,Hulpsheets!$AN$3:$AN$18,0), MATCH($C$6,Hulpsheets!$AO$3:$AR$3,0) ), "" ), IFERROR( INDEX(Hulpsheets!$AH$3:$AK$18, MATCH($C$9,Hulpsheets!$AG$3:$AG$18,0), MATCH($C$6,Hulpsheets!$AH$3:$AK$3,0) ), "" ) ) ) ) ) | O137: =IFERROR(N137*M137,"") | P137: =IFERROR(N137-O137,"") | S137: =IFERROR($R137*(1-$M137),"") | T137: =IFERROR(R137-S137,"") | Z137: =IFERROR($V137*(1-$M137),"") | AA137: =IFERROR(V137-Z137,"") | AB137: =IFERROR($X137*(1-$M137),"") | AC137: =IFERROR(X137-AB137,"")
L138: Niet-economische activiteit | M138: =IF(LEN($C$5)<=1, "", IF( OR($C$5="Overige (zorg-)instellingen",$C$5="Onderneming"), IF(Basisgegevens!$C$5="Ja", IFERROR( INDEX(Hulpsheets!$AO$3:$AR$18, MATCH($C$9,Hulpsheets!$AN$3:$AN$18,0), MATCH($C$6,Hulpsheets!$AO$3:$AR$3,0) ), "" ), IFERROR( INDEX(Hulpsheets!$AH$3:$AK$18, MATCH($C$9,Hulpsheets!$AG$3:$AG$18,0), MATCH($C$6,Hulpsheets!$AH$3:$AK$3,0) ), "" ) ), IF($L138="Niet-economische activiteit", 100%, IF(Basisgegevens!$C$5="Ja", IFERROR( INDEX(Hulpsheets!$AO$3:$AR$18, MATCH($C$9,Hulpsheets!$AN$3:$AN$18,0), MATCH($C$6,Hulpsheets!$AO$3:$AR$3,0) ), "" ), IFERROR( INDEX(Hulpsheets!$AH$3:$AK$18, MATCH($C$9,Hulpsheets!$AG$3:$AG$18,0), MATCH($C$6,Hulpsheets!$AH$3:$AK$3,0) ), "" ) ) ) ) ) | O138: =IFERROR(N138*M138,"") | P138: =IFERROR(N138-O138,"") | S138: =IFERROR($R138*(1-$M138),"") | T138: =IFERROR(R138-S138,"") | Z138: =IFERROR($V138*(1-$M138),"") | AA138: =IFERROR(V138-Z138,"") | AB138: =IFERROR($X138*(1-$M138),"") | AC138: =IFERROR(X138-AB138,"")
L139: Niet-economische activiteit | M139: =IF(LEN($C$5)<=1, "", IF( OR($C$5="Overige (zorg-)instellingen",$C$5="Onderneming"), IF(Basisgegevens!$C$5="Ja", IFERROR( INDEX(Hulpsheets!$AO$3:$AR$18, MATCH($C$9,Hulpsheets!$AN$3:$AN$18,0), MATCH($C$6,Hulpsheets!$AO$3:$AR$3,0) ), "" ), IFERROR( INDEX(Hulpsheets!$AH$3:$AK$18, MATCH($C$9,Hulpsheets!$AG$3:$AG$18,0), MATCH($C$6,Hulpsheets!$AH$3:$AK$3,0) ), "" ) ), IF($L139="Niet-economische activiteit", 100%, IF(Basisgegevens!$C$5="Ja", IFERROR( INDEX(Hulpsheets!$AO$3:$AR$18, MATCH($C$9,Hulpsheets!$AN$3:$AN$18,0), MATCH($C$6,Hulpsheets!$AO$3:$AR$3,0) ), "" ), IFERROR( INDEX(Hulpsheets!$AH$3:$AK$18, MATCH($C$9,Hulpsheets!$AG$3:$AG$18,0), MATCH($C$6,Hulpsheets!$AH$3:$AK$3,0) ), "" ) ) ) ) ) | O139: =IFERROR(N139*M139,"") | P139: =IFERROR(N139-O139,"") | S139: =IFERROR($R139*(1-$M139),"") | T139: =IFERROR(R139-S139,"") | Z139: =IFERROR($V139*(1-$M139),"") | AA139: =IFERROR(V139-Z139,"") | AB139: =IFERROR($X139*(1-$M139),"") | AC139: =IFERROR(X139-AB139,"")
L140: Niet-economische activiteit | M140: =IF(LEN($C$5)<=1, "", IF( OR($C$5="Overige (zorg-)instellingen",$C$5="Onderneming"), IF(Basisgegevens!$C$5="Ja", IFERROR( INDEX(Hulpsheets!$AO$3:$AR$18, MATCH($C$9,Hulpsheets!$AN$3:$AN$18,0), MATCH($C$6,Hulpsheets!$AO$3:$AR$3,0) ), "" ), IFERROR( INDEX(Hulpsheets!$AH$3:$AK$18, MATCH($C$9,Hulpsheets!$AG$3:$AG$18,0), MATCH($C$6,Hulpsheets!$AH$3:$AK$3,0) ), "" ) ), IF($L140="Niet-economische activiteit", 100%, IF(Basisgegevens!$C$5="Ja", IFERROR( INDEX(Hulpsheets!$AO$3:$AR$18, MATCH($C$9,Hulpsheets!$AN$3:$AN$18,0), MATCH($C$6,Hulpsheets!$AO$3:$AR$3,0) ), "" ), IFERROR( INDEX(Hulpsheets!$AH$3:$AK$18, MATCH($C$9,Hulpsheets!$AG$3:$AG$18,0), MATCH($C$6,Hulpsheets!$AH$3:$AK$3,0) ), "" ) ) ) ) ) | O140: =IFERROR(N140*M140,"") | P140: =IFERROR(N140-O140,"") | S140: =IFERROR($R140*(1-$M140),"") | T140: =IFERROR(R140-S140,"") | Z140: =IFERROR($V140*(1-$M140),"") | AA140: =IFERROR(V140-Z140,"") | AB140: =IFERROR($X140*(1-$M140),"") | AC140: =IFERROR(X140-AB140,"")
L141: Niet-economische activiteit | M141: =IF(LEN($C$5)<=1, "", IF( OR($C$5="Overige (zorg-)instellingen",$C$5="Onderneming"), IF(Basisgegevens!$C$5="Ja", IFERROR( INDEX(Hulpsheets!$AO$3:$AR$18, MATCH($C$9,Hulpsheets!$AN$3:$AN$18,0), MATCH($C$6,Hulpsheets!$AO$3:$AR$3,0) ), "" ), IFERROR( INDEX(Hulpsheets!$AH$3:$AK$18, MATCH($C$9,Hulpsheets!$AG$3:$AG$18,0), MATCH($C$6,Hulpsheets!$AH$3:$AK$3,0) ), "" ) ), IF($L141="Niet-economische activiteit", 100%, IF(Basisgegevens!$C$5="Ja", IFERROR( INDEX(Hulpsheets!$AO$3:$AR$18, MATCH($C$9,Hulpsheets!$AN$3:$AN$18,0), MATCH($C$6,Hulpsheets!$AO$3:$AR$3,0) ), "" ), IFERROR( INDEX(Hulpsheets!$AH$3:$AK$18, MATCH($C$9,Hulpsheets!$AG$3:$AG$18,0), MATCH($C$6,Hulpsheets!$AH$3:$AK$3,0) ), "" ) ) ) ) ) | O141: =IFERROR(N141*M141,"") | P141: =IFERROR(N141-O141,"") | S141: =IFERROR($R141*(1-$M141),"") | T141: =IFERROR(R141-S141,"") | Z141: =IFERROR($V141*(1-$M141),"") | AA141: =IFERROR(V141-Z141,"") | AB141: =IFERROR($X141*(1-$M141),"") | AC141: =IFERROR(X141-AB141,"")
L142: Niet-economische activiteit | M142: =IF(LEN($C$5)<=1, "", IF( OR($C$5="Overige (zorg-)instellingen",$C$5="Onderneming"), IF(Basisgegevens!$C$5="Ja", IFERROR( INDEX(Hulpsheets!$AO$3:$AR$18, MATCH($C$9,Hulpsheets!$AN$3:$AN$18,0), MATCH($C$6,Hulpsheets!$AO$3:$AR$3,0) ), "" ), IFERROR( INDEX(Hulpsheets!$AH$3:$AK$18, MATCH($C$9,Hulpsheets!$AG$3:$AG$18,0), MATCH($C$6,Hulpsheets!$AH$3:$AK$3,0) ), "" ) ), IF($L142="Niet-economische activiteit", 100%, IF(Basisgegevens!$C$5="Ja", IFERROR( INDEX(Hulpsheets!$AO$3:$AR$18, MATCH($C$9,Hulpsheets!$AN$3:$AN$18,0), MATCH($C$6,Hulpsheets!$AO$3:$AR$3,0) ), "" ), IFERROR( INDEX(Hulpsheets!$AH$3:$AK$18, MATCH($C$9,Hulpsheets!$AG$3:$AG$18,0), MATCH($C$6,Hulpsheets!$AH$3:$AK$3,0) ), "" ) ) ) ) ) | O142: =IFERROR(N142*M142,"") | P142: =IFERROR(N142-O142,"") | S142: =IFERROR($R142*(1-$M142),"") | T142: =IFERROR(R142-S142,"") | Z142: =IFERROR($V142*(1-$M142),"") | AA142: =IFERROR(V142-Z142,"") | AB142: =IFERROR($X142*(1-$M142),"") | AC142: =IFERROR(X142-AB142,"")
L143: Niet-economische activiteit | M143: =IF(LEN($C$5)<=1, "", IF( OR($C$5="Overige (zorg-)instellingen",$C$5="Onderneming"), IF(Basisgegevens!$C$5="Ja", IFERROR( INDEX(Hulpsheets!$AO$3:$AR$18, MATCH($C$9,Hulpsheets!$AN$3:$AN$18,0), MATCH($C$6,Hulpsheets!$AO$3:$AR$3,0) ), "" ), IFERROR( INDEX(Hulpsheets!$AH$3:$AK$18, MATCH($C$9,Hulpsheets!$AG$3:$AG$18,0), MATCH($C$6,Hulpsheets!$AH$3:$AK$3,0) ), "" ) ), IF($L143="Niet-economische activiteit", 100%, IF(Basisgegevens!$C$5="Ja", IFERROR( INDEX(Hulpsheets!$AO$3:$AR$18, MATCH($C$9,Hulpsheets!$AN$3:$AN$18,0), MATCH($C$6,Hulpsheets!$AO$3:$AR$3,0) ), "" ), IFERROR( INDEX(Hulpsheets!$AH$3:$AK$18, MATCH($C$9,Hulpsheets!$AG$3:$AG$18,0), MATCH($C$6,Hulpsheets!$AH$3:$AK$3,0) ), "" ) ) ) ) ) | O143: =IFERROR(N143*M143,"") | P143: =IFERROR(N143-O143,"") | S143: =IFERROR($R143*(1-$M143),"") | T143: =IFERROR(R143-S143,"") | Z143: =IFERROR($V143*(1-$M143),"") | AA143: =IFERROR(V143-Z143,"") | AB143: =IFERROR($X143*(1-$M143),"") | AC143: =IFERROR(X143-AB143,"")
L144: Niet-economische activiteit | M144: =IF(LEN($C$5)<=1, "", IF( OR($C$5="Overige (zorg-)instellingen",$C$5="Onderneming"), IF(Basisgegevens!$C$5="Ja", IFERROR( INDEX(Hulpsheets!$AO$3:$AR$18, MATCH($C$9,Hulpsheets!$AN$3:$AN$18,0), MATCH($C$6,Hulpsheets!$AO$3:$AR$3,0) ), "" ), IFERROR( INDEX(Hulpsheets!$AH$3:$AK$18, MATCH($C$9,Hulpsheets!$AG$3:$AG$18,0), MATCH($C$6,Hulpsheets!$AH$3:$AK$3,0) ), "" ) ), IF($L144="Niet-economische activiteit", 100%, IF(Basisgegevens!$C$5="Ja", IFERROR( INDEX(Hulpsheets!$AO$3:$AR$18, MATCH($C$9,Hulpsheets!$AN$3:$AN$18,0), MATCH($C$6,Hulpsheets!$AO$3:$AR$3,0) ), "" ), IFERROR( INDEX(Hulpsheets!$AH$3:$AK$18, MATCH($C$9,Hulpsheets!$AG$3:$AG$18,0), MATCH($C$6,Hulpsheets!$AH$3:$AK$3,0) ), "" ) ) ) ) ) | O144: =IFERROR(N144*M144,"") | P144: =IFERROR(N144-O144,"") | S144: =IFERROR($R144*(1-$M144),"") | T144: =IFERROR(R144-S144,"") | Z144: =IFERROR($V144*(1-$M144),"") | AA144: =IFERROR(V144-Z144,"") | AB144: =IFERROR($X144*(1-$M144),"") | AC144: =IFERROR(X144-AB144,"")
... L157: Niet-economische activiteit | M157: =IF(LEN($C$5)<=1, "", IF( OR($C$5="Overige (zorg-)instellingen",$C$5="Onderneming"), IF(Basisgegevens!$C$5="Ja", IFERROR( INDEX(Hulpsheets!$AO$3:$AR$18, MATCH($C$9,Hulpsheets!$AN$3:$AN$18,0), MATCH($C$6,Hulpsheets!$AO$3:$AR$3,0) ), "" ), IFERROR( INDEX(Hulpsheets!$AH$3:$AK$18, MATCH($C$9,Hulpsheets!$AG$3:$AG$18,0), MATCH($C$6,Hulpsheets!$AH$3:$AK$3,0) ), "" ) ), IF($L157="Niet-economische activiteit", 100%, IF(Basisgegevens!$C$5="Ja", IFERROR( INDEX(Hulpsheets!$AO$3:$AR$18, MATCH($C$9,Hulpsheets!$AN$3:$AN$18,0), MATCH($C$6,Hulpsheets!$AO$3:$AR$3,0) ), "" ), IFERROR( INDEX(Hulpsheets!$AH$3:$AK$18, MATCH($C$9,Hulpsheets!$AG$3:$AG$18,0), MATCH($C$6,Hulpsheets!$AH$3:$AK$3,0) ), "" ) ) ) ) ) | O157: =IFERROR(N157*M157,"") | P157: =IFERROR(N157-O157,"") | S157: =IFERROR($R157*(1-$M157),"") | T157: =IFERROR(R157-S157,"") | Z157: =IFERROR($V157*(1-$M157),"") | AA157: =IFERROR(V157-Z157,"") | AB157: =IFERROR($X157*(1-$M157),"") | AC157: =IFERROR(X157-AB157,"")
L158: Subtotaal | N158: =SUM(N133:N157) -> 0 | O158: =SUM(O133:O157) -> 0 | P158: =SUM(P133:P157) -> 0 | R158: =SUM(R133:R157) -> 0 | S158: =SUM(S133:S157) -> 0 | T158: =SUM(T133:T157) -> 0 | V158: =SUM(V133:V157) -> 0 | X158: =SUM(X133:X157) -> 0 | Z158: =SUM(Z133:Z157) -> 0 | AA158: =SUM(AA133:AA157) -> 0 | AB158: =SUM(AB133:AB157) -> 0 | AC158: =SUM(AC133:AC157) -> 0
B160: 5. Overige kosten (gespecificeerd) | R160: Realisatie | V160: Indien DAEB: realisatie jaar 4 t/m 6 | X160: Indien DAEB: realisatie jaar 7 t/m 9
B162: Omschrijving | L162: Activiteit | M162: Subsidie-percentage | N162: Totale kosten | O162: Maximale subsidie | P162: Benodigde eigen bijdrage / Cofinanciering | R162: Gerealiseerde kosten | S162: Benodigde eigen bijdrage / cofinanciering | T162: Totaal gerealiseerd (totale kosten minus totale eigen bijdrage/cofin.) | V162: Gerealiseerde kosten | X162: Gerealiseerde kosten | Z162: Benodigde eigen bijdrage / cofinanciering | AA162: Totaal gerealiseerd (totale kosten minus totale eigen bijdrage/cofin.) | AB162: Benodigde eigen bijdrage / cofinanciering | AC162: Totaal gerealiseerd (totale kosten minus totale eigen bijdrage/cofin.)
L163: Niet-economische activiteit | M163: =IF(LEN($C$5)<=1, "", IF( OR($C$5="Overige (zorg-)instellingen",$C$5="Onderneming"), IF(Basisgegevens!$C$5="Ja", IFERROR( INDEX(Hulpsheets!$AO$3:$AR$18, MATCH($C$9,Hulpsheets!$AN$3:$AN$18,0), MATCH($C$6,Hulpsheets!$AO$3:$AR$3,0) ), "" ), IFERROR( INDEX(Hulpsheets!$AH$3:$AK$18, MATCH($C$9,Hulpsheets!$AG$3:$AG$18,0), MATCH($C$6,Hulpsheets!$AH$3:$AK$3,0) ), "" ) ), IF($L163="Niet-economische activiteit", 100%, IF(Basisgegevens!$C$5="Ja", IFERROR( INDEX(Hulpsheets!$AO$3:$AR$18, MATCH($C$9,Hulpsheets!$AN$3:$AN$18,0), MATCH($C$6,Hulpsheets!$AO$3:$AR$3,0) ), "" ), IFERROR( INDEX(Hulpsheets!$AH$3:$AK$18, MATCH($C$9,Hulpsheets!$AG$3:$AG$18,0), MATCH($C$6,Hulpsheets!$AH$3:$AK$3,0) ), "" ) ) ) ) ) | O163: =IFERROR(N163*M163,"") | P163: =IFERROR(N163-O163,"") | S163: =IFERROR($R163*(1-$M163),"") | T163: =IFERROR(R163-S163,"") | Z163: =IFERROR($V163*(1-$M163),"") | AA163: =IFERROR(V163-Z163,"") | AB163: =IFERROR($X163*(1-$M163),"") | AC163: =IFERROR(X163-AB163,"")
L164: Niet-economische activiteit | M164: =IF(LEN($C$5)<=1, "", IF( OR($C$5="Overige (zorg-)instellingen",$C$5="Onderneming"), IF(Basisgegevens!$C$5="Ja", IFERROR( INDEX(Hulpsheets!$AO$3:$AR$18, MATCH($C$9,Hulpsheets!$AN$3:$AN$18,0), MATCH($C$6,Hulpsheets!$AO$3:$AR$3,0) ), "" ), IFERROR( INDEX(Hulpsheets!$AH$3:$AK$18, MATCH($C$9,Hulpsheets!$AG$3:$AG$18,0), MATCH($C$6,Hulpsheets!$AH$3:$AK$3,0) ), "" ) ), IF($L164="Niet-economische activiteit", 100%, IF(Basisgegevens!$C$5="Ja", IFERROR( INDEX(Hulpsheets!$AO$3:$AR$18, MATCH($C$9,Hulpsheets!$AN$3:$AN$18,0), MATCH($C$6,Hulpsheets!$AO$3:$AR$3,0) ), "" ), IFERROR( INDEX(Hulpsheets!$AH$3:$AK$18, MATCH($C$9,Hulpsheets!$AG$3:$AG$18,0), MATCH($C$6,Hulpsheets!$AH$3:$AK$3,0) ), "" ) ) ) ) ) | O164: =IFERROR(N164*M164,"") | P164: =IFERROR(N164-O164,"") | S164: =IFERROR($R164*(1-$M164),"") | T164: =IFERROR(R164-S164,"") | Z164: =IFERROR($V164*(1-$M164),"") | AA164: =IFERROR(V164-Z164,"") | AB164: =IFERROR($X164*(1-$M164),"") | AC164: =IFERROR(X164-AB164,"")
L165: Niet-economische activiteit | M165: =IF(LEN($C$5)<=1, "", IF( OR($C$5="Overige (zorg-)instellingen",$C$5="Onderneming"), IF(Basisgegevens!$C$5="Ja", IFERROR( INDEX(Hulpsheets!$AO$3:$AR$18, MATCH($C$9,Hulpsheets!$AN$3:$AN$18,0), MATCH($C$6,Hulpsheets!$AO$3:$AR$3,0) ), "" ), IFERROR( INDEX(Hulpsheets!$AH$3:$AK$18, MATCH($C$9,Hulpsheets!$AG$3:$AG$18,0), MATCH($C$6,Hulpsheets!$AH$3:$AK$3,0) ), "" ) ), IF($L165="Niet-economische activiteit", 100%, IF(Basisgegevens!$C$5="Ja", IFERROR( INDEX(Hulpsheets!$AO$3:$AR$18, MATCH($C$9,Hulpsheets!$AN$3:$AN$18,0), MATCH($C$6,Hulpsheets!$AO$3:$AR$3,0) ), "" ), IFERROR( INDEX(Hulpsheets!$AH$3:$AK$18, MATCH($C$9,Hulpsheets!$AG$3:$AG$18,0), MATCH($C$6,Hulpsheets!$AH$3:$AK$3,0) ), "" ) ) ) ) ) | O165: =IFERROR(N165*M165,"") | P165: =IFERROR(N165-O165,"") | S165: =IFERROR($R165*(1-$M165),"") | T165: =IFERROR(R165-S165,"") | Z165: =IFERROR($V165*(1-$M165),"") | AA165: =IFERROR(V165-Z165,"") | AB165: =IFERROR($X165*(1-$M165),"") | AC165: =IFERROR(X165-AB165,"")
L166: Niet-economische activiteit | M166: =IF(LEN($C$5)<=1, "", IF( OR($C$5="Overige (zorg-)instellingen",$C$5="Onderneming"), IF(Basisgegevens!$C$5="Ja", IFERROR( INDEX(Hulpsheets!$AO$3:$AR$18, MATCH($C$9,Hulpsheets!$AN$3:$AN$18,0), MATCH($C$6,Hulpsheets!$AO$3:$AR$3,0) ), "" ), IFERROR( INDEX(Hulpsheets!$AH$3:$AK$18, MATCH($C$9,Hulpsheets!$AG$3:$AG$18,0), MATCH($C$6,Hulpsheets!$AH$3:$AK$3,0) ), "" ) ), IF($L166="Niet-economische activiteit", 100%, IF(Basisgegevens!$C$5="Ja", IFERROR( INDEX(Hulpsheets!$AO$3:$AR$18, MATCH($C$9,Hulpsheets!$AN$3:$AN$18,0), MATCH($C$6,Hulpsheets!$AO$3:$AR$3,0) ), "" ), IFERROR( INDEX(Hulpsheets!$AH$3:$AK$18, MATCH($C$9,Hulpsheets!$AG$3:$AG$18,0), MATCH($C$6,Hulpsheets!$AH$3:$AK$3,0) ), "" ) ) ) ) ) | O166: =IFERROR(N166*M166,"") | P166: =IFERROR(N166-O166,"") | S166: =IFERROR($R166*(1-$M166),"") | T166: =IFERROR(R166-S166,"") | Z166: =IFERROR($V166*(1-$M166),"") | AA166: =IFERROR(V166-Z166,"") | AB166: =IFERROR($X166*(1-$M166),"") | AC166: =IFERROR(X166-AB166,"")
L167: Niet-economische activiteit | M167: =IF(LEN($C$5)<=1, "", IF( OR($C$5="Overige (zorg-)instellingen",$C$5="Onderneming"), IF(Basisgegevens!$C$5="Ja", IFERROR( INDEX(Hulpsheets!$AO$3:$AR$18, MATCH($C$9,Hulpsheets!$AN$3:$AN$18,0), MATCH($C$6,Hulpsheets!$AO$3:$AR$3,0) ), "" ), IFERROR( INDEX(Hulpsheets!$AH$3:$AK$18, MATCH($C$9,Hulpsheets!$AG$3:$AG$18,0), MATCH($C$6,Hulpsheets!$AH$3:$AK$3,0) ), "" ) ), IF($L167="Niet-economische activiteit", 100%, IF(Basisgegevens!$C$5="Ja", IFERROR( INDEX(Hulpsheets!$AO$3:$AR$18, MATCH($C$9,Hulpsheets!$AN$3:$AN$18,0), MATCH($C$6,Hulpsheets!$AO$3:$AR$3,0) ), "" ), IFERROR( INDEX(Hulpsheets!$AH$3:$AK$18, MATCH($C$9,Hulpsheets!$AG$3:$AG$18,0), MATCH($C$6,Hulpsheets!$AH$3:$AK$3,0) ), "" ) ) ) ) ) | O167: =IFERROR(N167*M167,"") | P167: =IFERROR(N167-O167,"") | S167: =IFERROR($R167*(1-$M167),"") | T167: =IFERROR(R167-S167,"") | Z167: =IFERROR($V167*(1-$M167),"") | AA167: =IFERROR(V167-Z167,"") | AB167: =IFERROR($X167*(1-$M167),"") | AC167: =IFERROR(X167-AB167,"")
L168: Niet-economische activiteit | M168: =IF(LEN($C$5)<=1, "", IF( OR($C$5="Overige (zorg-)instellingen",$C$5="Onderneming"), IF(Basisgegevens!$C$5="Ja", IFERROR( INDEX(Hulpsheets!$AO$3:$AR$18, MATCH($C$9,Hulpsheets!$AN$3:$AN$18,0), MATCH($C$6,Hulpsheets!$AO$3:$AR$3,0) ), "" ), IFERROR( INDEX(Hulpsheets!$AH$3:$AK$18, MATCH($C$9,Hulpsheets!$AG$3:$AG$18,0), MATCH($C$6,Hulpsheets!$AH$3:$AK$3,0) ), "" ) ), IF($L168="Niet-economische activiteit", 100%, IF(Basisgegevens!$C$5="Ja", IFERROR( INDEX(Hulpsheets!$AO$3:$AR$18, MATCH($C$9,Hulpsheets!$AN$3:$AN$18,0), MATCH($C$6,Hulpsheets!$AO$3:$AR$3,0) ), "" ), IFERROR( INDEX(Hulpsheets!$AH$3:$AK$18, MATCH($C$9,Hulpsheets!$AG$3:$AG$18,0), MATCH($C$6,Hulpsheets!$AH$3:$AK$3,0) ), "" ) ) ) ) ) | O168: =IFERROR(N168*M168,"") | P168: =IFERROR(N168-O168,"") | S168: =IFERROR($R168*(1-$M168),"") | T168: =IFERROR(R168-S168,"") | Z168: =IFERROR($V168*(1-$M168),"") | AA168: =IFERROR(V168-Z168,"") | AB168: =IFERROR($X168*(1-$M168),"") | AC168: =IFERROR(X168-AB168,"")
L169: Niet-economische activiteit | M169: =IF(LEN($C$5)<=1, "", IF( OR($C$5="Overige (zorg-)instellingen",$C$5="Onderneming"), IF(Basisgegevens!$C$5="Ja", IFERROR( INDEX(Hulpsheets!$AO$3:$AR$18, MATCH($C$9,Hulpsheets!$AN$3:$AN$18,0), MATCH($C$6,Hulpsheets!$AO$3:$AR$3,0) ), "" ), IFERROR( INDEX(Hulpsheets!$AH$3:$AK$18, MATCH($C$9,Hulpsheets!$AG$3:$AG$18,0), MATCH($C$6,Hulpsheets!$AH$3:$AK$3,0) ), "" ) ), IF($L169="Niet-economische activiteit", 100%, IF(Basisgegevens!$C$5="Ja", IFERROR( INDEX(Hulpsheets!$AO$3:$AR$18, MATCH($C$9,Hulpsheets!$AN$3:$AN$18,0), MATCH($C$6,Hulpsheets!$AO$3:$AR$3,0) ), "" ), IFERROR( INDEX(Hulpsheets!$AH$3:$AK$18, MATCH($C$9,Hulpsheets!$AG$3:$AG$18,0), MATCH($C$6,Hulpsheets!$AH$3:$AK$3,0) ), "" ) ) ) ) ) | O169: =IFERROR(N169*M169,"") | P169: =IFERROR(N169-O169,"") | S169: =IFERROR($R169*(1-$M169),"") | T169: =IFERROR(R169-S169,"") | Z169: =IFERROR($V169*(1-$M169),"") | AA169: =IFERROR(V169-Z169,"") | AB169: =IFERROR($X169*(1-$M169),"") | AC169: =IFERROR(X169-AB169,"")
L170: Niet-economische activiteit | M170: =IF(LEN($C$5)<=1, "", IF( OR($C$5="Overige (zorg-)instellingen",$C$5="Onderneming"), IF(Basisgegevens!$C$5="Ja", IFERROR( INDEX(Hulpsheets!$AO$3:$AR$18, MATCH($C$9,Hulpsheets!$AN$3:$AN$18,0), MATCH($C$6,Hulpsheets!$AO$3:$AR$3,0) ), "" ), IFERROR( INDEX(Hulpsheets!$AH$3:$AK$18, MATCH($C$9,Hulpsheets!$AG$3:$AG$18,0), MATCH($C$6,Hulpsheets!$AH$3:$AK$3,0) ), "" ) ), IF($L170="Niet-economische activiteit", 100%, IF(Basisgegevens!$C$5="Ja", IFERROR( INDEX(Hulpsheets!$AO$3:$AR$18, MATCH($C$9,Hulpsheets!$AN$3:$AN$18,0), MATCH($C$6,Hulpsheets!$AO$3:$AR$3,0) ), "" ), IFERROR( INDEX(Hulpsheets!$AH$3:$AK$18, MATCH($C$9,Hulpsheets!$AG$3:$AG$18,0), MATCH($C$6,Hulpsheets!$AH$3:$AK$3,0) ), "" ) ) ) ) ) | O170: =IFERROR(N170*M170,"") | P170: =IFERROR(N170-O170,"") | S170: =IFERROR($R170*(1-$M170),"") | T170: =IFERROR(R170-S170,"") | Z170: =IFERROR($V170*(1-$M170),"") | AA170: =IFERROR(V170-Z170,"") | AB170: =IFERROR($X170*(1-$M170),"") | AC170: =IFERROR(X170-AB170,"")
L171: Niet-economische activiteit | M171: =IF(LEN($C$5)<=1, "", IF( OR($C$5="Overige (zorg-)instellingen",$C$5="Onderneming"), IF(Basisgegevens!$C$5="Ja", IFERROR( INDEX(Hulpsheets!$AO$3:$AR$18, MATCH($C$9,Hulpsheets!$AN$3:$AN$18,0), MATCH($C$6,Hulpsheets!$AO$3:$AR$3,0) ), "" ), IFERROR( INDEX(Hulpsheets!$AH$3:$AK$18, MATCH($C$9,Hulpsheets!$AG$3:$AG$18,0), MATCH($C$6,Hulpsheets!$AH$3:$AK$3,0) ), "" ) ), IF($L171="Niet-economische activiteit", 100%, IF(Basisgegevens!$C$5="Ja", IFERROR( INDEX(Hulpsheets!$AO$3:$AR$18, MATCH($C$9,Hulpsheets!$AN$3:$AN$18,0), MATCH($C$6,Hulpsheets!$AO$3:$AR$3,0) ), "" ), IFERROR( INDEX(Hulpsheets!$AH$3:$AK$18, MATCH($C$9,Hulpsheets!$AG$3:$AG$18,0), MATCH($C$6,Hulpsheets!$AH$3:$AK$3,0) ), "" ) ) ) ) ) | O171: =IFERROR(N171*M171,"") | P171: =IFERROR(N171-O171,"") | S171: =IFERROR($R171*(1-$M171),"") | T171: =IFERROR(R171-S171,"") | Z171: =IFERROR($V171*(1-$M171),"") | AA171: =IFERROR(V171-Z171,"") | AB171: =IFERROR($X171*(1-$M171),"") | AC171: =IFERROR(X171-AB171,"")
...

Sheet Dln 2
B2: Begroting per deelnemer
B4: Deelnemer | C4: =Basisgegevens!C13 -> 0
B5: Type organisatie | C5: =Basisgegevens!D13 -> 0
B6: Omvang van organisatie | C6: =Basisgegevens!E13 -> 0
B7: Looptijd (maanden) | C7: =IF(Basisgegevens!C6="","",Basisgegevens!C6)
B8: Type steun | C8: =Basisgegevens!F13 -> 0
B9: Steuninstrument | C9: =IF($C$8="AGVV",Basisgegevens!G13,$C$8) -> 0
B10: 1.a Personeelskosten (gebaseerd op salarisschalen) | R10: Realisatie | V10: Indien DAEB: realisatie jaar 4 t/m 6 | X10: Indien DAEB: realisatie jaar 7 t/m 9
E11: * Let op: aantal maanden overschrijdt de looptijd van het project
B12: Functie | C12: NFU / UNL deelnemer / overig personeel | D12: Functie/Schaal | E12: Maanden | F12: Bruto salaris - gebaseerd op tabel / 1 FTE | G12: Bruto maandelijks salaris (enkel voor overig personeel of medische specialist) | H12: % fte (voor het project) | I12: Salariskosten | J12: Bruto salaris, 40% opslag (enkel voor overig personeel of medische specialist) | K12: Overhead % (enkel voor overig personeel of medische specialist) | L12: Activiteit | M12: Subsidie-percentage | N12: Totale kosten | O12: Maximale subsidie | P12: Benodigde eigen bijdrage / Cofinanciering | R12: Gerealiseerde kosten | S12: Benodigde eigen bijdrage / cofinanciering | T12: Totaal gerealiseerd (totale kosten minus totale eigen bijdrage/cofin.) | V12: Gerealiseerde kosten | X12: Gerealiseerde kosten | AA12: Benodigde eigen bijdrage / cofinanciering | AB12: Totaal gerealiseerd (totale kosten minus totale eigen bijdrage/cofin.) | AC12: Benodigde eigen bijdrage / cofinanciering | AD12: Totaal gerealiseerd (totale kosten minus totale eigen bijdrage/cofin.)
C13: =IF(B13="","",IF($C$5="Universiteit","UNL",IF($C$5="Universitair Medisch Centrum","NFU","Overig"))) | F13: =IFERROR(IF(C13="UNL",INDEX(Tabel_UNL,MATCH($E13,Hulpsheets!$P$3:$P$123,0),MATCH($D13,Hulpsheets!$P$3:$U$3,0)),IF(C13="NFU",INDEX(Tabel_NFU,MATCH($E13,Hulpsheets!$W$3:$W$99,0),MATCH($D13,Hulpsheets!$W$3:$AC$3,0)),IF(C13="Overig",0,0))),0) -> 0 | I13: =IF(F13>0,F13*H13,G13*E13*H13) -> 0 | J13: =IF(OR(C13="Overig",D13="Medische Specialist"),I13*0.4,0) -> 0 | L13: Niet-economische activiteit | M13: =IF(LEN($C$5)<=1, "", IF( OR($C$5="Overige (zorg-)instellingen",$C$5="Onderneming"), IF(Basisgegevens!$C$5="Ja", IFERROR( INDEX(Hulpsheets!$AO$3:$AR$18, MATCH($C$9,Hulpsheets!$AN$3:$AN$18,0), MATCH($C$6,Hulpsheets!$AO$3:$AR$3,0) ), "" ), IFERROR( INDEX(Hulpsheets!$AH$3:$AK$18, MATCH($C$9,Hulpsheets!$AG$3:$AG$18,0), MATCH($C$6,Hulpsheets!$AH$3:$AK$3,0) ), "" ) ), IF($L13="Niet-economische activiteit", 100%, IF(Basisgegevens!$C$5="Ja", IFERROR( INDEX(Hulpsheets!$AO$3:$AR$18, MATCH($C$9,Hulpsheets!$AN$3:$AN$18,0), MATCH($C$6,Hulpsheets!$AO$3:$AR$3,0) ), "" ), IFERROR( INDEX(Hulpsheets!$AH$3:$AK$18, MATCH($C$9,Hulpsheets!$AG$3:$AG$18,0), MATCH($C$6,Hulpsheets!$AH$3:$AK$3,0) ), "" ) ) ) ) ) | N13: =IF(OR(C13="Overig",$D13="Medische Specialist"),((I13+J13)*(1+K13)),I13) -> 0 | O13: =IFERROR(N13*M13,"") | P13: =IFERROR(N13-O13,"") | S13: =IFERROR($R13*(1-$M13),"") | T13: =IFERROR(R13-S13,"") | AA13: =IFERROR($V13*(1-$M13),"") | AB13: =IFERROR(V13-AA13,"") | AC13: =IFERROR($X13*(1-$M13),"") | AD13: =IFERROR(X13-AC13,"")
C14: =IF(B14="","",IF($C$5="Universiteit","UNL",IF($C$5="Universitair Medisch Centrum","NFU","Overig"))) | F14: =IFERROR(IF(C14="UNL",INDEX(Tabel_UNL,MATCH($E14,Hulpsheets!$P$3:$P$123,0),MATCH($D14,Hulpsheets!$P$3:$U$3,0)),IF(C14="NFU",INDEX(Tabel_NFU,MATCH($E14,Hulpsheets!$W$3:$W$99,0),MATCH($D14,Hulpsheets!$W$3:$AC$3,0)),IF(C14="Overig",0,0))),0) -> 0 | I14: =IF(F14>0,F14*H14,G14*E14*H14) -> 0 | J14: =IF(OR(C14="Overig",D14="Medische Specialist"),I14*0.4,0) -> 0 | L14: Niet-economische activiteit | M14: =IF(LEN($C$5)<=1, "", IF( OR($C$5="Overige (zorg-)instellingen",$C$5="Onderneming"), IF(Basisgegevens!$C$5="Ja", IFERROR( INDEX(Hulpsheets!$AO$3:$AR$18, MATCH($C$9,Hulpsheets!$AN$3:$AN$18,0), MATCH($C$6,Hulpsheets!$AO$3:$AR$3,0) ), "" ), IFERROR( INDEX(Hulpsheets!$AH$3:$AK$18, MATCH($C$9,Hulpsheets!$AG$3:$AG$18,0), MATCH($C$6,Hulpsheets!$AH$3:$AK$3,0) ), "" ) ), IF($L14="Niet-economische activiteit", 100%, IF(Basisgegevens!$C$5="Ja", IFERROR( INDEX(Hulpsheets!$AO$3:$AR$18, MATCH($C$9,Hulpsheets!$AN$3:$AN$18,0), MATCH($C$6,Hulpsheets!$AO$3:$AR$3,0) ), "" ), IFERROR( INDEX(Hulpsheets!$AH$3:$AK$18, MATCH($C$9,Hulpsheets!$AG$3:$AG$18,0), MATCH($C$6,Hulpsheets!$AH$3:$AK$3,0) ), "" ) ) ) ) ) | N14: =IF(OR(C14="Overig",$D14="Medische Specialist"),((I14+J14)*(1+K14)),I14) -> 0 | O14: =IFERROR(N14*M14,"") | P14: =IFERROR(N14-O14,"") | S14: =IFERROR($R14*(1-$M14),"") | T14: =IFERROR(R14-S14,"") | AA14: =IFERROR($V14*(1-$M14),"") | AB14: =IFERROR(V14-AA14,"") | AC14: =IFERROR($X14*(1-$M14),"") | AD14: =IFERROR(X14-AC14,"")
C15: =IF(B15="","",IF($C$5="Universiteit","UNL",IF($C$5="Universitair Medisch Centrum","NFU","Overig"))) | F15: =IFERROR(IF(C15="UNL",INDEX(Tabel_UNL,MATCH($E15,Hulpsheets!$P$3:$P$123,0),MATCH($D15,Hulpsheets!$P$3:$U$3,0)),IF(C15="NFU",INDEX(Tabel_NFU,MATCH($E15,Hulpsheets!$W$3:$W$99,0),MATCH($D15,Hulpsheets!$W$3:$AC$3,0)),IF(C15="Overig",0,0))),0) -> 0 | I15: =IF(F15>0,F15*H15,G15*E15*H15) -> 0 | J15: =IF(OR(C15="Overig",D15="Medische Specialist"),I15*0.4,0) -> 0 | L15: Niet-economische activiteit | M15: =IF(LEN($C$5)<=1, "", IF( OR($C$5="Overige (zorg-)instellingen",$C$5="Onderneming"), IF(Basisgegevens!$C$5="Ja", IFERROR( INDEX(Hulpsheets!$AO$3:$AR$18, MATCH($C$9,Hulpsheets!$AN$3:$AN$18,0), MATCH($C$6,Hulpsheets!$AO$3:$AR$3,0) ), "" ), IFERROR( INDEX(Hulpsheets!$AH$3:$AK$18, MATCH($C$9,Hulpsheets!$AG$3:$AG$18,0), MATCH($C$6,Hulpsheets!$AH$3:$AK$3,0) ), "" ) ), IF($L15="Niet-economische activiteit", 100%, IF(Basisgegevens!$C$5="Ja", IFERROR( INDEX(Hulpsheets!$AO$3:$AR$18, MATCH($C$9,Hulpsheets!$AN$3:$AN$18,0), MATCH($C$6,Hulpsheets!$AO$3:$AR$3,0) ), "" ), IFERROR( INDEX(Hulpsheets!$AH$3:$AK$18, MATCH($C$9,Hulpsheets!$AG$3:$AG$18,0), MATCH($C$6,Hulpsheets!$AH$3:$AK$3,0) ), "" ) ) ) ) ) | N15: =IF(OR(C15="Overig",$D15="Medische Specialist"),((I15+J15)*(1+K15)),I15) -> 0 | O15: =IFERROR(N15*M15,"") | P15: =IFERROR(N15-O15,"") | S15: =IFERROR($R15*(1-$M15),"") | T15: =IFERROR(R15-S15,"") | AA15: =IFERROR($V15*(1-$M15),"") | AB15: =IFERROR(V15-AA15,"") | AC15: =IFERROR($X15*(1-$M15),"") | AD15: =IFERROR(X15-AC15,"")
C16: =IF(B16="","",IF($C$5="Universiteit","UNL",IF($C$5="Universitair Medisch Centrum","NFU","Overig"))) | F16: =IFERROR(IF(C16="UNL",INDEX(Tabel_UNL,MATCH($E16,Hulpsheets!$P$3:$P$123,0),MATCH($D16,Hulpsheets!$P$3:$U$3,0)),IF(C16="NFU",INDEX(Tabel_NFU,MATCH($E16,Hulpsheets!$W$3:$W$99,0),MATCH($D16,Hulpsheets!$W$3:$AC$3,0)),IF(C16="Overig",0,0))),0) -> 0 | I16: =IF(F16>0,F16*H16,G16*E16*H16) -> 0 | J16: =IF(OR(C16="Overig",D16="Medische Specialist"),I16*0.4,0) -> 0 | L16: Niet-economische activiteit | M16: =IF(LEN($C$5)<=1, "", IF( OR($C$5="Overige (zorg-)instellingen",$C$5="Onderneming"), IF(Basisgegevens!$C$5="Ja", IFERROR( INDEX(Hulpsheets!$AO$3:$AR$18, MATCH($C$9,Hulpsheets!$AN$3:$AN$18,0), MATCH($C$6,Hulpsheets!$AO$3:$AR$3,0) ), "" ), IFERROR( INDEX(Hulpsheets!$AH$3:$AK$18, MATCH($C$9,Hulpsheets!$AG$3:$AG$18,0), MATCH($C$6,Hulpsheets!$AH$3:$AK$3,0) ), "" ) ), IF($L16="Niet-economische activiteit", 100%, IF(Basisgegevens!$C$5="Ja", IFERROR( INDEX(Hulpsheets!$AO$3:$AR$18, MATCH($C$9,Hulpsheets!$AN$3:$AN$18,0), MATCH($C$6,Hulpsheets!$AO$3:$AR$3,0) ), "" ), IFERROR( INDEX(Hulpsheets!$AH$3:$AK$18, MATCH($C$9,Hulpsheets!$AG$3:$AG$18,0), MATCH($C$6,Hulpsheets!$AH$3:$AK$3,0) ), "" ) ) ) ) ) | N16: =IF(OR(C16="Overig",$D16="Medische Specialist"),((I16+J16)*(1+K16)),I16) -> 0 | O16: =IFERROR(N16*M16,"") | P16: =IFERROR(N16-O16,"") | S16: =IFERROR($R16*(1-$M16),"") | T16: =IFERROR(R16-S16,"") | AA16: =IFERROR($V16*(1-$M16),"") | AB16: =IFERROR(V16-AA16,"") | AC16: =IFERROR($X16*(1-$M16),"") | AD16: =IFERROR(X16-AC16,"")
C17: =IF(B17="","",IF($C$5="Universiteit","UNL",IF($C$5="Universitair Medisch Centrum","NFU","Overig"))) | F17: =IFERROR(IF(C17="UNL",INDEX(Tabel_UNL,MATCH($E17,Hulpsheets!$P$3:$P$123,0),MATCH($D17,Hulpsheets!$P$3:$U$3,0)),IF(C17="NFU",INDEX(Tabel_NFU,MATCH($E17,Hulpsheets!$W$3:$W$99,0),MATCH($D17,Hulpsheets!$W$3:$AC$3,0)),IF(C17="Overig",0,0))),0) -> 0 | I17: =IF(F17>0,F17*H17,G17*E17*H17) -> 0 | J17: =IF(OR(C17="Overig",D17="Medische Specialist"),I17*0.4,0) -> 0 | L17: Niet-economische activiteit | M17: =IF(LEN($C$5)<=1, "", IF( OR($C$5="Overige (zorg-)instellingen",$C$5="Onderneming"), IF(Basisgegevens!$C$5="Ja", IFERROR( INDEX(Hulpsheets!$AO$3:$AR$18, MATCH($C$9,Hulpsheets!$AN$3:$AN$18,0), MATCH($C$6,Hulpsheets!$AO$3:$AR$3,0) ), "" ), IFERROR( INDEX(Hulpsheets!$AH$3:$AK$18, MATCH($C$9,Hulpsheets!$AG$3:$AG$18,0), MATCH($C$6,Hulpsheets!$AH$3:$AK$3,0) ), "" ) ), IF($L17="Niet-economische activiteit", 100%, IF(Basisgegevens!$C$5="Ja", IFERROR( INDEX(Hulpsheets!$AO$3:$AR$18, MATCH($C$9,Hulpsheets!$AN$3:$AN$18,0), MATCH($C$6,Hulpsheets!$AO$3:$AR$3,0) ), "" ), IFERROR( INDEX(Hulpsheets!$AH$3:$AK$18, MATCH($C$9,Hulpsheets!$AG$3:$AG$18,0), MATCH($C$6,Hulpsheets!$AH$3:$AK$3,0) ), "" ) ) ) ) ) | N17: =IF(OR(C17="Overig",$D17="Medische Specialist"),((I17+J17)*(1+K17)),I17) -> 0 | O17: =IFERROR(N17*M17,"") | P17: =IFERROR(N17-O17,"") | S17: =IFERROR($R17*(1-$M17),"") | T17: =IFERROR(R17-S17,"") | AA17: =IFERROR($V17*(1-$M17),"") | AB17: =IFERROR(V17-AA17,"") | AC17: =IFERROR($X17*(1-$M17),"") | AD17: =IFERROR(X17-AC17,"")
C18: =IF(B18="","",IF($C$5="Universiteit","UNL",IF($C$5="Universitair Medisch Centrum","NFU","Overig"))) | F18: =IFERROR(IF(C18="UNL",INDEX(Tabel_UNL,MATCH($E18,Hulpsheets!$P$3:$P$123,0),MATCH($D18,Hulpsheets!$P$3:$U$3,0)),IF(C18="NFU",INDEX(Tabel_NFU,MATCH($E18,Hulpsheets!$W$3:$W$99,0),MATCH($D18,Hulpsheets!$W$3:$AC$3,0)),IF(C18="Overig",0,0))),0) -> 0 | I18: =IF(F18>0,F18*H18,G18*E18*H18) -> 0 | J18: =IF(OR(C18="Overig",D18="Medische Specialist"),I18*0.4,0) -> 0 | L18: Niet-economische activiteit | M18: =IF(LEN($C$5)<=1, "", IF( OR($C$5="Overige (zorg-)instellingen",$C$5="Onderneming"), IF(Basisgegevens!$C$5="Ja", IFERROR( INDEX(Hulpsheets!$AO$3:$AR$18, MATCH($C$9,Hulpsheets!$AN$3:$AN$18,0), MATCH($C$6,Hulpsheets!$AO$3:$AR$3,0) ), "" ), IFERROR( INDEX(Hulpsheets!$AH$3:$AK$18, MATCH($C$9,Hulpsheets!$AG$3:$AG$18,0), MATCH($C$6,Hulpsheets!$AH$3:$AK$3,0) ), "" ) ), IF($L18="Niet-economische activiteit", 100%, IF(Basisgegevens!$C$5="Ja", IFERROR( INDEX(Hulpsheets!$AO$3:$AR$18, MATCH($C$9,Hulpsheets!$AN$3:$AN$18,0), MATCH($C$6,Hulpsheets!$AO$3:$AR$3,0) ), "" ), IFERROR( INDEX(Hulpsheets!$AH$3:$AK$18, MATCH($C$9,Hulpsheets!$AG$3:$AG$18,0), MATCH($C$6,Hulpsheets!$AH$3:$AK$3,0) ), "" ) ) ) ) ) | N18: =IF(OR(C18="Overig",$D18="Medische Specialist"),((I18+J18)*(1+K18)),I18) -> 0 | O18: =IFERROR(N18*M18,"") | P18: =IFERROR(N18-O18,"") | S18: =IFERROR($R18*(1-$M18),"") | T18: =IFERROR(R18-S18,"") | AA18: =IFERROR($V18*(1-$M18),"") | AB18: =IFERROR(V18-AA18,"") | AC18: =IFERROR($X18*(1-$M18),"") | AD18: =IFERROR(X18-AC18,"")
C19: =IF(B19="","",IF($C$5="Universiteit","UNL",IF($C$5="Universitair Medisch Centrum","NFU","Overig"))) | F19: =IFERROR(IF(C19="UNL",INDEX(Tabel_UNL,MATCH($E19,Hulpsheets!$P$3:$P$123,0),MATCH($D19,Hulpsheets!$P$3:$U$3,0)),IF(C19="NFU",INDEX(Tabel_NFU,MATCH($E19,Hulpsheets!$W$3:$W$99,0),MATCH($D19,Hulpsheets!$W$3:$AC$3,0)),IF(C19="Overig",0,0))),0) -> 0 | I19: =IF(F19>0,F19*H19,G19*E19*H19) -> 0 | J19: =IF(OR(C19="Overig",D19="Medische Specialist"),I19*0.4,0) -> 0 | L19: Niet-economische activiteit | M19: =IF(LEN($C$5)<=1, "", IF( OR($C$5="Overige (zorg-)instellingen",$C$5="Onderneming"), IF(Basisgegevens!$C$5="Ja", IFERROR( INDEX(Hulpsheets!$AO$3:$AR$18, MATCH($C$9,Hulpsheets!$AN$3:$AN$18,0), MATCH($C$6,Hulpsheets!$AO$3:$AR$3,0) ), "" ), IFERROR( INDEX(Hulpsheets!$AH$3:$AK$18, MATCH($C$9,Hulpsheets!$AG$3:$AG$18,0), MATCH($C$6,Hulpsheets!$AH$3:$AK$3,0) ), "" ) ), IF($L19="Niet-economische activiteit", 100%, IF(Basisgegevens!$C$5="Ja", IFERROR( INDEX(Hulpsheets!$AO$3:$AR$18, MATCH($C$9,Hulpsheets!$AN$3:$AN$18,0), MATCH($C$6,Hulpsheets!$AO$3:$AR$3,0) ), "" ), IFERROR( INDEX(Hulpsheets!$AH$3:$AK$18, MATCH($C$9,Hulpsheets!$AG$3:$AG$18,0), MATCH($C$6,Hulpsheets!$AH$3:$AK$3,0) ), "" ) ) ) ) ) | N19: =IF(OR(C19="Overig",$D19="Medische Specialist"),((I19+J19)*(1+K19)),I19) -> 0 | O19: =IFERROR(N19*M19,"") | P19: =IFERROR(N19-O19,"") | S19: =IFERROR($R19*(1-$M19),"") | T19: =IFERROR(R19-S19,"") | AA19: =IFERROR($V19*(1-$M19),"") | AB19: =IFERROR(V19-AA19,"") | AC19: =IFERROR($X19*(1-$M19),"") | AD19: =IFERROR(X19-AC19,"")
